Workbook

Sheet Registro
A1: Código | B1: Descripción | C1: Categoría | D1: Año de compra | E1: Coste de adquisición | F1: Valor residual | G1: Vida útil (años) | H1: Depreciación anual | I1: Años depreciados | J1: Depreciación acumulada | K1: Valor contable neto
A2: AF-001 | B2: Escritorio de oficina | C2: Mobiliario | D2: 2021 | E2: 450 | F2: 0 | G2: 10 | H2: =IF(G2=0,0,(E2-F2)/G2) | I2: =MIN(G2,MAX(0,Parametros!$B$2-D2+1)) | J2: =H2*I2 | K2: =E2-J2
A3: AF-002 | B3: Portátil Latitude | C3: Equipos informáticos | D3: 2023 | E3: 1200 | F3: 100 | G3: 4 | H3: =IF(G3=0,0,(E3-F3)/G3) | I3: =MIN(G3,MAX(0,Parametros!$B$2-D3+1)) | J3: =H3*I3 | K3: =E3-J3
A4: AF-003 | B4: Servidor NAS | C4: Equipos informáticos | D4: 2022 | E4: 2400 | F4: 200 | G4: 5 | H4: =IF(G4=0,0,(E4-F4)/G4) | I4: =MIN(G4,MAX(0,Parametros!$B$2-D4+1)) | J4: =H4*I4 | K4: =E4-J4
A5: AF-004 | B5: Furgoneta de reparto | C5: Vehículos | D5: 2022 | E5: 18500 | F5: 3000 | G5: 8 | H5: =IF(G5=0,0,(E5-F5)/G5) | I5: =MIN(G5,MAX(0,Parametros!$B$2-D5+1)) | J5: =H5*I5 | K5: =E5-J5
A6: AF-005 | B6: Torno CNC | C6: Maquinaria | D6: 2020 | E6: 32000 | F6: 2000 | G6: 10 | H6: =IF(G6=0,0,(E6-F6)/G6) | I6: =MIN(G6,MAX(0,Parametros!$B$2-D6+1)) | J6: =H6*I6 | K6: =E6-J6
A7: AF-006 | B7: Impresora multifunción | C7: Equipos informáticos | D7: 2024 | E7: 850 | F7: 50 | G7: 4 | H7: =IF(G7=0,0,(E7-F7)/G7) | I7: =MIN(G7,MAX(0,Parametros!$B$2-D7+1)) | J7: =H7*I7 | K7: =E7-J7
A8: AF-007 | B8: Estanterías de almacén | C8: Mobiliario | D8: 2019 | E8: 3200 | F8: 0 | G8: 10 | H8: =IF(G8=0,0,(E8-F8)/G8) | I8: =MIN(G8,MAX(0,Parametros!$B$2-D8+1)) | J8: =H8*I8 | K8: =E8-J8
A9: AF-008 | B9: Compresor industrial | C9: Maquinaria | D9: 2025 | E9: 4200 | F9: 300 | G9: 8 | H9: =IF(G9=0,0,(E9-F9)/G9) | I9: =MIN(G9,MAX(0,Parametros!$B$2-D9+1)) | J9: =H9*I9 | K9: =E9-J9
A10: TOTAL | E10: =SUM(E2:E9) | F10: =SUM(F2:F9) | H10: =SUM(H2:H9) | J10: =SUM(J2:J9) | K10: =SUM(K2:K9)

Sheet Resumen
A1: Categoría | B1: Coste de adquisición | C1: Depreciación acumulada | D1: Valor contable neto
A2: Mobiliario | B2: =SUMIF(Registro!$C$2:$C$9,A2,Registro!$E$2:$E$9) | C2: =SUMIF(Registro!$C$2:$C$9,A2,Registro!$J$2:$J$9) | D2: =B2-C2
A3: Equipos informáticos | B3: =SUMIF(Registro!$C$2:$C$9,A3,Registro!$E$2:$E$9) | C3: =SUMIF(Registro!$C$2:$C$9,A3,Registro!$J$2:$J$9) | D3: =B3-C3
A4: Maquinaria | B4: =SUMIF(Registro!$C$2:$C$9,A4,Registro!$E$2:$E$9) | C4: =SUMIF(Registro!$C$2:$C$9,A4,Registro!$J$2:$J$9) | D4: =B4-C4
A5: Vehículos | B5: =SUMIF(Registro!$C$2:$C$9,A5,Registro!$E$2:$E$9) | C5: =SUMIF(Registro!$C$2:$C$9,A5,Registro!$J$2:$J$9) | D5: =B5-C5
A6: TOTAL | B6: =SUM(B2:B5) | C6: =SUM(C2:C5) | D6: =SUM(D2:D5)

Sheet Parametros
A1: Parámetro | B1: Valor
A2: Año de cálculo | B2: 2026
