Workbook

Sheet Ajustes
A1: Parámetro | B1: Valor | C1: Nota
A2: Año del control | B2: 2027 | C2: Solo cuentan las vacaciones aprobadas que empiezan en este año
A3: Mes que se muestra en Calendario | B3: 8 | C3: Número del 1 al 12
A4: Días de vacaciones por defecto | B4: 22 | C4: Valor de ejemplo; consulta tu convenio y la ley de tu país
A5: Días no laborables | B5: Sábado y domingo | C5: Fijos en la fórmula NETWORKDAYS; los festivos se añaden en la hoja Festivos

Sheet Empleados
A1: Empleado | B1: Departamento | C1: Días de derecho al año | D1: Días arrastrados del año anterior | E1: Total disponible | F1: Días aprobados (disfrutados) | G1: Días pendientes de aprobar | H1: Saldo restante | I1: % usado
A2: Ana García | B2: Administración | C2: =Ajustes!$B$4 | D2: 2 | E2: =C2+D2 | F2: =SUMIFS(Solicitudes!$D$2:$D$41,Solicitudes!$A$2:$A$41,A2,Solicitudes!$E$2:$E$41,"Aprobada",Solicitudes!$B$2:$B$41,">="&DATE(Ajustes!$B$2,1,1),Solicitudes!$B$2:$B$41,"<="&DATE(Ajustes!$B$2,12,31)) | G2: =SUMIFS(Solicitudes!$D$2:$D$41,Solicitudes!$A$2:$A$41,A2,Solicitudes!$E$2:$E$41,"Pendiente",Solicitudes!$B$2:$B$41,">="&DATE(Ajustes!$B$2,1,1),Solicitudes!$B$2:$B$41,"<="&DATE(Ajustes!$B$2,12,31)) | H2: =E2-F2 | I2: =IF(E2=0,0,F2/E2)
A3: Luis Martínez | B3: Ventas | C3: =Ajustes!$B$4 | D3: 0 | E3: =C3+D3 | F3: =SUMIFS(Solicitudes!$D$2:$D$41,Solicitudes!$A$2:$A$41,A3,Solicitudes!$E$2:$E$41,"Aprobada",Solicitudes!$B$2:$B$41,">="&DATE(Ajustes!$B$2,1,1),Solicitudes!$B$2:$B$41,"<="&DATE(Ajustes!$B$2,12,31)) | G3: =SUMIFS(Solicitudes!$D$2:$D$41,Solicitudes!$A$2:$A$41,A3,Solicitudes!$E$2:$E$41,"Pendiente",Solicitudes!$B$2:$B$41,">="&DATE(Ajustes!$B$2,1,1),Solicitudes!$B$2:$B$41,"<="&DATE(Ajustes!$B$2,12,31)) | H3: =E3-F3 | I3: =IF(E3=0,0,F3/E3)
A4: Marta Sánchez | B4: Ventas | C4: =Ajustes!$B$4 | D4: 3 | E4: =C4+D4 | F4: =SUMIFS(Solicitudes!$D$2:$D$41,Solicitudes!$A$2:$A$41,A4,Solicitudes!$E$2:$E$41,"Aprobada",Solicitudes!$B$2:$B$41,">="&DATE(Ajustes!$B$2,1,1),Solicitudes!$B$2:$B$41,"<="&DATE(Ajustes!$B$2,12,31)) | G4: =SUMIFS(Solicitudes!$D$2:$D$41,Solicitudes!$A$2:$A$41,A4,Solicitudes!$E$2:$E$41,"Pendiente",Solicitudes!$B$2:$B$41,">="&DATE(Ajustes!$B$2,1,1),Solicitudes!$B$2:$B$41,"<="&DATE(Ajustes!$B$2,12,31)) | H4: =E4-F4 | I4: =IF(E4=0,0,F4/E4)
A5: Carlos Ruiz | B5: Producción | C5: =Ajustes!$B$4 | D5: 0 | E5: =C5+D5 | F5: =SUMIFS(Solicitudes!$D$2:$D$41,Solicitudes!$A$2:$A$41,A5,Solicitudes!$E$2:$E$41,"Aprobada",Solicitudes!$B$2:$B$41,">="&DATE(Ajustes!$B$2,1,1),Solicitudes!$B$2:$B$41,"<="&DATE(Ajustes!$B$2,12,31)) | G5: =SUMIFS(Solicitudes!$D$2:$D$41,Solicitudes!$A$2:$A$41,A5,Solicitudes!$E$2:$E$41,"Pendiente",Solicitudes!$B$2:$B$41,">="&DATE(Ajustes!$B$2,1,1),Solicitudes!$B$2:$B$41,"<="&DATE(Ajustes!$B$2,12,31)) | H5: =E5-F5 | I5: =IF(E5=0,0,F5/E5)
A6: Laura Fernández | B6: Administración | C6: =Ajustes!$B$4 | D6: 1 | E6: =C6+D6 | F6: =SUMIFS(Solicitudes!$D$2:$D$41,Solicitudes!$A$2:$A$41,A6,Solicitudes!$E$2:$E$41,"Aprobada",Solicitudes!$B$2:$B$41,">="&DATE(Ajustes!$B$2,1,1),Solicitudes!$B$2:$B$41,"<="&DATE(Ajustes!$B$2,12,31)) | G6: =SUMIFS(Solicitudes!$D$2:$D$41,Solicitudes!$A$2:$A$41,A6,Solicitudes!$E$2:$E$41,"Pendiente",Solicitudes!$B$2:$B$41,">="&DATE(Ajustes!$B$2,1,1),Solicitudes!$B$2:$B$41,"<="&DATE(Ajustes!$B$2,12,31)) | H6: =E6-F6 | I6: =IF(E6=0,0,F6/E6)
A7: Javier López | B7: Producción | C7: =Ajustes!$B$4 | D7: 0 | E7: =C7+D7 | F7: =SUMIFS(Solicitudes!$D$2:$D$41,Solicitudes!$A$2:$A$41,A7,Solicitudes!$E$2:$E$41,"Aprobada",Solicitudes!$B$2:$B$41,">="&DATE(Ajustes!$B$2,1,1),Solicitudes!$B$2:$B$41,"<="&DATE(Ajustes!$B$2,12,31)) | G7: =SUMIFS(Solicitudes!$D$2:$D$41,Solicitudes!$A$2:$A$41,A7,Solicitudes!$E$2:$E$41,"Pendiente",Solicitudes!$B$2:$B$41,">="&DATE(Ajustes!$B$2,1,1),Solicitudes!$B$2:$B$41,"<="&DATE(Ajustes!$B$2,12,31)) | H7: =E7-F7 | I7: =IF(E7=0,0,F7/E7)
A8: Elena Torres | B8: Atención al cliente | C8: =Ajustes!$B$4 | D8: 4 | E8: =C8+D8 | F8: =SUMIFS(Solicitudes!$D$2:$D$41,Solicitudes!$A$2:$A$41,A8,Solicitudes!$E$2:$E$41,"Aprobada",Solicitudes!$B$2:$B$41,">="&DATE(Ajustes!$B$2,1,1),Solicitudes!$B$2:$B$41,"<="&DATE(Ajustes!$B$2,12,31)) | G8: =SUMIFS(Solicitudes!$D$2:$D$41,Solicitudes!$A$2:$A$41,A8,Solicitudes!$E$2:$E$41,"Pendiente",Solicitudes!$B$2:$B$41,">="&DATE(Ajustes!$B$2,1,1),Solicitudes!$B$2:$B$41,"<="&DATE(Ajustes!$B$2,12,31)) | H8: =E8-F8 | I8: =IF(E8=0,0,F8/E8)
A9: Pablo Navarro | B9: Ventas | C9: =Ajustes!$B$4 | D9: 0 | E9: =C9+D9 | F9: =SUMIFS(Solicitudes!$D$2:$D$41,Solicitudes!$A$2:$A$41,A9,Solicitudes!$E$2:$E$41,"Aprobada",Solicitudes!$B$2:$B$41,">="&DATE(Ajustes!$B$2,1,1),Solicitudes!$B$2:$B$41,"<="&DATE(Ajustes!$B$2,12,31)) | G9: =SUMIFS(Solicitudes!$D$2:$D$41,Solicitudes!$A$2:$A$41,A9,Solicitudes!$E$2:$E$41,"Pendiente",Solicitudes!$B$2:$B$41,">="&DATE(Ajustes!$B$2,1,1),Solicitudes!$B$2:$B$41,"<="&DATE(Ajustes!$B$2,12,31)) | H9: =E9-F9 | I9: =IF(E9=0,0,F9/E9)
A10: Sofía Molina | B10: Producción | C10: =Ajustes!$B$4 | D10: 2 | E10: =C10+D10 | F10: =SUMIFS(Solicitudes!$D$2:$D$41,Solicitudes!$A$2:$A$41,A10,Solicitudes!$E$2:$E$41,"Aprobada",Solicitudes!$B$2:$B$41,">="&DATE(Ajustes!$B$2,1,1),Solicitudes!$B$2:$B$41,"<="&DATE(Ajustes!$B$2,12,31)) | G10: =SUMIFS(Solicitudes!$D$2:$D$41,Solicitudes!$A$2:$A$41,A10,Solicitudes!$E$2:$E$41,"Pendiente",Solicitudes!$B$2:$B$41,">="&DATE(Ajustes!$B$2,1,1),Solicitudes!$B$2:$B$41,"<="&DATE(Ajustes!$B$2,12,31)) | H10: =E10-F10 | I10: =IF(E10=0,0,F10/E10)
A11: David Ortega | B11: Atención al cliente | C11: =Ajustes!$B$4 | D11: 0 | E11: =C11+D11 | F11: =SUMIFS(Solicitudes!$D$2:$D$41,Solicitudes!$A$2:$A$41,A11,Solicitudes!$E$2:$E$41,"Aprobada",Solicitudes!$B$2:$B$41,">="&DATE(Ajustes!$B$2,1,1),Solicitudes!$B$2:$B$41,"<="&DATE(Ajustes!$B$2,12,31)) | G11: =SUMIFS(Solicitudes!$D$2:$D$41,Solicitudes!$A$2:$A$41,A11,Solicitudes!$E$2:$E$41,"Pendiente",Solicitudes!$B$2:$B$41,">="&DATE(Ajustes!$B$2,1,1),Solicitudes!$B$2:$B$41,"<="&DATE(Ajustes!$B$2,12,31)) | H11: =E11-F11 | I11: =IF(E11=0,0,F11/E11)
A12: TOTAL | C12: =SUM(C2:C11) | D12: =SUM(D2:D11) | E12: =SUM(E2:E11) | F12: =SUM(F2:F11) | G12: =SUM(G2:G11) | H12: =SUM(H2:H11) | I12: =IF(E12=0,0,F12/E12)

Sheet Solicitudes
A1: Empleado | B1: Fecha de inicio | C1: Fecha de fin | D1: Días laborables | E1: Estado | F1: Observaciones
A2: Ana García | B2: =DATE(2027,8,2) | C2: =DATE(2027,8,13) | D2: =IF(OR(B2="",C2=""),"",NETWORKDAYS(B2,C2,Festivos!$A$2:$A$30)) | E2: Aprobada | F2: Vacaciones de verano
A3: Luis Martínez | B3: =DATE(2027,8,2) | C3: =DATE(2027,8,20) | D3: =IF(OR(B3="",C3=""),"",NETWORKDAYS(B3,C3,Festivos!$A$2:$A$30)) | E3: Aprobada | F3: Tres semanas seguidas
A4: Marta Sánchez | B4: =DATE(2027,7,12) | C4: =DATE(2027,7,23) | D4: =IF(OR(B4="",C4=""),"",NETWORKDAYS(B4,C4,Festivos!$A$2:$A$30)) | E4: Aprobada
A5: Carlos Ruiz | B5: =DATE(2027,8,16) | C5: =DATE(2027,8,27) | D5: =IF(OR(B5="",C5=""),"",NETWORKDAYS(B5,C5,Festivos!$A$2:$A$30)) | E5: Aprobada
A6: Laura Fernández | B6: =DATE(2027,4,5) | C6: =DATE(2027,4,9) | D6: =IF(OR(B6="",C6=""),"",NETWORKDAYS(B6,C6,Festivos!$A$2:$A$30)) | E6: Aprobada | F6: Semana de Pascua
A7: Javier López | B7: =DATE(2027,8,9) | C7: =DATE(2027,8,20) | D7: =IF(OR(B7="",C7=""),"",NETWORKDAYS(B7,C7,Festivos!$A$2:$A$30)) | E7: Pendiente | F7: Coincide con Carlos Ruiz
A8: Elena Torres | B8: =DATE(2027,12,20) | C8: =DATE(2027,12,31) | D8: =IF(OR(B8="",C8=""),"",NETWORKDAYS(B8,C8,Festivos!$A$2:$A$30)) | E8: Aprobada | F8: Navidad
A9: Pablo Navarro | B9: =DATE(2027,9,6) | C9: =DATE(2027,9,10) | D9: =IF(OR(B9="",C9=""),"",NETWORKDAYS(B9,C9,Festivos!$A$2:$A$30)) | E9: Pendiente
A10: Sofía Molina | B10: =DATE(2027,7,26) | C10: =DATE(2027,8,6) | D10: =IF(OR(B10="",C10=""),"",NETWORKDAYS(B10,C10,Festivos!$A$2:$A$30)) | E10: Aprobada
A11: David Ortega | B11: =DATE(2027,3,22) | C11: =DATE(2027,3,26) | D11: =IF(OR(B11="",C11=""),"",NETWORKDAYS(B11,C11,Festivos!$A$2:$A$30)) | E11: Aprobada
A12: Ana García | B12: =DATE(2027,12,27) | C12: =DATE(2027,12,31) | D12: =IF(OR(B12="",C12=""),"",NETWORKDAYS(B12,C12,Festivos!$A$2:$A$30)) | E12: Aprobada
A13: Luis Martínez | B13: =DATE(2027,4,26) | C13: =DATE(2027,4,30) | D13: =IF(OR(B13="",C13=""),"",NETWORKDAYS(B13,C13,Festivos!$A$2:$A$30)) | E13: Rechazada | F13: Pico de trabajo; se propuso otra fecha
D14: =IF(OR(B14="",C14=""),"",NETWORKDAYS(B14,C14,Festivos!$A$2:$A$30))
D15: =IF(OR(B15="",C15=""),"",NETWORKDAYS(B15,C15,Festivos!$A$2:$A$30))
D16: =IF(OR(B16="",C16=""),"",NETWORKDAYS(B16,C16,Festivos!$A$2:$A$30))
D17: =IF(OR(B17="",C17=""),"",NETWORKDAYS(B17,C17,Festivos!$A$2:$A$30))
D18: =IF(OR(B18="",C18=""),"",NETWORKDAYS(B18,C18,Festivos!$A$2:$A$30))
D19: =IF(OR(B19="",C19=""),"",NETWORKDAYS(B19,C19,Festivos!$A$2:$A$30))
D20: =IF(OR(B20="",C20=""),"",NETWORKDAYS(B20,C20,Festivos!$A$2:$A$30))
D21: =IF(OR(B21="",C21=""),"",NETWORKDAYS(B21,C21,Festivos!$A$2:$A$30))
D22: =IF(OR(B22="",C22=""),"",NETWORKDAYS(B22,C22,Festivos!$A$2:$A$30))
D23: =IF(OR(B23="",C23=""),"",NETWORKDAYS(B23,C23,Festivos!$A$2:$A$30))
D24: =IF(OR(B24="",C24=""),"",NETWORKDAYS(B24,C24,Festivos!$A$2:$A$30))
D25: =IF(OR(B25="",C25=""),"",NETWORKDAYS(B25,C25,Festivos!$A$2:$A$30))
... D41: =IF(OR(B41="",C41=""),"",NETWORKDAYS(B41,C41,Festivos!$A$2:$A$30))

Sheet Festivos
A1: Fecha | B1: Festivo (ejemplo, edítalo)
A2: =DATE(2027,1,1) | B2: Año Nuevo
A3: =DATE(2027,5,1) | B3: Día del Trabajo
A4: =DATE(2027,12,25) | B4: Navidad
