Workbook

Sheet Por Recursos
B1: Presupuesto de Proyecto | F1: [Nombre de la Compañía / Logo]
E2: % Reserva de Contingencia | G2: ='Presupuesto Detallado'!I2 -> 0.3
B3: Líder del Proyecto: [Nombre] | E3: Presupuesto | F3: Reservas | G3: Total
B4: Fecha de Inicio: [dd/mm/aaaa] | D4: Total | E4: =G7+G24 -> 0 | F4: =E4*G2 -> 0 | G4: =SUM(E4:F4) -> 0
B6: Categoría | C6: Recurso | E6: Tipo de Unidades | F6: Tasa | G6: Presupuesto
B7: Costos Directos | G7: =G8+G11+G14+G18+G21 -> 0
B8: Labor (Personal) | G8: =SUM(G9:G10) -> 0
C9: [Personal 1] | E9: =VLOOKUP(C9,Datos!$B$8:$E$21,3,) -> Horas / Jornadas | F9: =VLOOKUP(C9,Datos!$B$8:$E$21,4,) -> 1 | G9: =SUMIFS('Presupuesto Detallado'!I$7:I$71,'Presupuesto Detallado'!F$7:F$71,'Por Recursos'!$C9) -> 0
C10: [Personal 2] | E10: =VLOOKUP(C10,Datos!$B$8:$E$21,3,) -> Horas / Jornadas | F10: =VLOOKUP(C10,Datos!$B$8:$E$21,4,) -> 1 | G10: =SUMIFS('Presupuesto Detallado'!I$7:I$71,'Presupuesto Detallado'!F$7:F$71,'Por Recursos'!$C10) -> 0
B11: Consultoría | G11: =SUM(G12:G13) -> 0
C12: [Consultor 1] | E12: =VLOOKUP(C12,Datos!$B$8:$E$21,3,) -> Horas / Jornadas | F12: =VLOOKUP(C12,Datos!$B$8:$E$21,4,) -> 1 | G12: =SUMIFS('Presupuesto Detallado'!I$7:I$71,'Presupuesto Detallado'!F$7:F$71,'Por Recursos'!$C12) -> 0
C13: [Consultor 2] | E13: =VLOOKUP(C13,Datos!$B$8:$E$21,3,) -> Horas / Jornadas | F13: =VLOOKUP(C13,Datos!$B$8:$E$21,4,) -> 1 | G13: =SUMIFS('Presupuesto Detallado'!I$7:I$71,'Presupuesto Detallado'!F$7:F$71,'Por Recursos'!$C13) -> 0
B14: Materiales | G14: =SUM(G15:G17) -> 0
C15: [Material 1] | E15: =VLOOKUP(C15,Datos!$B$8:$E$21,3,) -> Cantidad | F15: =VLOOKUP(C15,Datos!$B$8:$E$21,4,) -> 1 | G15: =SUMIFS('Presupuesto Detallado'!I$7:I$71,'Presupuesto Detallado'!F$7:F$71,'Por Recursos'!$C15) -> 0
C16: [Material 2] | E16: =VLOOKUP(C16,Datos!$B$8:$E$21,3,) -> Cantidad | F16: =VLOOKUP(C16,Datos!$B$8:$E$21,4,) -> 1 | G16: =SUMIFS('Presupuesto Detallado'!I$7:I$71,'Presupuesto Detallado'!F$7:F$71,'Por Recursos'!$C16) -> 0
C17: [Material 3] | E17: =VLOOKUP(C17,Datos!$B$8:$E$21,3,) -> Cantidad | F17: =VLOOKUP(C17,Datos!$B$8:$E$21,4,) -> 1 | G17: =SUMIFS('Presupuesto Detallado'!I$7:I$71,'Presupuesto Detallado'!F$7:F$71,'Por Recursos'!$C17) -> 0
B18: Licencias | G18: =SUM(G19:G20) -> 0
C19: [Item de Licencia 1] | E19: =VLOOKUP(C19,Datos!$B$8:$E$21,3,) -> Cantidad | F19: =VLOOKUP(C19,Datos!$B$8:$E$21,4,) -> 1 | G19: =SUMIFS('Presupuesto Detallado'!I$7:I$71,'Presupuesto Detallado'!F$7:F$71,'Por Recursos'!$C19) -> 0
C20: [Item de Licencia 2] | E20: =VLOOKUP(C20,Datos!$B$8:$E$21,3,) -> Cantidad | F20: =VLOOKUP(C20,Datos!$B$8:$E$21,4,) -> 1 | G20: =SUMIFS('Presupuesto Detallado'!I$7:I$71,'Presupuesto Detallado'!F$7:F$71,'Por Recursos'!$C20) -> 0
B21: Viajes | G21: =SUM(G22:G23) -> 0
C22: [Item de Viaje 1] | E22: =VLOOKUP(C22,Datos!$B$8:$E$21,3,) -> Cantidad | F22: =VLOOKUP(C22,Datos!$B$8:$E$21,4,) -> 1 | G22: =SUMIFS('Presupuesto Detallado'!I$7:I$71,'Presupuesto Detallado'!F$7:F$71,'Por Recursos'!$C22) -> 0
C23: [Item de Viaje 2] | E23: =VLOOKUP(C23,Datos!$B$8:$E$21,3,) -> Cantidad | F23: =VLOOKUP(C23,Datos!$B$8:$E$21,4,) -> 1 | G23: =SUMIFS('Presupuesto Detallado'!I$7:I$71,'Presupuesto Detallado'!F$7:F$71,'Por Recursos'!$C23) -> 0
B24: Costos Indirectos | G24: =SUM(G25:G27) -> 0
C25: [Item de Gastos Indirectos 1] | E25: =VLOOKUP(C25,Datos!$B$8:$E$21,3,) -> NA | F25: =VLOOKUP(C25,Datos!$B$8:$E$21,4,) -> 1 | G25: =SUMIFS('Presupuesto Detallado'!I$7:I$71,'Presupuesto Detallado'!F$7:F$71,'Por Recursos'!$C25) -> 0
C26: [Item de Gastos Indirectos 2] | E26: =VLOOKUP(C26,Datos!$B$8:$E$21,3,) -> NA | F26: =VLOOKUP(C26,Datos!$B$8:$E$21,4,) -> 1 | G26: =SUMIFS('Presupuesto Detallado'!I$7:I$71,'Presupuesto Detallado'!F$7:F$71,'Por Recursos'!$C26) -> 0
C27: [Item de Gastos Indirectos 3] | E27: =VLOOKUP(C27,Datos!$B$8:$E$21,3,) -> NA | F27: =VLOOKUP(C27,Datos!$B$8:$E$21,4,) -> 1 | G27: =SUMIFS('Presupuesto Detallado'!I$7:I$71,'Presupuesto Detallado'!F$7:F$71,'Por Recursos'!$C27) -> 0

Sheet Presupuesto Detallado
B1: Presupuesto de Proyecto | G1: [Nombre de la Compañía / Logo]
G2: % Reserva de Contingencia | I2: 0.3
B3: Líder del Proyecto: [Nombre] | G3: Presupuesto | H3: Reservas | I3: Total
B4: Fecha de Inicio: [dd/mm/aaaa] | E4: Total | G4: =I7+I55 -> 0 | H4: =G4*I2 -> 0 | I4: =SUM(G4:H4) -> 0
B6: Código | C6: Tarea / Actividad | D6: Elemento | E6: Tipo de Recurso | F6: Tipo de Unidades | G6: Unidades | H6: Tasa | I6: Presupuesto
B7: 1 | C7: [Tarea de Nivel 1] | I7: =I8+I39 -> 0
B8: 1.1 | C8: [Tarea de Nivel 2] | I8: =I9+I24 -> 0
B9: 1.1.1 | C9: [Tarea de Nivel 3] | I9: =SUM(I10:I23) -> 0
D10: [Personal 1] | E10: =VLOOKUP(D10,Datos!$B$8:$E$21,2,) -> Labor (Personal) | F10: =VLOOKUP(D10,Datos!$B$8:$E$21,3,) -> Horas / Jornadas | G10: 0 | H10: =VLOOKUP(D10,Datos!$B$8:$E$21,4,) -> 1 | I10: =G10*H10 -> 0
D11: [Personal 2] | E11: =VLOOKUP(D11,Datos!$B$8:$E$21,2,) -> Labor (Personal) | F11: =VLOOKUP(D11,Datos!$B$8:$E$21,3,) -> Horas / Jornadas | G11: 0 | H11: =VLOOKUP(D11,Datos!$B$8:$E$21,4) -> 1 | I11: =G11*H11 -> 0
D12: [Consultor 1] | E12: =VLOOKUP(D12,Datos!$B$8:$E$21,2,) -> Consultoría | F12: =VLOOKUP(D12,Datos!$B$8:$E$21,3,) -> Horas / Jornadas | G12: 0 | H12: =VLOOKUP(D12,Datos!$B$8:$E$21,4) -> 1 | I12: =G12*H12 -> 0
D13: [Consultor 2] | E13: =VLOOKUP(D13,Datos!$B$8:$E$21,2,) -> Consultoría | F13: =VLOOKUP(D13,Datos!$B$8:$E$21,3,) -> Horas / Jornadas | G13: 0 | H13: =VLOOKUP(D13,Datos!$B$8:$E$21,4) -> 1 | I13: =G13*H13 -> 0
D14: [Material 1] | E14: =VLOOKUP(D14,Datos!$B$8:$E$21,2,) -> Materiales | F14: =VLOOKUP(D14,Datos!$B$8:$E$21,3,) -> Cantidad | G14: 0 | H14: =VLOOKUP(D14,Datos!$B$8:$E$21,4) -> 1 | I14: =G14*H14 -> 0
D15: [Material 2] | E15: =VLOOKUP(D15,Datos!$B$8:$E$21,2,) -> Materiales | F15: =VLOOKUP(D15,Datos!$B$8:$E$21,3,) -> Cantidad | G15: 0 | H15: =VLOOKUP(D15,Datos!$B$8:$E$21,4) -> 1 | I15: =G15*H15 -> 0
D16: [Material 3] | E16: =VLOOKUP(D16,Datos!$B$8:$E$21,2,) -> Materiales | F16: =VLOOKUP(D16,Datos!$B$8:$E$21,3,) -> Cantidad | G16: 0 | H16: =VLOOKUP(D16,Datos!$B$8:$E$21,4) -> 1 | I16: =G16*H16 -> 0
D17: [Item de Licencia 1] | E17: =VLOOKUP(D17,Datos!$B$8:$E$21,2,) -> Licencias | F17: =VLOOKUP(D17,Datos!$B$8:$E$21,3,) -> Cantidad | G17: 0 | H17: =VLOOKUP(D17,Datos!$B$8:$E$21,4) -> 1 | I17: =G17*H17 -> 0
D18: [Item de Licencia 2] | E18: =VLOOKUP(D18,Datos!$B$8:$E$21,2,) -> Licencias | F18: =VLOOKUP(D18,Datos!$B$8:$E$21,3,) -> Cantidad | G18: 0 | H18: =VLOOKUP(D18,Datos!$B$8:$E$21,4) -> 1 | I18: =G18*H18 -> 0
D19: [Item de Viaje 1] | E19: =VLOOKUP(D19,Datos!$B$8:$E$21,2,) -> Viajes | F19: =VLOOKUP(D19,Datos!$B$8:$E$21,3,) -> Cantidad | G19: 0 | H19: =VLOOKUP(D19,Datos!$B$8:$E$21,4) -> 1 | I19: =G19*H19 -> 0
D20: [Item de Viaje 2] | E20: =VLOOKUP(D20,Datos!$B$8:$E$21,2,) -> Viajes | F20: =VLOOKUP(D20,Datos!$B$8:$E$21,3,) -> Cantidad | G20: 0 | H20: =VLOOKUP(D20,Datos!$B$8:$E$21,4) -> 1 | I20: =G20*H20 -> 0
D21: [Item de Gastos Indirectos 1] | E21: =VLOOKUP(D21,Datos!$B$8:$E$21,2,) -> Gastos Indirectos | F21: =VLOOKUP(D21,Datos!$B$8:$E$21,3,) -> NA | G21: 0 | H21: =VLOOKUP(D21,Datos!$B$8:$E$21,4) -> 1 | I21: =G21*H21 -> 0
D22: [Item de Gastos Indirectos 2] | E22: =VLOOKUP(D22,Datos!$B$8:$E$21,2,) -> Gastos Indirectos | F22: =VLOOKUP(D22,Datos!$B$8:$E$21,3,) -> NA | G22: 0 | H22: =VLOOKUP(D22,Datos!$B$8:$E$21,4) -> 1 | I22: =G22*H22 -> 0
D23: [Item de Gastos Indirectos 3] | E23: =VLOOKUP(D23,Datos!$B$8:$E$21,2,) -> Gastos Indirectos | F23: =VLOOKUP(D23,Datos!$B$8:$E$21,3,) -> NA | G23: 0 | H23: =VLOOKUP(D23,Datos!$B$8:$E$21,4) -> 1 | I23: =G23*H23 -> 0
B24: 1.1.2 | C24: [Tarea de Nivel 3] | I24: =SUM(I25:I38) -> 0
D25: [Personal 1] | E25: =VLOOKUP(D25,Datos!$B$8:$E$21,2,) -> Labor (Personal) | F25: =VLOOKUP(D25,Datos!$B$8:$E$21,3,) -> Horas / Jornadas | G25: 0 | H25: =VLOOKUP(D25,Datos!$B$8:$E$21,4,) -> 1 | I25: =G25*H25 -> 0
D26: [Personal 2] | E26: =VLOOKUP(D26,Datos!$B$8:$E$21,2,) -> Labor (Personal) | F26: =VLOOKUP(D26,Datos!$B$8:$E$21,3,) -> Horas / Jornadas | G26: 0 | H26: =VLOOKUP(D26,Datos!$B$8:$E$21,4) -> 1 | I26: =G26*H26 -> 0
D27: [Consultor 1] | E27: =VLOOKUP(D27,Datos!$B$8:$E$21,2,) -> Consultoría | F27: =VLOOKUP(D27,Datos!$B$8:$E$21,3,) -> Horas / Jornadas | G27: 0 | H27: =VLOOKUP(D27,Datos!$B$8:$E$21,4) -> 1 | I27: =G27*H27 -> 0
D28: [Consultor 2] | E28: =VLOOKUP(D28,Datos!$B$8:$E$21,2,) -> Consultoría | F28: =VLOOKUP(D28,Datos!$B$8:$E$21,3,) -> Horas / Jornadas | G28: 0 | H28: =VLOOKUP(D28,Datos!$B$8:$E$21,4) -> 1 | I28: =G28*H28 -> 0
D29: [Material 1] | E29: =VLOOKUP(D29,Datos!$B$8:$E$21,2,) -> Materiales | F29: =VLOOKUP(D29,Datos!$B$8:$E$21,3,) -> Cantidad | G29: 0 | H29: =VLOOKUP(D29,Datos!$B$8:$E$21,4) -> 1 | I29: =G29*H29 -> 0
D30: [Material 2] | E30: =VLOOKUP(D30,Datos!$B$8:$E$21,2,) -> Materiales | F30: =VLOOKUP(D30,Datos!$B$8:$E$21,3,) -> Cantidad | G30: 0 | H30: =VLOOKUP(D30,Datos!$B$8:$E$21,4) -> 1 | I30: =G30*H30 -> 0
D31: [Material 3] | E31: =VLOOKUP(D31,Datos!$B$8:$E$21,2,) -> Materiales | F31: =VLOOKUP(D31,Datos!$B$8:$E$21,3,) -> Cantidad | G31: 0 | H31: =VLOOKUP(D31,Datos!$B$8:$E$21,4) -> 1 | I31: =G31*H31 -> 0
D32: [Item de Licencia 1] | E32: =VLOOKUP(D32,Datos!$B$8:$E$21,2,) -> Licencias | F32: =VLOOKUP(D32,Datos!$B$8:$E$21,3,) -> Cantidad | G32: 0 | H32: =VLOOKUP(D32,Datos!$B$8:$E$21,4) -> 1 | I32: =G32*H32 -> 0
D33: [Item de Licencia 2] | E33: =VLOOKUP(D33,Datos!$B$8:$E$21,2,) -> Licencias | F33: =VLOOKUP(D33,Datos!$B$8:$E$21,3,) -> Cantidad | G33: 0 | H33: =VLOOKUP(D33,Datos!$B$8:$E$21,4) -> 1 | I33: =G33*H33 -> 0
D34: [Item de Viaje 1] | E34: =VLOOKUP(D34,Datos!$B$8:$E$21,2,) -> Viajes | F34: =VLOOKUP(D34,Datos!$B$8:$E$21,3,) -> Cantidad | G34: 0 | H34: =VLOOKUP(D34,Datos!$B$8:$E$21,4) -> 1 | I34: =G34*H34 -> 0
D35: [Item de Viaje 2] | E35: =VLOOKUP(D35,Datos!$B$8:$E$21,2,) -> Viajes | F35: =VLOOKUP(D35,Datos!$B$8:$E$21,3,) -> Cantidad | G35: 0 | H35: =VLOOKUP(D35,Datos!$B$8:$E$21,4) -> 1 | I35: =G35*H35 -> 0
D36: [Item de Gastos Indirectos 1] | E36: =VLOOKUP(D36,Datos!$B$8:$E$21,2,) -> Gastos Indirectos | F36: =VLOOKUP(D36,Datos!$B$8:$E$21,3,) -> NA | G36: 0 | H36: =VLOOKUP(D36,Datos!$B$8:$E$21,4) -> 1 | I36: =G36*H36 -> 0
D37: [Item de Gastos Indirectos 2] | E37: =VLOOKUP(D37,Datos!$B$8:$E$21,2,) -> Gastos Indirectos | F37: =VLOOKUP(D37,Datos!$B$8:$E$21,3,) -> NA | G37: 0 | H37: =VLOOKUP(D37,Datos!$B$8:$E$21,4) -> 1 | I37: =G37*H37 -> 0
D38: [Item de Gastos Indirectos 3] | E38: =VLOOKUP(D38,Datos!$B$8:$E$21,2,) -> Gastos Indirectos | F38: =VLOOKUP(D38,Datos!$B$8:$E$21,3,) -> NA | G38: 0 | H38: =VLOOKUP(D38,Datos!$B$8:$E$21,4) -> 1 | I38: =G38*H38 -> 0
B39: 1.2 | C39: [Tarea de Nivel 2] | I39: =I40 -> 0
B40: 1.2.1 | C40: [Tarea de Nivel 3] | I40: =SUM(I41:I54) -> 0
D41: [Personal 1] | E41: =VLOOKUP(D41,Datos!$B$8:$E$21,2,) -> Labor (Personal) | F41: =VLOOKUP(D41,Datos!$B$8:$E$21,3,) -> Horas / Jornadas | G41: 0 | H41: =VLOOKUP(D41,Datos!$B$8:$E$21,4,) -> 1 | I41: =G41*H41 -> 0
D42: [Personal 2] | E42: =VLOOKUP(D42,Datos!$B$8:$E$21,2,) -> Labor (Personal) | F42: =VLOOKUP(D42,Datos!$B$8:$E$21,3,) -> Horas / Jornadas | G42: 0 | H42: =VLOOKUP(D42,Datos!$B$8:$E$21,4) -> 1 | I42: =G42*H42 -> 0
D43: [Consultor 1] | E43: =VLOOKUP(D43,Datos!$B$8:$E$21,2,) -> Consultoría | F43: =VLOOKUP(D43,Datos!$B$8:$E$21,3,) -> Horas / Jornadas | G43: 0 | H43: =VLOOKUP(D43,Datos!$B$8:$E$21,4) -> 1 | I43: =G43*H43 -> 0
D44: [Consultor 2] | E44: =VLOOKUP(D44,Datos!$B$8:$E$21,2,) -> Consultoría | F44: =VLOOKUP(D44,Datos!$B$8:$E$21,3,) -> Horas / Jornadas | G44: 0 | H44: =VLOOKUP(D44,Datos!$B$8:$E$21,4) -> 1 | I44: =G44*H44 -> 0
D45: [Material 1] | E45: =VLOOKUP(D45,Datos!$B$8:$E$21,2,) -> Materiales | F45: =VLOOKUP(D45,Datos!$B$8:$E$21,3,) -> Cantidad | G45: 0 | H45: =VLOOKUP(D45,Datos!$B$8:$E$21,4) -> 1 | I45: =G45*H45 -> 0
D46: [Material 2] | E46: =VLOOKUP(D46,Datos!$B$8:$E$21,2,) -> Materiales | F46: =VLOOKUP(D46,Datos!$B$8:$E$21,3,) -> Cantidad | G46: 0 | H46: =VLOOKUP(D46,Datos!$B$8:$E$21,4) -> 1 | I46: =G46*H46 -> 0
D47: [Material 3] | E47: =VLOOKUP(D47,Datos!$B$8:$E$21,2,) -> Materiales | F47: =VLOOKUP(D47,Datos!$B$8:$E$21,3,) -> Cantidad | G47: 0 | H47: =VLOOKUP(D47,Datos!$B$8:$E$21,4) -> 1 | I47: =G47*H47 -> 0
D48: [Item de Licencia 1] | E48: =VLOOKUP(D48,Datos!$B$8:$E$21,2,) -> Licencias | F48: =VLOOKUP(D48,Datos!$B$8:$E$21,3,) -> Cantidad | G48: 0 | H48: =VLOOKUP(D48,Datos!$B$8:$E$21,4) -> 1 | I48: =G48*H48 -> 0
D49: [Item de Licencia 2] | E49: =VLOOKUP(D49,Datos!$B$8:$E$21,2,) -> Licencias | F49: =VLOOKUP(D49,Datos!$B$8:$E$21,3,) -> Cantidad | G49: 0 | H49: =VLOOKUP(D49,Datos!$B$8:$E$21,4) -> 1 | I49: =G49*H49 -> 0
D50: [Item de Viaje 1] | E50: =VLOOKUP(D50,Datos!$B$8:$E$21,2,) -> Viajes | F50: =VLOOKUP(D50,Datos!$B$8:$E$21,3,) -> Cantidad | G50: 0 | H50: =VLOOKUP(D50,Datos!$B$8:$E$21,4) -> 1 | I50: =G50*H50 -> 0
D51: [Item de Viaje 2] | E51: =VLOOKUP(D51,Datos!$B$8:$E$21,2,) -> Viajes | F51: =VLOOKUP(D51,Datos!$B$8:$E$21,3,) -> Cantidad | G51: 0 | H51: =VLOOKUP(D51,Datos!$B$8:$E$21,4) -> 1 | I51: =G51*H51 -> 0
D52: [Item de Gastos Indirectos 1] | E52: =VLOOKUP(D52,Datos!$B$8:$E$21,2,) -> Gastos Indirectos | F52: =VLOOKUP(D52,Datos!$B$8:$E$21,3,) -> NA | G52: 0 | H52: =VLOOKUP(D52,Datos!$B$8:$E$21,4) -> 1 | I52: =G52*H52 -> 0
D53: [Item de Gastos Indirectos 2] | E53: =VLOOKUP(D53,Datos!$B$8:$E$21,2,) -> Gastos Indirectos | F53: =VLOOKUP(D53,Datos!$B$8:$E$21,3,) -> NA | G53: 0 | H53: =VLOOKUP(D53,Datos!$B$8:$E$21,4) -> 1 | I53: =G53*H53 -> 0
D54: [Item de Gastos Indirectos 3] | E54: =VLOOKUP(D54,Datos!$B$8:$E$21,2,) -> Gastos Indirectos | F54: =VLOOKUP(D54,Datos!$B$8:$E$21,3,) -> NA | G54: 0 | H54: =VLOOKUP(D54,Datos!$B$8:$E$21,4) -> 1 | I54: =G54*H54 -> 0
B55: 2 | C55: [Tarea de Nivel 1] | I55: =I56 -> 0
B56: 2.1 | C56: [Tarea de Nivel 2] | I56: =I57 -> 0
B57: 2.1.1 | C57: [Tarea de Nivel 3] | I57: =SUM(I58:I71) -> 0
D58: [Personal 1] | E58: =VLOOKUP(D58,Datos!$B$8:$E$21,2,) -> Labor (Personal) | F58: =VLOOKUP(D58,Datos!$B$8:$E$21,3,) -> Horas / Jornadas | G58: 0 | H58: =VLOOKUP(D58,Datos!$B$8:$E$21,4,) -> 1 | I58: =G58*H58 -> 0
D59: [Personal 2] | E59: =VLOOKUP(D59,Datos!$B$8:$E$21,2,) -> Labor (Personal) | F59: =VLOOKUP(D59,Datos!$B$8:$E$21,3,) -> Horas / Jornadas | G59: 0 | H59: =VLOOKUP(D59,Datos!$B$8:$E$21,4) -> 1 | I59: =G59*H59 -> 0
D60: [Consultor 1] | E60: =VLOOKUP(D60,Datos!$B$8:$E$21,2,) -> Consultoría | F60: =VLOOKUP(D60,Datos!$B$8:$E$21,3,) -> Horas / Jornadas | G60: 0 | H60: =VLOOKUP(D60,Datos!$B$8:$E$21,4) -> 1 | I60: =G60*H60 -> 0
D61: [Consultor 2] | E61: =VLOOKUP(D61,Datos!$B$8:$E$21,2,) -> Consultoría | F61: =VLOOKUP(D61,Datos!$B$8:$E$21,3,) -> Horas / Jornadas | G61: 0 | H61: =VLOOKUP(D61,Datos!$B$8:$E$21,4) -> 1 | I61: =G61*H61 -> 0
D62: [Material 1] | E62: =VLOOKUP(D62,Datos!$B$8:$E$21,2,) -> Materiales | F62: =VLOOKUP(D62,Datos!$B$8:$E$21,3,) -> Cantidad | G62: 0 | H62: =VLOOKUP(D62,Datos!$B$8:$E$21,4) -> 1 | I62: =G62*H62 -> 0
D63: [Material 2] | E63: =VLOOKUP(D63,Datos!$B$8:$E$21,2,) -> Materiales | F63: =VLOOKUP(D63,Datos!$B$8:$E$21,3,) -> Cantidad | G63: 0 | H63: =VLOOKUP(D63,Datos!$B$8:$E$21,4) -> 1 | I63: =G63*H63 -> 0
D64: [Material 3] | E64: =VLOOKUP(D64,Datos!$B$8:$E$21,2,) -> Materiales | F64: =VLOOKUP(D64,Datos!$B$8:$E$21,3,) -> Cantidad | G64: 0 | H64: =VLOOKUP(D64,Datos!$B$8:$E$21,4) -> 1 | I64: =G64*H64 -> 0
D65: [Item de Licencia 1] | E65: =VLOOKUP(D65,Datos!$B$8:$E$21,2,) -> Licencias | F65: =VLOOKUP(D65,Datos!$B$8:$E$21,3,) -> Cantidad | G65: 0 | H65: =VLOOKUP(D65,Datos!$B$8:$E$21,4) -> 1 | I65: =G65*H65 -> 0
D66: [Item de Licencia 2] | E66: =VLOOKUP(D66,Datos!$B$8:$E$21,2,) -> Licencias | F66: =VLOOKUP(D66,Datos!$B$8:$E$21,3,) -> Cantidad | G66: 0 | H66: =VLOOKUP(D66,Datos!$B$8:$E$21,4) -> 1 | I66: =G66*H66 -> 0
D67: [Item de Viaje 1] | E67: =VLOOKUP(D67,Datos!$B$8:$E$21,2,) -> Viajes | F67: =VLOOKUP(D67,Datos!$B$8:$E$21,3,) -> Cantidad | G67: 0 | H67: =VLOOKUP(D67,Datos!$B$8:$E$21,4) -> 1 | I67: =G67*H67 -> 0
D68: [Item de Viaje 2] | E68: =VLOOKUP(D68,Datos!$B$8:$E$21,2,) -> Viajes | F68: =VLOOKUP(D68,Datos!$B$8:$E$21,3,) -> Cantidad | G68: 0 | H68: =VLOOKUP(D68,Datos!$B$8:$E$21,4) -> 1 | I68: =G68*H68 -> 0
D69: [Item de Gastos Indirectos 1] | E69: =VLOOKUP(D69,Datos!$B$8:$E$21,2,) -> Gastos Indirectos | F69: =VLOOKUP(D69,Datos!$B$8:$E$21,3,) -> NA | G69: 0 | H69: =VLOOKUP(D69,Datos!$B$8:$E$21,4) -> 1 | I69: =G69*H69 -> 0
D70: [Item de Gastos Indirectos 2] | E70: =VLOOKUP(D70,Datos!$B$8:$E$21,2,) -> Gastos Indirectos | F70: =VLOOKUP(D70,Datos!$B$8:$E$21,3,) -> NA | G70: 0 | H70: =VLOOKUP(D70,Datos!$B$8:$E$21,4) -> 1 | I70: =G70*H70 -> 0
D71: [Item de Gastos Indirectos 3] | E71: =VLOOKUP(D71,Datos!$B$8:$E$21,2,) -> Gastos Indirectos | F71: =VLOOKUP(D71,Datos!$B$8:$E$21,3,) -> NA | G71: 0 | H71: =VLOOKUP(D71,Datos!$B$8:$E$21,4) -> 1 | I71: =G71*H71 -> 0

Sheet Datos
B1: Presupuesto de Proyecto | D1: [Nombre de la Compañía / Logo]
B3: Líder del Proyecto: [Nombre]
B4: Fecha de Inicio: [dd/mm/aaaa]
B6: Elemento | C6: Tipo de Recurso | D6: Tipo de Unidades | E6: Tasa
B8: [Personal 1] | C8: Labor (Personal) | D8: Horas / Jornadas | E8: 1
B9: [Personal 2] | C9: Labor (Personal) | D9: Horas / Jornadas | E9: 1
B10: [Consultor 1] | C10: Consultoría | D10: Horas / Jornadas | E10: 1
B11: [Consultor 2] | C11: Consultoría | D11: Horas / Jornadas | E11: 1
B12: [Material 1] | C12: Materiales | D12: Cantidad | E12: 1
B13: [Material 2] | C13: Materiales | D13: Cantidad | E13: 1
B14: [Material 3] | C14: Materiales | D14: Cantidad | E14: 1
B15: [Item de Licencia 1] | C15: Licencias | D15: Cantidad | E15: 1
B16: [Item de Licencia 2] | C16: Licencias | D16: Cantidad | E16: 1
B17: [Item de Viaje 1] | C17: Viajes | D17: Cantidad | E17: 1
B18: [Item de Viaje 2] | C18: Viajes | D18: Cantidad | E18: 1
B19: [Item de Gastos Indirectos 1] | C19: Gastos Indirectos | D19: NA | E19: 1
... B21: [Item de Gastos Indirectos 3] | C21: Gastos Indirectos | D21: NA | E21: 1

Sheet Instructivo
B1: Presupuesto de Proyecto
B4: Hoja: Tasas
B5: Descripción: | C5: Se usa para registrar los datos maestros para el cálculo del Presupuesto a partir de los recursos.
B6: Columna | C6: Instrucciones
B8: Elemento | C8: Aquí se especifica el nombre del Recurso, por ejemplo Analista de Sistemas 1, Electricista 1, Gerente de Proyectos, etc.
B9: Tipo de Recurso | C9: Indica si es un Recurso de tipo Labor, cuando es una persona, Consultor, para servicios especializados contratados a terceros, Materiales (por ej. Componentes Electronicos, Piezas, entre otros.), Licencias de Propiedad Intelectual, Gastos por viajes, Gastos indirectos, o cualquier otro que sea necesario especificar.
B10: Tipo de Unidades | C10: El tipo de unidad para medir la utilización del recurso, para el caso de personas, pueden ser las horas o jornadas, para materiales, la cantidad de piezas, volumenes o peso. Pueden utilizarse otras según sea el caso.
B11: Tasa | C11: La tasa en moneda a aplicar por la utilización del recurso, por ejemplo para personas esto será el costo por hora o jornada, para consultores la tarifa, para materiales el costo unitario, y así sucesivamente según el tipo de recurso.
B13: Hoja: Presupuesto detallado
B14: Descripción: | C14: Se detallan los costos por recurso para cada actividad del Proyecto. Luego estos se sumarizan por actividades de mayor nivel
B15: Columna | C15: Instrucciones
B17: Código | C17: Código de Paquete de Trabajo, Tarea de Proyecto o Subtarea, según el método de desglose y codificación de las tareas seleccionado.
B18: Tarea / Actividad | C18: Nombre de la tarea para la cual se está especificando el Presupuesto. Aquí se puede presentar el desglose en tres niveles y la plantilla esta prefabricada para permitir la totalización.
B19: Elemento | C19: Aquí se especifica el nombre del Recurso, por ejemplo Analista de Sistemas 1, Electricista 1, Gerente de Proyectos, etc. Es importante que todo Recurso asignado en esta hoja, corresponda con uno registrado en la hoja de "Datos", para que así el libro Excel pueda determinar la tasa automáticamente.
B20: Tipo de Recurso | C20: Indica si es un Recurso de tipo Labor, Materiales, Licencias, Gastos por viajes, Gastos indirectos, o cualquier otro. Su valor lo obtiene el libro Excel automáticamente, buscando en la Hoja "Datos" la Tasa que corresponde al Elemento especificado.
B21: Tipo de Unidades | C21: El tipo de unidad para medir la utilización del recurso, su valor lo obtiene el libro Excel automáticamente, buscando en la Hoja "Datos" la Tasa que corresponde al Elemento especificado.
B22: Unidades | C22: Aquí se registra el número de unidades del Recurso que consumirá la actividad, debe ser especificado según la estimación realizada (según método de estimación seleccionado).
B23: Tasa | C23: La tasa en moneda a aplicar por la utilización del recurso, su valor lo obtiene el libro Excel automáticamente, buscando en la Hoja "Datos" la Tasa que corresponde al Elemento especificado.
B24: Presupuesto | C24: Multiplicando la tasa en moneda por el uso del recurso, por las unidades, se obtiene el costo total para la actividad por el uso de dicho recurso.
B26: Hoja: Presupuesto por Recursos
B27: Descripción: | C27: En esta hoja se totaliza el presupuesto asociado a cada Recurso. Para ello, se sumariza el presupuesto de cada recurso en cada actividad.
B28: Columna | C28: Instrucciones
B30: Categoría | C30: Se usa esta columna para categorízar los Recursos, como por ejemplo "Costos Directos" y "Costos Indirectos".
B31: Recurso | C31: Aquí se especifica el nombre del Recurso, por ejemplo Analista de Sistemas 1, Electricista 1, Gerente de Proyectos, etc. Es importante que todo Recurso asignado en esta hoja, corresponda con uno registrado en la hoja de "Datos", para que así el libro Excel pueda determinar la tasa automáticamente.
B32: Tipo de Unidades | C32: El tipo de unidad para medir la utilización del recurso, su valor lo obtiene el libro Excel automáticamente, buscando en la Hoja "Datos" la Tasa que corresponde al Elemento especificado.
B33: Tasa | C33: La tasa en moneda a aplicar por la utilización del recurso, su valor lo obtiene el libro Excel automáticamente, buscando en la Hoja "Datos" la Tasa que corresponde al Elemento especificado.
B34: Presupuesto | C34: En esta columna se sumariza el Presupuesto del Recurso en cada actividad de la hoja de Presupuesto Detallado, presentando de esta forma un subtotal por Recurso.
