Workbook

Sheet Horario
A1: Hora | B1: Lunes | C1: Martes | D1: Miércoles | E1: Jueves | F1: Viernes | G1: Sábado | H1: Domingo
A2: 07:00-08:00 | B2: Comida | C2: Comida | D2: Comida | E2: Comida | F2: Comida
A3: 08:00-09:00 | B3: Trabajo | C3: Trabajo | D3: Trabajo | E3: Trabajo | F3: Trabajo | G3: Hogar
A4: 09:00-10:00 | B4: Trabajo | C4: Trabajo | D4: Trabajo | E4: Trabajo | F4: Trabajo | G4: Hogar
A5: 10:00-11:00 | B5: Trabajo | C5: Trabajo | D5: Trabajo | E5: Trabajo | F5: Trabajo | G5: Ocio | H5: Ocio
A6: 11:00-12:00 | B6: Trabajo | C6: Trabajo | D6: Trabajo | E6: Trabajo | F6: Trabajo | G6: Ocio | H6: Ocio
A7: 12:00-13:00 | B7: Trabajo | C7: Trabajo | D7: Trabajo | E7: Trabajo | F7: Trabajo | G7: Ocio | H7: Hogar
A8: 13:00-14:00 | B8: Trabajo | C8: Trabajo | D8: Trabajo | E8: Trabajo | F8: Trabajo | G8: Ocio | H8: Ocio
A9: 14:00-15:00 | B9: Comida | C9: Comida | D9: Comida | E9: Comida | F9: Comida | G9: Comida | H9: Comida
A10: 15:00-16:00 | B10: Trabajo | C10: Trabajo | D10: Trabajo | E10: Trabajo | F10: Trabajo | G10: Ocio | H10: Ocio
A11: 16:00-17:00 | B11: Trabajo | C11: Trabajo | D11: Trabajo | E11: Trabajo | F11: Trabajo
A12: 17:00-18:00 | B12: Gimnasio | C12: Estudio | D12: Gimnasio | E12: Estudio | F12: Ocio | G12: Ocio | H12: Hogar
A13: 18:00-19:00 | B13: Estudio | C13: Estudio | D13: Estudio | E13: Estudio | F13: Ocio
A14: 19:00-20:00 | B14: Hogar | C14: Hogar | D14: Hogar | E14: Hogar | F14: Ocio | G14: Ocio
A15: 20:00-21:00 | B15: Comida | C15: Comida | D15: Comida | E15: Comida | F15: Comida | G15: Comida | H15: Comida
A16: 21:00-22:00 | B16: Ocio | C16: Ocio | D16: Ocio | E16: Ocio | F16: Ocio | G16: Ocio

Sheet Resumen
A1: Actividad | B1: Horas a la semana | C1: % de las horas planificadas
A2: Trabajo | B2: =COUNTIF(Horario!$B$2:$H$16,A2) | C2: =IF($B$8=0,0,ROUND(B2/$B$8*100,1))
A3: Estudio | B3: =COUNTIF(Horario!$B$2:$H$16,A3) | C3: =IF($B$8=0,0,ROUND(B3/$B$8*100,1))
A4: Gimnasio | B4: =COUNTIF(Horario!$B$2:$H$16,A4) | C4: =IF($B$8=0,0,ROUND(B4/$B$8*100,1))
A5: Comida | B5: =COUNTIF(Horario!$B$2:$H$16,A5) | C5: =IF($B$8=0,0,ROUND(B5/$B$8*100,1))
A6: Hogar | B6: =COUNTIF(Horario!$B$2:$H$16,A6) | C6: =IF($B$8=0,0,ROUND(B6/$B$8*100,1))
A7: Ocio | B7: =COUNTIF(Horario!$B$2:$H$16,A7) | C7: =IF($B$8=0,0,ROUND(B7/$B$8*100,1))
A8: Total planificado | B8: =SUM(B2:B7) | C8: =SUM(C2:C7)
A9: Horas libres (celdas vacías) | B9: =COUNTBLANK(Horario!B2:H16)

Sheet Horas por día
A1: Día | B1: Horas planificadas | C1: Horas libres
A2: Lunes | B2: =COUNTA(Horario!B2:B16) | C2: =15-B2
A3: Martes | B3: =COUNTA(Horario!C2:C16) | C3: =15-B3
A4: Miércoles | B4: =COUNTA(Horario!D2:D16) | C4: =15-B4
A5: Jueves | B5: =COUNTA(Horario!E2:E16) | C5: =15-B5
A6: Viernes | B6: =COUNTA(Horario!F2:F16) | C6: =15-B6
A7: Sábado | B7: =COUNTA(Horario!G2:G16) | C7: =15-B7
A8: Domingo | B8: =COUNTA(Horario!H2:H16) | C8: =15-B8
A9: Total semana | B9: =SUM(B2:B8) | C9: =SUM(C2:C8)
