Workbook

Sheet Gantt
A1: Tarea | B1: Responsable | C1: Semana inicio | D1: Duración (semanas) | E1: Semana fin | F1: % avance | G1: Estado | H1: S1 | I1: S2 | J1: S3 | K1: S4 | L1: S5 | M1: S6 | N1: S7 | O1: S8 | P1: S9 | Q1: S10 | R1: S11 | S1: S12
A2: Nº de semana → | H2: 1 | I2: 2 | J2: 3 | K2: 4 | L2: 5 | M2: 6 | N2: 7 | O2: 8 | P2: 9 | Q2: 10 | R2: 11 | S2: 12
A3: Definición de alcance | B3: Ana | C3: 1 | D3: 1 | E3: =C3+D3-1 | F3: 100 | G3: =IF(F3>=100,"Completada",IF(Resumen!$B$2>E3,"Retrasada",IF(OR(Resumen!$B$2>=C3,F3>0),"En curso","Pendiente"))) | H3: =IF(AND(H$2>=$C3,H$2<=$E3),IF(H$2<=$C3-1+ROUND($D3*$F3/100,0),"█","▒"),"") | I3: =IF(AND(I$2>=$C3,I$2<=$E3),IF(I$2<=$C3-1+ROUND($D3*$F3/100,0),"█","▒"),"") | J3: =IF(AND(J$2>=$C3,J$2<=$E3),IF(J$2<=$C3-1+ROUND($D3*$F3/100,0),"█","▒"),"") | K3: =IF(AND(K$2>=$C3,K$2<=$E3),IF(K$2<=$C3-1+ROUND($D3*$F3/100,0),"█","▒"),"") | L3: =IF(AND(L$2>=$C3,L$2<=$E3),IF(L$2<=$C3-1+ROUND($D3*$F3/100,0),"█","▒"),"") | M3: =IF(AND(M$2>=$C3,M$2<=$E3),IF(M$2<=$C3-1+ROUND($D3*$F3/100,0),"█","▒"),"") | N3: =IF(AND(N$2>=$C3,N$2<=$E3),IF(N$2<=$C3-1+ROUND($D3*$F3/100,0),"█","▒"),"") | O3: =IF(AND(O$2>=$C3,O$2<=$E3),IF(O$2<=$C3-1+ROUND($D3*$F3/100,0),"█","▒"),"") | ... S3: =IF(AND(S$2>=$C3,S$2<=$E3),IF(S$2<=$C3-1+ROUND($D3*$F3/100,0),"█","▒"),"")
A4: Presupuesto y aprobación | B4: Luis | C4: 2 | D4: 1 | E4: =C4+D4-1 | F4: 100 | G4: =IF(F4>=100,"Completada",IF(Resumen!$B$2>E4,"Retrasada",IF(OR(Resumen!$B$2>=C4,F4>0),"En curso","Pendiente"))) | H4: =IF(AND(H$2>=$C4,H$2<=$E4),IF(H$2<=$C4-1+ROUND($D4*$F4/100,0),"█","▒"),"") | I4: =IF(AND(I$2>=$C4,I$2<=$E4),IF(I$2<=$C4-1+ROUND($D4*$F4/100,0),"█","▒"),"") | J4: =IF(AND(J$2>=$C4,J$2<=$E4),IF(J$2<=$C4-1+ROUND($D4*$F4/100,0),"█","▒"),"") | K4: =IF(AND(K$2>=$C4,K$2<=$E4),IF(K$2<=$C4-1+ROUND($D4*$F4/100,0),"█","▒"),"") | L4: =IF(AND(L$2>=$C4,L$2<=$E4),IF(L$2<=$C4-1+ROUND($D4*$F4/100,0),"█","▒"),"") | M4: =IF(AND(M$2>=$C4,M$2<=$E4),IF(M$2<=$C4-1+ROUND($D4*$F4/100,0),"█","▒"),"") | N4: =IF(AND(N$2>=$C4,N$2<=$E4),IF(N$2<=$C4-1+ROUND($D4*$F4/100,0),"█","▒"),"") | O4: =IF(AND(O$2>=$C4,O$2<=$E4),IF(O$2<=$C4-1+ROUND($D4*$F4/100,0),"█","▒"),"") | ... S4: =IF(AND(S$2>=$C4,S$2<=$E4),IF(S$2<=$C4-1+ROUND($D4*$F4/100,0),"█","▒"),"")
A5: Diseño | B5: Marta | C5: 2 | D5: 3 | E5: =C5+D5-1 | F5: 80 | G5: =IF(F5>=100,"Completada",IF(Resumen!$B$2>E5,"Retrasada",IF(OR(Resumen!$B$2>=C5,F5>0),"En curso","Pendiente"))) | H5: =IF(AND(H$2>=$C5,H$2<=$E5),IF(H$2<=$C5-1+ROUND($D5*$F5/100,0),"█","▒"),"") | I5: =IF(AND(I$2>=$C5,I$2<=$E5),IF(I$2<=$C5-1+ROUND($D5*$F5/100,0),"█","▒"),"") | J5: =IF(AND(J$2>=$C5,J$2<=$E5),IF(J$2<=$C5-1+ROUND($D5*$F5/100,0),"█","▒"),"") | K5: =IF(AND(K$2>=$C5,K$2<=$E5),IF(K$2<=$C5-1+ROUND($D5*$F5/100,0),"█","▒"),"") | L5: =IF(AND(L$2>=$C5,L$2<=$E5),IF(L$2<=$C5-1+ROUND($D5*$F5/100,0),"█","▒"),"") | M5: =IF(AND(M$2>=$C5,M$2<=$E5),IF(M$2<=$C5-1+ROUND($D5*$F5/100,0),"█","▒"),"") | N5: =IF(AND(N$2>=$C5,N$2<=$E5),IF(N$2<=$C5-1+ROUND($D5*$F5/100,0),"█","▒"),"") | O5: =IF(AND(O$2>=$C5,O$2<=$E5),IF(O$2<=$C5-1+ROUND($D5*$F5/100,0),"█","▒"),"") | ... S5: =IF(AND(S$2>=$C5,S$2<=$E5),IF(S$2<=$C5-1+ROUND($D5*$F5/100,0),"█","▒"),"")
A6: Compra de materiales | B6: Luis | C6: 3 | D6: 2 | E6: =C6+D6-1 | F6: 100 | G6: =IF(F6>=100,"Completada",IF(Resumen!$B$2>E6,"Retrasada",IF(OR(Resumen!$B$2>=C6,F6>0),"En curso","Pendiente"))) | H6: =IF(AND(H$2>=$C6,H$2<=$E6),IF(H$2<=$C6-1+ROUND($D6*$F6/100,0),"█","▒"),"") | I6: =IF(AND(I$2>=$C6,I$2<=$E6),IF(I$2<=$C6-1+ROUND($D6*$F6/100,0),"█","▒"),"") | J6: =IF(AND(J$2>=$C6,J$2<=$E6),IF(J$2<=$C6-1+ROUND($D6*$F6/100,0),"█","▒"),"") | K6: =IF(AND(K$2>=$C6,K$2<=$E6),IF(K$2<=$C6-1+ROUND($D6*$F6/100,0),"█","▒"),"") | L6: =IF(AND(L$2>=$C6,L$2<=$E6),IF(L$2<=$C6-1+ROUND($D6*$F6/100,0),"█","▒"),"") | M6: =IF(AND(M$2>=$C6,M$2<=$E6),IF(M$2<=$C6-1+ROUND($D6*$F6/100,0),"█","▒"),"") | N6: =IF(AND(N$2>=$C6,N$2<=$E6),IF(N$2<=$C6-1+ROUND($D6*$F6/100,0),"█","▒"),"") | O6: =IF(AND(O$2>=$C6,O$2<=$E6),IF(O$2<=$C6-1+ROUND($D6*$F6/100,0),"█","▒"),"") | ... S6: =IF(AND(S$2>=$C6,S$2<=$E6),IF(S$2<=$C6-1+ROUND($D6*$F6/100,0),"█","▒"),"")
A7: Desarrollo fase 1 | B7: Pablo | C7: 4 | D7: 4 | E7: =C7+D7-1 | F7: 60 | G7: =IF(F7>=100,"Completada",IF(Resumen!$B$2>E7,"Retrasada",IF(OR(Resumen!$B$2>=C7,F7>0),"En curso","Pendiente"))) | H7: =IF(AND(H$2>=$C7,H$2<=$E7),IF(H$2<=$C7-1+ROUND($D7*$F7/100,0),"█","▒"),"") | I7: =IF(AND(I$2>=$C7,I$2<=$E7),IF(I$2<=$C7-1+ROUND($D7*$F7/100,0),"█","▒"),"") | J7: =IF(AND(J$2>=$C7,J$2<=$E7),IF(J$2<=$C7-1+ROUND($D7*$F7/100,0),"█","▒"),"") | K7: =IF(AND(K$2>=$C7,K$2<=$E7),IF(K$2<=$C7-1+ROUND($D7*$F7/100,0),"█","▒"),"") | L7: =IF(AND(L$2>=$C7,L$2<=$E7),IF(L$2<=$C7-1+ROUND($D7*$F7/100,0),"█","▒"),"") | M7: =IF(AND(M$2>=$C7,M$2<=$E7),IF(M$2<=$C7-1+ROUND($D7*$F7/100,0),"█","▒"),"") | N7: =IF(AND(N$2>=$C7,N$2<=$E7),IF(N$2<=$C7-1+ROUND($D7*$F7/100,0),"█","▒"),"") | O7: =IF(AND(O$2>=$C7,O$2<=$E7),IF(O$2<=$C7-1+ROUND($D7*$F7/100,0),"█","▒"),"") | ... S7: =IF(AND(S$2>=$C7,S$2<=$E7),IF(S$2<=$C7-1+ROUND($D7*$F7/100,0),"█","▒"),"")
A8: Desarrollo fase 2 | B8: Pablo | C8: 8 | D8: 3 | E8: =C8+D8-1 | F8: 0 | G8: =IF(F8>=100,"Completada",IF(Resumen!$B$2>E8,"Retrasada",IF(OR(Resumen!$B$2>=C8,F8>0),"En curso","Pendiente"))) | H8: =IF(AND(H$2>=$C8,H$2<=$E8),IF(H$2<=$C8-1+ROUND($D8*$F8/100,0),"█","▒"),"") | I8: =IF(AND(I$2>=$C8,I$2<=$E8),IF(I$2<=$C8-1+ROUND($D8*$F8/100,0),"█","▒"),"") | J8: =IF(AND(J$2>=$C8,J$2<=$E8),IF(J$2<=$C8-1+ROUND($D8*$F8/100,0),"█","▒"),"") | K8: =IF(AND(K$2>=$C8,K$2<=$E8),IF(K$2<=$C8-1+ROUND($D8*$F8/100,0),"█","▒"),"") | L8: =IF(AND(L$2>=$C8,L$2<=$E8),IF(L$2<=$C8-1+ROUND($D8*$F8/100,0),"█","▒"),"") | M8: =IF(AND(M$2>=$C8,M$2<=$E8),IF(M$2<=$C8-1+ROUND($D8*$F8/100,0),"█","▒"),"") | N8: =IF(AND(N$2>=$C8,N$2<=$E8),IF(N$2<=$C8-1+ROUND($D8*$F8/100,0),"█","▒"),"") | O8: =IF(AND(O$2>=$C8,O$2<=$E8),IF(O$2<=$C8-1+ROUND($D8*$F8/100,0),"█","▒"),"") | ... S8: =IF(AND(S$2>=$C8,S$2<=$E8),IF(S$2<=$C8-1+ROUND($D8*$F8/100,0),"█","▒"),"")
A9: Pruebas | B9: Marta | C9: 9 | D9: 2 | E9: =C9+D9-1 | F9: 0 | G9: =IF(F9>=100,"Completada",IF(Resumen!$B$2>E9,"Retrasada",IF(OR(Resumen!$B$2>=C9,F9>0),"En curso","Pendiente"))) | H9: =IF(AND(H$2>=$C9,H$2<=$E9),IF(H$2<=$C9-1+ROUND($D9*$F9/100,0),"█","▒"),"") | I9: =IF(AND(I$2>=$C9,I$2<=$E9),IF(I$2<=$C9-1+ROUND($D9*$F9/100,0),"█","▒"),"") | J9: =IF(AND(J$2>=$C9,J$2<=$E9),IF(J$2<=$C9-1+ROUND($D9*$F9/100,0),"█","▒"),"") | K9: =IF(AND(K$2>=$C9,K$2<=$E9),IF(K$2<=$C9-1+ROUND($D9*$F9/100,0),"█","▒"),"") | L9: =IF(AND(L$2>=$C9,L$2<=$E9),IF(L$2<=$C9-1+ROUND($D9*$F9/100,0),"█","▒"),"") | M9: =IF(AND(M$2>=$C9,M$2<=$E9),IF(M$2<=$C9-1+ROUND($D9*$F9/100,0),"█","▒"),"") | N9: =IF(AND(N$2>=$C9,N$2<=$E9),IF(N$2<=$C9-1+ROUND($D9*$F9/100,0),"█","▒"),"") | O9: =IF(AND(O$2>=$C9,O$2<=$E9),IF(O$2<=$C9-1+ROUND($D9*$F9/100,0),"█","▒"),"") | ... S9: =IF(AND(S$2>=$C9,S$2<=$E9),IF(S$2<=$C9-1+ROUND($D9*$F9/100,0),"█","▒"),"")
A10: Formación del equipo | B10: Ana | C10: 10 | D10: 2 | E10: =C10+D10-1 | F10: 0 | G10: =IF(F10>=100,"Completada",IF(Resumen!$B$2>E10,"Retrasada",IF(OR(Resumen!$B$2>=C10,F10>0),"En curso","Pendiente"))) | H10: =IF(AND(H$2>=$C10,H$2<=$E10),IF(H$2<=$C10-1+ROUND($D10*$F10/100,0),"█","▒"),"") | I10: =IF(AND(I$2>=$C10,I$2<=$E10),IF(I$2<=$C10-1+ROUND($D10*$F10/100,0),"█","▒"),"") | J10: =IF(AND(J$2>=$C10,J$2<=$E10),IF(J$2<=$C10-1+ROUND($D10*$F10/100,0),"█","▒"),"") | K10: =IF(AND(K$2>=$C10,K$2<=$E10),IF(K$2<=$C10-1+ROUND($D10*$F10/100,0),"█","▒"),"") | L10: =IF(AND(L$2>=$C10,L$2<=$E10),IF(L$2<=$C10-1+ROUND($D10*$F10/100,0),"█","▒"),"") | M10: =IF(AND(M$2>=$C10,M$2<=$E10),IF(M$2<=$C10-1+ROUND($D10*$F10/100,0),"█","▒"),"") | N10: =IF(AND(N$2>=$C10,N$2<=$E10),IF(N$2<=$C10-1+ROUND($D10*$F10/100,0),"█","▒"),"") | O10: =IF(AND(O$2>=$C10,O$2<=$E10),IF(O$2<=$C10-1+ROUND($D10*$F10/100,0),"█","▒"),"") | ... S10: =IF(AND(S$2>=$C10,S$2<=$E10),IF(S$2<=$C10-1+ROUND($D10*$F10/100,0),"█","▒"),"")
A11: Puesta en marcha | B11: Ana | C11: 11 | D11: 1 | E11: =C11+D11-1 | F11: 0 | G11: =IF(F11>=100,"Completada",IF(Resumen!$B$2>E11,"Retrasada",IF(OR(Resumen!$B$2>=C11,F11>0),"En curso","Pendiente"))) | H11: =IF(AND(H$2>=$C11,H$2<=$E11),IF(H$2<=$C11-1+ROUND($D11*$F11/100,0),"█","▒"),"") | I11: =IF(AND(I$2>=$C11,I$2<=$E11),IF(I$2<=$C11-1+ROUND($D11*$F11/100,0),"█","▒"),"") | J11: =IF(AND(J$2>=$C11,J$2<=$E11),IF(J$2<=$C11-1+ROUND($D11*$F11/100,0),"█","▒"),"") | K11: =IF(AND(K$2>=$C11,K$2<=$E11),IF(K$2<=$C11-1+ROUND($D11*$F11/100,0),"█","▒"),"") | L11: =IF(AND(L$2>=$C11,L$2<=$E11),IF(L$2<=$C11-1+ROUND($D11*$F11/100,0),"█","▒"),"") | M11: =IF(AND(M$2>=$C11,M$2<=$E11),IF(M$2<=$C11-1+ROUND($D11*$F11/100,0),"█","▒"),"") | N11: =IF(AND(N$2>=$C11,N$2<=$E11),IF(N$2<=$C11-1+ROUND($D11*$F11/100,0),"█","▒"),"") | O11: =IF(AND(O$2>=$C11,O$2<=$E11),IF(O$2<=$C11-1+ROUND($D11*$F11/100,0),"█","▒"),"") | ... S11: =IF(AND(S$2>=$C11,S$2<=$E11),IF(S$2<=$C11-1+ROUND($D11*$F11/100,0),"█","▒"),"")
A12: Cierre y documentación | B12: Luis | C12: 12 | D12: 1 | E12: =C12+D12-1 | F12: 0 | G12: =IF(F12>=100,"Completada",IF(Resumen!$B$2>E12,"Retrasada",IF(OR(Resumen!$B$2>=C12,F12>0),"En curso","Pendiente"))) | H12: =IF(AND(H$2>=$C12,H$2<=$E12),IF(H$2<=$C12-1+ROUND($D12*$F12/100,0),"█","▒"),"") | I12: =IF(AND(I$2>=$C12,I$2<=$E12),IF(I$2<=$C12-1+ROUND($D12*$F12/100,0),"█","▒"),"") | J12: =IF(AND(J$2>=$C12,J$2<=$E12),IF(J$2<=$C12-1+ROUND($D12*$F12/100,0),"█","▒"),"") | K12: =IF(AND(K$2>=$C12,K$2<=$E12),IF(K$2<=$C12-1+ROUND($D12*$F12/100,0),"█","▒"),"") | L12: =IF(AND(L$2>=$C12,L$2<=$E12),IF(L$2<=$C12-1+ROUND($D12*$F12/100,0),"█","▒"),"") | M12: =IF(AND(M$2>=$C12,M$2<=$E12),IF(M$2<=$C12-1+ROUND($D12*$F12/100,0),"█","▒"),"") | N12: =IF(AND(N$2>=$C12,N$2<=$E12),IF(N$2<=$C12-1+ROUND($D12*$F12/100,0),"█","▒"),"") | O12: =IF(AND(O$2>=$C12,O$2<=$E12),IF(O$2<=$C12-1+ROUND($D12*$F12/100,0),"█","▒"),"") | ... S12: =IF(AND(S$2>=$C12,S$2<=$E12),IF(S$2<=$C12-1+ROUND($D12*$F12/100,0),"█","▒"),"")

Sheet Resumen
A1: Indicador | B1: Valor
A2: Semana actual del proyecto | B2: 6
A3: Tareas totales | B3: =COUNTA(Gantt!A3:A12)
A4: Tareas completadas | B4: =COUNTIF(Gantt!G3:G12,"Completada")
A5: Tareas en curso | B5: =COUNTIF(Gantt!G3:G12,"En curso")
A6: Tareas retrasadas | B6: =COUNTIF(Gantt!G3:G12,"Retrasada")
A7: Avance global (%) | B7: =ROUND(SUMPRODUCT(Gantt!D3:D12,Gantt!F3:F12)/SUM(Gantt!D3:D12),1)
A8: Duración total (semanas) | B8: =MAX(Gantt!E3:E12)

Sheet Por responsable
A1: Responsable | B1: Tareas | C1: Semanas de trabajo | D1: Avance medio (%)
A2: Ana | B2: =COUNTIF(Gantt!B3:B12,A2) | C2: =SUMIF(Gantt!B3:B12,A2,Gantt!D3:D12) | D2: =IF(C2=0,0,ROUND(SUMPRODUCT((Gantt!B3:B12=A2)*Gantt!D3:D12*Gantt!F3:F12)/C2,1))
A3: Luis | B3: =COUNTIF(Gantt!B3:B12,A3) | C3: =SUMIF(Gantt!B3:B12,A3,Gantt!D3:D12) | D3: =IF(C3=0,0,ROUND(SUMPRODUCT((Gantt!B3:B12=A3)*Gantt!D3:D12*Gantt!F3:F12)/C3,1))
A4: Marta | B4: =COUNTIF(Gantt!B3:B12,A4) | C4: =SUMIF(Gantt!B3:B12,A4,Gantt!D3:D12) | D4: =IF(C4=0,0,ROUND(SUMPRODUCT((Gantt!B3:B12=A4)*Gantt!D3:D12*Gantt!F3:F12)/C4,1))
A5: Pablo | B5: =COUNTIF(Gantt!B3:B12,A5) | C5: =SUMIF(Gantt!B3:B12,A5,Gantt!D3:D12) | D5: =IF(C5=0,0,ROUND(SUMPRODUCT((Gantt!B3:B12=A5)*Gantt!D3:D12*Gantt!F3:F12)/C5,1))
