Workbook

Sheet Ajustes
A1: Parámetro | B1: Valor
A2: Mes (1-12) | B2: 10
A3: Año | B3: 2026
A4: Días del mes | B4: =DAY(DATE(B3,B2+1,0))
A5: Horas objetivo por empleado y mes | B5: 160
A6: Mes en texto | B6: =CHOOSE(B2,"Enero","Febrero","Marzo","Abril","Mayo","Junio","Julio","Agosto","Septiembre","Octubre","Noviembre","Diciembre")

Sheet Turnos
A1: Código | B1: Turno | C1: Inicio (hora) | D1: Fin (hora) | E1: Horas
A2: M | B2: Mañana | C2: 6 | D2: 14 | E2: =IF(C2="",0,IF(D2>C2,D2-C2,D2-C2+24))
A3: T | B3: Tarde | C3: 14 | D3: 22 | E3: =IF(C3="",0,IF(D3>C3,D3-C3,D3-C3+24))
A4: N | B4: Noche | C4: 22 | D4: 6 | E4: =IF(C4="",0,IF(D4>C4,D4-C4,D4-C4+24))
A5: L | B5: Libre | E5: =IF(C5="",0,IF(D5>C5,D5-C5,D5-C5+24))
A6: V | B6: Vacaciones | E6: =IF(C6="",0,IF(D6>C6,D6-C6,D6-C6+24))
A7: B | B7: Baja | E7: =IF(C7="",0,IF(D7>C7,D7-C7,D7-C7+24))

Sheet Cuadrante
A1: Empleado | B1: 1 | C1: 2 | D1: 3 | E1: 4 | F1: 5 | G1: 6 | H1: 7 | I1: 8 | J1: 9 | K1: 10 | L1: 11 | M1: 12 | N1: 13 | O1: 14 | P1: 15 | Q1: 16 | R1: 17 | S1: 18 | T1: 19 | U1: 20 | V1: 21 | W1: 22 | X1: 23 | Y1: 24 | Z1: 25 | AA1: 26 | AB1: 27 | AC1: 28 | AD1: 29 | AE1: 30 | AF1: 31
A2: Día de la semana | B2: =IF(1>Ajustes!$B$4,"",CHOOSE(WEEKDAY(DATE(Ajustes!$B$3,Ajustes!$B$2,1),2),"Lu","Ma","Mi","Ju","Vi","Sá","Do")) | C2: =IF(2>Ajustes!$B$4,"",CHOOSE(WEEKDAY(DATE(Ajustes!$B$3,Ajustes!$B$2,2),2),"Lu","Ma","Mi","Ju","Vi","Sá","Do")) | D2: =IF(3>Ajustes!$B$4,"",CHOOSE(WEEKDAY(DATE(Ajustes!$B$3,Ajustes!$B$2,3),2),"Lu","Ma","Mi","Ju","Vi","Sá","Do")) | E2: =IF(4>Ajustes!$B$4,"",CHOOSE(WEEKDAY(DATE(Ajustes!$B$3,Ajustes!$B$2,4),2),"Lu","Ma","Mi","Ju","Vi","Sá","Do")) | F2: =IF(5>Ajustes!$B$4,"",CHOOSE(WEEKDAY(DATE(Ajustes!$B$3,Ajustes!$B$2,5),2),"Lu","Ma","Mi","Ju","Vi","Sá","Do")) | G2: =IF(6>Ajustes!$B$4,"",CHOOSE(WEEKDAY(DATE(Ajustes!$B$3,Ajustes!$B$2,6),2),"Lu","Ma","Mi","Ju","Vi","Sá","Do")) | H2: =IF(7>Ajustes!$B$4,"",CHOOSE(WEEKDAY(DATE(Ajustes!$B$3,Ajustes!$B$2,7),2),"Lu","Ma","Mi","Ju","Vi","Sá","Do")) | I2: =IF(8>Ajustes!$B$4,"",CHOOSE(WEEKDAY(DATE(Ajustes!$B$3,Ajustes!$B$2,8),2),"Lu","Ma","Mi","Ju","Vi","Sá","Do")) | J2: =IF(9>Ajustes!$B$4,"",CHOOSE(WEEKDAY(DATE(Ajustes!$B$3,Ajustes!$B$2,9),2),"Lu","Ma","Mi","Ju","Vi","Sá","Do")) | K2: =IF(10>Ajustes!$B$4,"",CHOOSE(WEEKDAY(DATE(Ajustes!$B$3,Ajustes!$B$2,10),2),"Lu","Ma","Mi","Ju","Vi","Sá","Do")) | L2: =IF(11>Ajustes!$B$4,"",CHOOSE(WEEKDAY(DATE(Ajustes!$B$3,Ajustes!$B$2,11),2),"Lu","Ma","Mi","Ju","Vi","Sá","Do")) | M2: =IF(12>Ajustes!$B$4,"",CHOOSE(WEEKDAY(DATE(Ajustes!$B$3,Ajustes!$B$2,12),2),"Lu","Ma","Mi","Ju","Vi","Sá","Do")) | N2: =IF(13>Ajustes!$B$4,"",CHOOSE(WEEKDAY(DATE(Ajustes!$B$3,Ajustes!$B$2,13),2),"Lu","Ma","Mi","Ju","Vi","Sá","Do")) | O2: =IF(14>Ajustes!$B$4,"",CHOOSE(WEEKDAY(DATE(Ajustes!$B$3,Ajustes!$B$2,14),2),"Lu","Ma","Mi","Ju","Vi","Sá","Do")) | P2: =IF(15>Ajustes!$B$4,"",CHOOSE(WEEKDAY(DATE(Ajustes!$B$3,Ajustes!$B$2,15),2),"Lu","Ma","Mi","Ju","Vi","Sá","Do")) | Q2: =IF(16>Ajustes!$B$4,"",CHOOSE(WEEKDAY(DATE(Ajustes!$B$3,Ajustes!$B$2,16),2),"Lu","Ma","Mi","Ju","Vi","Sá","Do")) | R2: =IF(17>Ajustes!$B$4,"",CHOOSE(WEEKDAY(DATE(Ajustes!$B$3,Ajustes!$B$2,17),2),"Lu","Ma","Mi","Ju","Vi","Sá","Do")) | S2: =IF(18>Ajustes!$B$4,"",CHOOSE(WEEKDAY(DATE(Ajustes!$B$3,Ajustes!$B$2,18),2),"Lu","Ma","Mi","Ju","Vi","Sá","Do")) | T2: =IF(19>Ajustes!$B$4,"",CHOOSE(WEEKDAY(DATE(Ajustes!$B$3,Ajustes!$B$2,19),2),"Lu","Ma","Mi","Ju","Vi","Sá","Do")) | U2: =IF(20>Ajustes!$B$4,"",CHOOSE(WEEKDAY(DATE(Ajustes!$B$3,Ajustes!$B$2,20),2),"Lu","Ma","Mi","Ju","Vi","Sá","Do")) | V2: =IF(21>Ajustes!$B$4,"",CHOOSE(WEEKDAY(DATE(Ajustes!$B$3,Ajustes!$B$2,21),2),"Lu","Ma","Mi","Ju","Vi","Sá","Do")) | W2: =IF(22>Ajustes!$B$4,"",CHOOSE(WEEKDAY(DATE(Ajustes!$B$3,Ajustes!$B$2,22),2),"Lu","Ma","Mi","Ju","Vi","Sá","Do")) | X2: =IF(23>Ajustes!$B$4,"",CHOOSE(WEEKDAY(DATE(Ajustes!$B$3,Ajustes!$B$2,23),2),"Lu","Ma","Mi","Ju","Vi","Sá","Do")) | Y2: =IF(24>Ajustes!$B$4,"",CHOOSE(WEEKDAY(DATE(Ajustes!$B$3,Ajustes!$B$2,24),2),"Lu","Ma","Mi","Ju","Vi","Sá","Do")) | Z2: =IF(25>Ajustes!$B$4,"",CHOOSE(WEEKDAY(DATE(Ajustes!$B$3,Ajustes!$B$2,25),2),"Lu","Ma","Mi","Ju","Vi","Sá","Do")) | AA2: =IF(26>Ajustes!$B$4,"",CHOOSE(WEEKDAY(DATE(Ajustes!$B$3,Ajustes!$B$2,26),2),"Lu","Ma","Mi","Ju","Vi","Sá","Do")) | AB2: =IF(27>Ajustes!$B$4,"",CHOOSE(WEEKDAY(DATE(Ajustes!$B$3,Ajustes!$B$2,27),2),"Lu","Ma","Mi","Ju","Vi","Sá","Do")) | AC2: =IF(28>Ajustes!$B$4,"",CHOOSE(WEEKDAY(DATE(Ajustes!$B$3,Ajustes!$B$2,28),2),"Lu","Ma","Mi","Ju","Vi","Sá","Do")) | AD2: =IF(29>Ajustes!$B$4,"",CHOOSE(WEEKDAY(DATE(Ajustes!$B$3,Ajustes!$B$2,29),2),"Lu","Ma","Mi","Ju","Vi","Sá","Do")) | AE2: =IF(30>Ajustes!$B$4,"",CHOOSE(WEEKDAY(DATE(Ajustes!$B$3,Ajustes!$B$2,30),2),"Lu","Ma","Mi","Ju","Vi","Sá","Do")) | AF2: =IF(31>Ajustes!$B$4,"",CHOOSE(WEEKDAY(DATE(Ajustes!$B$3,Ajustes!$B$2,31),2),"Lu","Ma","Mi","Ju","Vi","Sá","Do"))
A3: Ana | B3: M | C3: M | D3: L | E3: L | F3: M | G3: M | H3: M | I3: M | J3: M | K3: L | L3: L | M3: M | N3: M | O3: M | P3: M | Q3: M | R3: L | S3: L | T3: V | U3: V | V3: V | W3: V | X3: V | Y3: L | Z3: L | AA3: M | AB3: M | AC3: M | AD3: M | AE3: M | AF3: L
A4: Luis | B4: T | C4: T | D4: L | E4: L | F4: T | G4: T | H4: T | I4: T | J4: T | K4: L | L4: L | M4: B | N4: B | O4: B | P4: T | Q4: T | R4: L | S4: L | T4: T | U4: T | V4: T | W4: T | X4: T | Y4: L | Z4: L | AA4: T | AB4: T | AC4: T | AD4: T | AE4: T | AF4: L
A5: Marta | B5: M | C5: M | D5: L | E5: L | F5: T | G5: T | H5: T | I5: T | J5: T | K5: L | L5: L | M5: N | N5: N | O5: N | P5: N | Q5: N | R5: L | S5: L | T5: M | U5: M | V5: M | W5: M | X5: M | Y5: L | Z5: L | AA5: T | AB5: T | AC5: T | AD5: T | AE5: T | AF5: L
A6: Pablo | B6: T | C6: T | D6: L | E6: L | F6: N | G6: N | H6: N | I6: N | J6: N | K6: L | L6: L | M6: M | N6: M | O6: M | P6: M | Q6: M | R6: L | S6: L | T6: T | U6: T | V6: T | W6: T | X6: T | Y6: L | Z6: L | AA6: N | AB6: N | AC6: N | AD6: N | AE6: N | AF6: L
A7: Elena | B7: N | C7: N | D7: L | E7: L | F7: M | G7: M | H7: M | I7: M | J7: M | K7: L | L7: L | M7: T | N7: T | O7: T | P7: T | Q7: T | R7: L | S7: L | T7: N | U7: N | V7: N | W7: N | X7: N | Y7: L | Z7: L | AA7: M | AB7: M | AC7: M | AD7: M | AE7: M | AF7: L
A8: Sergio | B8: T | C8: L | D8: M | E8: M | F8: L | G8: T | H8: T | I8: T | J8: L | K8: M | L8: M | M8: L | N8: T | O8: T | P8: T | Q8: L | R8: M | S8: M | T8: L | U8: T | V8: T | W8: T | X8: L | Y8: M | Z8: M | AA8: L | AB8: T | AC8: T | AD8: T | AE8: L | AF8: M
A9: Cobertura mañana (M) | B9: =IF(B$2="","",COUNTIF(B$3:B$8,"M")) | C9: =IF(C$2="","",COUNTIF(C$3:C$8,"M")) | D9: =IF(D$2="","",COUNTIF(D$3:D$8,"M")) | E9: =IF(E$2="","",COUNTIF(E$3:E$8,"M")) | F9: =IF(F$2="","",COUNTIF(F$3:F$8,"M")) | G9: =IF(G$2="","",COUNTIF(G$3:G$8,"M")) | H9: =IF(H$2="","",COUNTIF(H$3:H$8,"M")) | I9: =IF(I$2="","",COUNTIF(I$3:I$8,"M")) | ... AF9: =IF(AF$2="","",COUNTIF(AF$3:AF$8,"M"))
A10: Cobertura tarde (T) | B10: =IF(B$2="","",COUNTIF(B$3:B$8,"T")) | C10: =IF(C$2="","",COUNTIF(C$3:C$8,"T")) | D10: =IF(D$2="","",COUNTIF(D$3:D$8,"T")) | E10: =IF(E$2="","",COUNTIF(E$3:E$8,"T")) | F10: =IF(F$2="","",COUNTIF(F$3:F$8,"T")) | G10: =IF(G$2="","",COUNTIF(G$3:G$8,"T")) | H10: =IF(H$2="","",COUNTIF(H$3:H$8,"T")) | I10: =IF(I$2="","",COUNTIF(I$3:I$8,"T")) | ... AF10: =IF(AF$2="","",COUNTIF(AF$3:AF$8,"T"))
A11: Cobertura noche (N) | B11: =IF(B$2="","",COUNTIF(B$3:B$8,"N")) | C11: =IF(C$2="","",COUNTIF(C$3:C$8,"N")) | D11: =IF(D$2="","",COUNTIF(D$3:D$8,"N")) | E11: =IF(E$2="","",COUNTIF(E$3:E$8,"N")) | F11: =IF(F$2="","",COUNTIF(F$3:F$8,"N")) | G11: =IF(G$2="","",COUNTIF(G$3:G$8,"N")) | H11: =IF(H$2="","",COUNTIF(H$3:H$8,"N")) | I11: =IF(I$2="","",COUNTIF(I$3:I$8,"N")) | ... AF11: =IF(AF$2="","",COUNTIF(AF$3:AF$8,"N"))

Sheet Resumen
A1: Empleado | B1: Mañanas (M) | C1: Tardes (T) | D1: Noches (N) | E1: Libres (L) | F1: Vacaciones (V) | G1: Bajas (B) | H1: Días trabajados | I1: Horas totales | J1: Horas objetivo | K1: Diferencia
A2: =Cuadrante!A3 | B2: =SUMPRODUCT((Cuadrante!$B$2:$AF$2<>"")*(Cuadrante!$B3:$AF3="M")) | C2: =SUMPRODUCT((Cuadrante!$B$2:$AF$2<>"")*(Cuadrante!$B3:$AF3="T")) | D2: =SUMPRODUCT((Cuadrante!$B$2:$AF$2<>"")*(Cuadrante!$B3:$AF3="N")) | E2: =SUMPRODUCT((Cuadrante!$B$2:$AF$2<>"")*(Cuadrante!$B3:$AF3="L")) | F2: =SUMPRODUCT((Cuadrante!$B$2:$AF$2<>"")*(Cuadrante!$B3:$AF3="V")) | G2: =SUMPRODUCT((Cuadrante!$B$2:$AF$2<>"")*(Cuadrante!$B3:$AF3="B")) | H2: =B2+C2+D2 | I2: =B2*Turnos!$E$2+C2*Turnos!$E$3+D2*Turnos!$E$4 | J2: =Ajustes!$B$5 | K2: =I2-J2
A3: =Cuadrante!A4 | B3: =SUMPRODUCT((Cuadrante!$B$2:$AF$2<>"")*(Cuadrante!$B4:$AF4="M")) | C3: =SUMPRODUCT((Cuadrante!$B$2:$AF$2<>"")*(Cuadrante!$B4:$AF4="T")) | D3: =SUMPRODUCT((Cuadrante!$B$2:$AF$2<>"")*(Cuadrante!$B4:$AF4="N")) | E3: =SUMPRODUCT((Cuadrante!$B$2:$AF$2<>"")*(Cuadrante!$B4:$AF4="L")) | F3: =SUMPRODUCT((Cuadrante!$B$2:$AF$2<>"")*(Cuadrante!$B4:$AF4="V")) | G3: =SUMPRODUCT((Cuadrante!$B$2:$AF$2<>"")*(Cuadrante!$B4:$AF4="B")) | H3: =B3+C3+D3 | I3: =B3*Turnos!$E$2+C3*Turnos!$E$3+D3*Turnos!$E$4 | J3: =Ajustes!$B$5 | K3: =I3-J3
A4: =Cuadrante!A5 | B4: =SUMPRODUCT((Cuadrante!$B$2:$AF$2<>"")*(Cuadrante!$B5:$AF5="M")) | C4: =SUMPRODUCT((Cuadrante!$B$2:$AF$2<>"")*(Cuadrante!$B5:$AF5="T")) | D4: =SUMPRODUCT((Cuadrante!$B$2:$AF$2<>"")*(Cuadrante!$B5:$AF5="N")) | E4: =SUMPRODUCT((Cuadrante!$B$2:$AF$2<>"")*(Cuadrante!$B5:$AF5="L")) | F4: =SUMPRODUCT((Cuadrante!$B$2:$AF$2<>"")*(Cuadrante!$B5:$AF5="V")) | G4: =SUMPRODUCT((Cuadrante!$B$2:$AF$2<>"")*(Cuadrante!$B5:$AF5="B")) | H4: =B4+C4+D4 | I4: =B4*Turnos!$E$2+C4*Turnos!$E$3+D4*Turnos!$E$4 | J4: =Ajustes!$B$5 | K4: =I4-J4
A5: =Cuadrante!A6 | B5: =SUMPRODUCT((Cuadrante!$B$2:$AF$2<>"")*(Cuadrante!$B6:$AF6="M")) | C5: =SUMPRODUCT((Cuadrante!$B$2:$AF$2<>"")*(Cuadrante!$B6:$AF6="T")) | D5: =SUMPRODUCT((Cuadrante!$B$2:$AF$2<>"")*(Cuadrante!$B6:$AF6="N")) | E5: =SUMPRODUCT((Cuadrante!$B$2:$AF$2<>"")*(Cuadrante!$B6:$AF6="L")) | F5: =SUMPRODUCT((Cuadrante!$B$2:$AF$2<>"")*(Cuadrante!$B6:$AF6="V")) | G5: =SUMPRODUCT((Cuadrante!$B$2:$AF$2<>"")*(Cuadrante!$B6:$AF6="B")) | H5: =B5+C5+D5 | I5: =B5*Turnos!$E$2+C5*Turnos!$E$3+D5*Turnos!$E$4 | J5: =Ajustes!$B$5 | K5: =I5-J5
A6: =Cuadrante!A7 | B6: =SUMPRODUCT((Cuadrante!$B$2:$AF$2<>"")*(Cuadrante!$B7:$AF7="M")) | C6: =SUMPRODUCT((Cuadrante!$B$2:$AF$2<>"")*(Cuadrante!$B7:$AF7="T")) | D6: =SUMPRODUCT((Cuadrante!$B$2:$AF$2<>"")*(Cuadrante!$B7:$AF7="N")) | E6: =SUMPRODUCT((Cuadrante!$B$2:$AF$2<>"")*(Cuadrante!$B7:$AF7="L")) | F6: =SUMPRODUCT((Cuadrante!$B$2:$AF$2<>"")*(Cuadrante!$B7:$AF7="V")) | G6: =SUMPRODUCT((Cuadrante!$B$2:$AF$2<>"")*(Cuadrante!$B7:$AF7="B")) | H6: =B6+C6+D6 | I6: =B6*Turnos!$E$2+C6*Turnos!$E$3+D6*Turnos!$E$4 | J6: =Ajustes!$B$5 | K6: =I6-J6
A7: =Cuadrante!A8 | B7: =SUMPRODUCT((Cuadrante!$B$2:$AF$2<>"")*(Cuadrante!$B8:$AF8="M")) | C7: =SUMPRODUCT((Cuadrante!$B$2:$AF$2<>"")*(Cuadrante!$B8:$AF8="T")) | D7: =SUMPRODUCT((Cuadrante!$B$2:$AF$2<>"")*(Cuadrante!$B8:$AF8="N")) | E7: =SUMPRODUCT((Cuadrante!$B$2:$AF$2<>"")*(Cuadrante!$B8:$AF8="L")) | F7: =SUMPRODUCT((Cuadrante!$B$2:$AF$2<>"")*(Cuadrante!$B8:$AF8="V")) | G7: =SUMPRODUCT((Cuadrante!$B$2:$AF$2<>"")*(Cuadrante!$B8:$AF8="B")) | H7: =B7+C7+D7 | I7: =B7*Turnos!$E$2+C7*Turnos!$E$3+D7*Turnos!$E$4 | J7: =Ajustes!$B$5 | K7: =I7-J7
A8: Total | B8: =SUM(B2:B7) | C8: =SUM(C2:C7) | D8: =SUM(D2:D7) | E8: =SUM(E2:E7) | F8: =SUM(F2:F7) | G8: =SUM(G2:G7) | H8: =SUM(H2:H7) | I8: =SUM(I2:I7) | ... K8: =SUM(K2:K7)
