Workbook

Sheet Registro mensual
A1: Fecha | B1: Día | C1: Tipo de día | D1: Entrada | E1: Salida | F1: Descanso (min) | G1: Jornada prevista (h) | H1: Horas trabajadas | I1: Horas extra | J1: Observaciones
A2: 01/10/2026 | B2: Jueves | C2: Laboral | D2: 09:00 | E2: 17:30 | F2: 30 | G2: 8 | H2: =IF(OR(D2="",E2=""),0,ROUND((IF(ISNUMBER(E2),E2,TIMEVALUE(E2))-IF(ISNUMBER(D2),D2,TIMEVALUE(D2)))*24-F2/60,2)) | I2: =MAX(0,ROUND(H2-G2,2))
A3: 02/10/2026 | B3: Viernes | C3: Laboral | D3: 09:00 | E3: 17:30 | F3: 30 | G3: 8 | H3: =IF(OR(D3="",E3=""),0,ROUND((IF(ISNUMBER(E3),E3,TIMEVALUE(E3))-IF(ISNUMBER(D3),D3,TIMEVALUE(D3)))*24-F3/60,2)) | I3: =MAX(0,ROUND(H3-G3,2))
A4: 03/10/2026 | B4: Sábado | C4: Descanso | F4: 0 | G4: 0 | H4: =IF(OR(D4="",E4=""),0,ROUND((IF(ISNUMBER(E4),E4,TIMEVALUE(E4))-IF(ISNUMBER(D4),D4,TIMEVALUE(D4)))*24-F4/60,2)) | I4: =MAX(0,ROUND(H4-G4,2))
A5: 04/10/2026 | B5: Domingo | C5: Descanso | F5: 0 | G5: 0 | H5: =IF(OR(D5="",E5=""),0,ROUND((IF(ISNUMBER(E5),E5,TIMEVALUE(E5))-IF(ISNUMBER(D5),D5,TIMEVALUE(D5)))*24-F5/60,2)) | I5: =MAX(0,ROUND(H5-G5,2))
A6: 05/10/2026 | B6: Lunes | C6: Laboral | D6: 09:00 | E6: 17:30 | F6: 30 | G6: 8 | H6: =IF(OR(D6="",E6=""),0,ROUND((IF(ISNUMBER(E6),E6,TIMEVALUE(E6))-IF(ISNUMBER(D6),D6,TIMEVALUE(D6)))*24-F6/60,2)) | I6: =MAX(0,ROUND(H6-G6,2))
A7: 06/10/2026 | B7: Martes | C7: Laboral | D7: 09:00 | E7: 18:30 | F7: 30 | G7: 8 | H7: =IF(OR(D7="",E7=""),0,ROUND((IF(ISNUMBER(E7),E7,TIMEVALUE(E7))-IF(ISNUMBER(D7),D7,TIMEVALUE(D7)))*24-F7/60,2)) | I7: =MAX(0,ROUND(H7-G7,2)) | J7: Cierre de pedido
A8: 07/10/2026 | B8: Miércoles | C8: Laboral | D8: 09:00 | E8: 17:30 | F8: 30 | G8: 8 | H8: =IF(OR(D8="",E8=""),0,ROUND((IF(ISNUMBER(E8),E8,TIMEVALUE(E8))-IF(ISNUMBER(D8),D8,TIMEVALUE(D8)))*24-F8/60,2)) | I8: =MAX(0,ROUND(H8-G8,2))
A9: 08/10/2026 | B9: Jueves | C9: Laboral | D9: 09:00 | E9: 17:30 | F9: 30 | G9: 8 | H9: =IF(OR(D9="",E9=""),0,ROUND((IF(ISNUMBER(E9),E9,TIMEVALUE(E9))-IF(ISNUMBER(D9),D9,TIMEVALUE(D9)))*24-F9/60,2)) | I9: =MAX(0,ROUND(H9-G9,2))
A10: 09/10/2026 | B10: Viernes | C10: Laboral | D10: 09:00 | E10: 17:30 | F10: 30 | G10: 8 | H10: =IF(OR(D10="",E10=""),0,ROUND((IF(ISNUMBER(E10),E10,TIMEVALUE(E10))-IF(ISNUMBER(D10),D10,TIMEVALUE(D10)))*24-F10/60,2)) | I10: =MAX(0,ROUND(H10-G10,2))
A11: 10/10/2026 | B11: Sábado | C11: Descanso | F11: 0 | G11: 0 | H11: =IF(OR(D11="",E11=""),0,ROUND((IF(ISNUMBER(E11),E11,TIMEVALUE(E11))-IF(ISNUMBER(D11),D11,TIMEVALUE(D11)))*24-F11/60,2)) | I11: =MAX(0,ROUND(H11-G11,2))
A12: 11/10/2026 | B12: Domingo | C12: Descanso | F12: 0 | G12: 0 | H12: =IF(OR(D12="",E12=""),0,ROUND((IF(ISNUMBER(E12),E12,TIMEVALUE(E12))-IF(ISNUMBER(D12),D12,TIMEVALUE(D12)))*24-F12/60,2)) | I12: =MAX(0,ROUND(H12-G12,2))
A13: 12/10/2026 | B13: Lunes | C13: Festivo | F13: 0 | G13: 0 | H13: =IF(OR(D13="",E13=""),0,ROUND((IF(ISNUMBER(E13),E13,TIMEVALUE(E13))-IF(ISNUMBER(D13),D13,TIMEVALUE(D13)))*24-F13/60,2)) | I13: =MAX(0,ROUND(H13-G13,2)) | J13: Fiesta Nacional
A14: 13/10/2026 | B14: Martes | C14: Laboral | D14: 09:00 | E14: 17:30 | F14: 30 | G14: 8 | H14: =IF(OR(D14="",E14=""),0,ROUND((IF(ISNUMBER(E14),E14,TIMEVALUE(E14))-IF(ISNUMBER(D14),D14,TIMEVALUE(D14)))*24-F14/60,2)) | I14: =MAX(0,ROUND(H14-G14,2))
A15: 14/10/2026 | B15: Miércoles | C15: Laboral | D15: 09:00 | E15: 19:00 | F15: 30 | G15: 8 | H15: =IF(OR(D15="",E15=""),0,ROUND((IF(ISNUMBER(E15),E15,TIMEVALUE(E15))-IF(ISNUMBER(D15),D15,TIMEVALUE(D15)))*24-F15/60,2)) | I15: =MAX(0,ROUND(H15-G15,2)) | J15: Inventario
A16: 15/10/2026 | B16: Jueves | C16: Laboral | D16: 09:00 | E16: 17:30 | F16: 30 | G16: 8 | H16: =IF(OR(D16="",E16=""),0,ROUND((IF(ISNUMBER(E16),E16,TIMEVALUE(E16))-IF(ISNUMBER(D16),D16,TIMEVALUE(D16)))*24-F16/60,2)) | I16: =MAX(0,ROUND(H16-G16,2))
A17: 16/10/2026 | B17: Viernes | C17: Laboral | D17: 09:00 | E17: 17:30 | F17: 30 | G17: 8 | H17: =IF(OR(D17="",E17=""),0,ROUND((IF(ISNUMBER(E17),E17,TIMEVALUE(E17))-IF(ISNUMBER(D17),D17,TIMEVALUE(D17)))*24-F17/60,2)) | I17: =MAX(0,ROUND(H17-G17,2))
A18: 17/10/2026 | B18: Sábado | C18: Descanso | F18: 0 | G18: 0 | H18: =IF(OR(D18="",E18=""),0,ROUND((IF(ISNUMBER(E18),E18,TIMEVALUE(E18))-IF(ISNUMBER(D18),D18,TIMEVALUE(D18)))*24-F18/60,2)) | I18: =MAX(0,ROUND(H18-G18,2))
A19: 18/10/2026 | B19: Domingo | C19: Descanso | F19: 0 | G19: 0 | H19: =IF(OR(D19="",E19=""),0,ROUND((IF(ISNUMBER(E19),E19,TIMEVALUE(E19))-IF(ISNUMBER(D19),D19,TIMEVALUE(D19)))*24-F19/60,2)) | I19: =MAX(0,ROUND(H19-G19,2))
A20: 19/10/2026 | B20: Lunes | C20: Vacaciones | F20: 0 | G20: 0 | H20: =IF(OR(D20="",E20=""),0,ROUND((IF(ISNUMBER(E20),E20,TIMEVALUE(E20))-IF(ISNUMBER(D20),D20,TIMEVALUE(D20)))*24-F20/60,2)) | I20: =MAX(0,ROUND(H20-G20,2))
A21: 20/10/2026 | B21: Martes | C21: Vacaciones | F21: 0 | G21: 0 | H21: =IF(OR(D21="",E21=""),0,ROUND((IF(ISNUMBER(E21),E21,TIMEVALUE(E21))-IF(ISNUMBER(D21),D21,TIMEVALUE(D21)))*24-F21/60,2)) | I21: =MAX(0,ROUND(H21-G21,2))
A22: 21/10/2026 | B22: Miércoles | C22: Laboral | D22: 09:00 | E22: 17:30 | F22: 30 | G22: 8 | H22: =IF(OR(D22="",E22=""),0,ROUND((IF(ISNUMBER(E22),E22,TIMEVALUE(E22))-IF(ISNUMBER(D22),D22,TIMEVALUE(D22)))*24-F22/60,2)) | I22: =MAX(0,ROUND(H22-G22,2))
A23: 22/10/2026 | B23: Jueves | C23: Baja | F23: 0 | G23: 0 | H23: =IF(OR(D23="",E23=""),0,ROUND((IF(ISNUMBER(E23),E23,TIMEVALUE(E23))-IF(ISNUMBER(D23),D23,TIMEVALUE(D23)))*24-F23/60,2)) | I23: =MAX(0,ROUND(H23-G23,2)) | J23: Baja médica
A24: 23/10/2026 | B24: Viernes | C24: Laboral | D24: 09:00 | E24: 17:30 | F24: 30 | G24: 8 | H24: =IF(OR(D24="",E24=""),0,ROUND((IF(ISNUMBER(E24),E24,TIMEVALUE(E24))-IF(ISNUMBER(D24),D24,TIMEVALUE(D24)))*24-F24/60,2)) | I24: =MAX(0,ROUND(H24-G24,2))
A25: 24/10/2026 | B25: Sábado | C25: Descanso | F25: 0 | G25: 0 | H25: =IF(OR(D25="",E25=""),0,ROUND((IF(ISNUMBER(E25),E25,TIMEVALUE(E25))-IF(ISNUMBER(D25),D25,TIMEVALUE(D25)))*24-F25/60,2)) | I25: =MAX(0,ROUND(H25-G25,2))
A26: 25/10/2026 | B26: Domingo | C26: Descanso | F26: 0 | G26: 0 | H26: =IF(OR(D26="",E26=""),0,ROUND((IF(ISNUMBER(E26),E26,TIMEVALUE(E26))-IF(ISNUMBER(D26),D26,TIMEVALUE(D26)))*24-F26/60,2)) | I26: =MAX(0,ROUND(H26-G26,2))
A27: 26/10/2026 | B27: Lunes | C27: Laboral | D27: 09:00 | E27: 17:30 | F27: 30 | G27: 8 | H27: =IF(OR(D27="",E27=""),0,ROUND((IF(ISNUMBER(E27),E27,TIMEVALUE(E27))-IF(ISNUMBER(D27),D27,TIMEVALUE(D27)))*24-F27/60,2)) | I27: =MAX(0,ROUND(H27-G27,2))
A28: 27/10/2026 | B28: Martes | C28: Laboral | D28: 09:00 | E28: 17:30 | F28: 30 | G28: 8 | H28: =IF(OR(D28="",E28=""),0,ROUND((IF(ISNUMBER(E28),E28,TIMEVALUE(E28))-IF(ISNUMBER(D28),D28,TIMEVALUE(D28)))*24-F28/60,2)) | I28: =MAX(0,ROUND(H28-G28,2))
A29: 28/10/2026 | B29: Miércoles | C29: Laboral | D29: 08:30 | E29: 17:30 | F29: 60 | G29: 8 | H29: =IF(OR(D29="",E29=""),0,ROUND((IF(ISNUMBER(E29),E29,TIMEVALUE(E29))-IF(ISNUMBER(D29),D29,TIMEVALUE(D29)))*24-F29/60,2)) | I29: =MAX(0,ROUND(H29-G29,2))
A30: 29/10/2026 | B30: Jueves | C30: Laboral | D30: 09:00 | E30: 17:30 | F30: 30 | G30: 8 | H30: =IF(OR(D30="",E30=""),0,ROUND((IF(ISNUMBER(E30),E30,TIMEVALUE(E30))-IF(ISNUMBER(D30),D30,TIMEVALUE(D30)))*24-F30/60,2)) | I30: =MAX(0,ROUND(H30-G30,2))
A31: 30/10/2026 | B31: Viernes | C31: Laboral | D31: 09:00 | E31: 17:00 | F31: 0 | G31: 8 | H31: =IF(OR(D31="",E31=""),0,ROUND((IF(ISNUMBER(E31),E31,TIMEVALUE(E31))-IF(ISNUMBER(D31),D31,TIMEVALUE(D31)))*24-F31/60,2)) | I31: =MAX(0,ROUND(H31-G31,2)) | J31: Jornada intensiva
A32: 31/10/2026 | B32: Sábado | C32: Descanso | F32: 0 | G32: 0 | H32: =IF(OR(D32="",E32=""),0,ROUND((IF(ISNUMBER(E32),E32,TIMEVALUE(E32))-IF(ISNUMBER(D32),D32,TIMEVALUE(D32)))*24-F32/60,2)) | I32: =MAX(0,ROUND(H32-G32,2))
A33: Total | F33: =SUM(F2:F32) | G33: =SUM(G2:G32) | H33: =SUM(H2:H32) | I33: =SUM(I2:I32)

Sheet Resumen
A1: Concepto | B1: Valor
A2: Empleado | B2: Carmen Ruiz Vidal
A3: Mes | B3: Octubre de 2026
A4: Días laborales trabajados | B4: =COUNTIFS('Registro mensual'!C2:C32,"Laboral",'Registro mensual'!H2:H32,">0")
A5: Días de vacaciones | B5: =COUNTIF('Registro mensual'!C2:C32,"Vacaciones")
A6: Días de baja | B6: =COUNTIF('Registro mensual'!C2:C32,"Baja")
A7: Días festivos | B7: =COUNTIF('Registro mensual'!C2:C32,"Festivo")
A8: Horas previstas | B8: =SUM('Registro mensual'!G2:G32)
A9: Horas trabajadas | B9: =SUM('Registro mensual'!H2:H32)
A10: Horas extra | B10: =SUM('Registro mensual'!I2:I32)
A11: Saldo de horas (trabajadas - previstas) | B11: =B9-B8
