Workbook

Sheet ConMáximo
B1: Nº. DE PRESTAMO:
B5: FINCA REGISTRAL: | E5: Periodo de revision | G5: 12
B6: PRIMER TITULAR: | E6: Diferencial | G6: 0.4
B7: ENTIDAD ACREEDORA: | E7: Minimo | G7: 5
B8: FECHA DE CONCESIÓN: | D8: 38903 | E8: Euribor | F8: *** SÓLO MODIFICAR LOS DATOS EN ROJO | G8: =+VLOOKUP(CONCATENATE(YEAR(D8),TEXT(MONTH(D8),"00")),Euribor!$A:$E,4,) -> 3.539
B9: DURACIÓN PTMO. | D9: 30 | E9: AÑOS
B11: capital | C11: años | D11: interés anual | E11: períodos año | F11: comisión | G11: fecha último vencimiento | H11: cuota fija anual | I11: número de cuotas | M11: =3.615+G6 -> 4.015
B12: 100000 | C12: 30 | D12: =MAX(G7,SUM($G$8,$G$6)) -> 5 | E12: 12 | F12: 0 | G12: =+D8+(D9*365)+(D9/4)+1 -> 49861.5 | H12: =+B12*(POWER(1+(D12+F12)/E12/100,C12*E12)*((D12+F12)/E12/100))/(POWER(1+(D12+F12)/E12/100,C12*E12)-1) -> 536.82162 | I12: =+C12*E12 -> 360 | L12: =+IF(MONTH($G$12)>MONTH(A15),YEAR($G$12)-YEAR(A15)+1,YEAR($G$12)-YEAR(A15)) -> 30 | O12: =+(YEAR($G$12)-YEAR(A15))*12+MONTH($G$12)-MONTH(A15)+1 -> 360
J13: después de la liquidación | L13: Fecha revisión tipo interés | M13: Tipo Interés | N13: Capital | O13: Meses restantes (considerando periodo de revisión)
A14: Fecha | B14: nº. Períodos | C14: pendiente, antes de liquidación | D14: Amortización | E14: Interés | F14: Comisión | G14: pendiente, después de liquidación | H14: Cuota a pagar | I14: Fechas vencimiento | J14: Amortización acumulada | K14: cuotas pendientes | M14: =MAX(G7,SUM($G$8,$G$6)) -> 5 | N14: =+B12 -> 100000 | O14: =+I12 -> 360
A15: =EDATE(D8,1) -> 38934 | B15: 1 cuota | C15: =+N14 -> 100000 | D15: =+(H15-E15-F15)-0.005 -> 120.14996 | E15: =+C15*$M$15/100/$E$12 -> 416.66667 | F15: =+C15*$F$12/100/$E$12 -> 0 | G15: =+C15-D15 -> 99879.85 | H15: =+N15*(POWER(1+(M15+$F$12)/$E$12/100,O15)*((M15+$F$12)/$E$12/100))/(POWER(1+(M15+$F$12)/$E$12/100,O15)-1) -> 536.82162 | I15: =+A15 -> 38934 | J15: =+D15 -> 120.14996 | K15: =+I12-1 -> 359 | L15: =+IF(MOD((YEAR(A15)-YEAR($D$8))*12+MONTH(A15)-MONTH($D$8),$G$5)=0,CONCATENATE(YEAR(A15),TEXT(MONTH(A15),"00")),0) -> 0 | M15: =+IFERROR(MAX($G$7,VLOOKUP(L15,Euribor!$A:$E,4,)+$G$6),M14) -> 5 | N15: =+IF(L15<>0,C15,N14) -> 100000 | O15: =+IF(MOD((YEAR(A15)-YEAR($D$8))*12+MONTH(A15)-MONTH($D$8),$G$5)=0,DATEDIF(A15,$G$12,"M")+1,O14) -> 360
A16: =EDATE(A15,1) -> 38965 | B16: 2 cuota | C16: =+C15-D15 -> 99879.85 | D16: =+H16-E16-F16 -> 120.65558 | E16: =+C16*$M$15/100/$E$12 -> 416.16604 | F16: =+C16*$F$12/100/$E$12 -> 0 | G16: =+C16-D16 -> 99759.194 | H16: =+N16*(POWER(1+(M16+$F$12)/$E$12/100,O16)*((M16+$F$12)/$E$12/100))/(POWER(1+(M16+$F$12)/$E$12/100,O16)-1) -> 536.82162 | I16: =+A16 -> 38965 | J16: =+J15+D16 -> 240.80554 | K16: =+K15-1 -> 358 | L16: =+IF(MOD((YEAR(A16)-YEAR($D$8))*12+MONTH(A16)-MONTH($D$8),$G$5)=0,CONCATENATE(YEAR(A16),TEXT(MONTH(A16),"00")),0) -> 0 | M16: =+IFERROR(MAX($G$7,VLOOKUP(L16,Euribor!$A:$E,4,)+$G$6),M15) -> 5 | N16: =+IF(L16<>0,C16,N15) -> 100000 | O16: =+IF(MOD((YEAR(A16)-YEAR($D$8))*12+MONTH(A16)-MONTH($D$8),$G$5)=0,DATEDIF(A16,$G$12,"M")+1,O15) -> 360
A17: =EDATE(A16,1) -> 38995 | B17: 3 cuota | C17: =+C16-D16 -> 99759.194 | D17: =+H17-E17-F17 -> 121.15831 | E17: =+C17*$M$15/100/$E$12 -> 415.66331 | F17: =+C17*$F$12/100/$E$12 -> 0 | G17: =+C17-D17 -> 99638.036 | H17: =+N17*(POWER(1+(M17+$F$12)/$E$12/100,O17)*((M17+$F$12)/$E$12/100))/(POWER(1+(M17+$F$12)/$E$12/100,O17)-1) -> 536.82162 | I17: =+A17 -> 38995 | J17: =+J16+D17 -> 361.96385 | K17: =+K16-1 -> 357 | L17: =+IF(MOD((YEAR(A17)-YEAR($D$8))*12+MONTH(A17)-MONTH($D$8),$G$5)=0,CONCATENATE(YEAR(A17),TEXT(MONTH(A17),"00")),0) -> 0 | M17: =+IFERROR(MAX($G$7,VLOOKUP(L17,Euribor!$A:$E,4,)+$G$6),M16) -> 5 | N17: =+IF(L17<>0,C17,N16) -> 100000 | O17: =+IF(MOD((YEAR(A17)-YEAR($D$8))*12+MONTH(A17)-MONTH($D$8),$G$5)=0,DATEDIF(A17,$G$12,"M")+1,O16) -> 360
A18: =EDATE(A17,1) -> 39026 | B18: 4 cuota | C18: =+C17-D17 -> 99638.036 | D18: =+H18-E18-F18 -> 121.66314 | E18: =+C18*$M$15/100/$E$12 -> 415.15848 | F18: =+C18*$F$12/100/$E$12 -> 0 | G18: =+C18-D18 -> 99516.373 | H18: =+N18*(POWER(1+(M18+$F$12)/$E$12/100,O18)*((M18+$F$12)/$E$12/100))/(POWER(1+(M18+$F$12)/$E$12/100,O18)-1) -> 536.82162 | I18: =+A18 -> 39026 | J18: =+J17+D18 -> 483.62699 | K18: =+K17-1 -> 356 | L18: =+IF(MOD((YEAR(A18)-YEAR($D$8))*12+MONTH(A18)-MONTH($D$8),$G$5)=0,CONCATENATE(YEAR(A18),TEXT(MONTH(A18),"00")),0) -> 0 | M18: =+IFERROR(MAX($G$7,VLOOKUP(L18,Euribor!$A:$E,4,)+$G$6),M17) -> 5 | N18: =+IF(L18<>0,C18,N17) -> 100000 | O18: =+IF(MOD((YEAR(A18)-YEAR($D$8))*12+MONTH(A18)-MONTH($D$8),$G$5)=0,DATEDIF(A18,$G$12,"M")+1,O17) -> 360
A19: =EDATE(A18,1) -> 39056 | B19: 5 cuota | C19: =+C18-D18 -> 99516.373 | D19: =+H19-E19-F19 -> 122.17007 | E19: =+C19*$M$15/100/$E$12 -> 414.65155 | F19: =+C19*$F$12/100/$E$12 -> 0 | G19: =+C19-D19 -> 99394.203 | H19: =+N19*(POWER(1+(M19+$F$12)/$E$12/100,O19)*((M19+$F$12)/$E$12/100))/(POWER(1+(M19+$F$12)/$E$12/100,O19)-1) -> 536.82162 | I19: =+A19 -> 39056 | J19: =+J18+D19 -> 605.79706 | K19: =+K18-1 -> 355 | L19: =+IF(MOD((YEAR(A19)-YEAR($D$8))*12+MONTH(A19)-MONTH($D$8),$G$5)=0,CONCATENATE(YEAR(A19),TEXT(MONTH(A19),"00")),0) -> 0 | M19: =+IFERROR(MAX($G$7,VLOOKUP(L19,Euribor!$A:$E,4,)+$G$6),M18) -> 5 | N19: =+IF(L19<>0,C19,N18) -> 100000 | O19: =+IF(MOD((YEAR(A19)-YEAR($D$8))*12+MONTH(A19)-MONTH($D$8),$G$5)=0,DATEDIF(A19,$G$12,"M")+1,O18) -> 360
A20: =EDATE(A19,1) -> 39087 | B20: 6 cuota | C20: =+C19-D19 -> 99394.203 | D20: =+H20-E20-F20 -> 122.67911 | E20: =+C20*$M$15/100/$E$12 -> 414.14251 | F20: =+C20*$F$12/100/$E$12 -> 0 | G20: =+C20-D20 -> 99271.524 | H20: =+N20*(POWER(1+(M20+$F$12)/$E$12/100,O20)*((M20+$F$12)/$E$12/100))/(POWER(1+(M20+$F$12)/$E$12/100,O20)-1) -> 536.82162 | I20: =+A20 -> 39087 | J20: =+J19+D20 -> 728.47617 | K20: =+K19-1 -> 354 | L20: =+IF(MOD((YEAR(A20)-YEAR($D$8))*12+MONTH(A20)-MONTH($D$8),$G$5)=0,CONCATENATE(YEAR(A20),TEXT(MONTH(A20),"00")),0) -> 0 | M20: =+IFERROR(MAX($G$7,VLOOKUP(L20,Euribor!$A:$E,4,)+$G$6),M19) -> 5 | N20: =+IF(L20<>0,C20,N19) -> 100000 | O20: =+IF(MOD((YEAR(A20)-YEAR($D$8))*12+MONTH(A20)-MONTH($D$8),$G$5)=0,DATEDIF(A20,$G$12,"M")+1,O19) -> 360
A21: =EDATE(A20,1) -> 39118 | B21: 7 cuota | C21: =+C20-D20 -> 99271.524 | D21: =+H21-E21-F21 -> 123.19027 | E21: =+C21*$M$15/100/$E$12 -> 413.63135 | F21: =+C21*$F$12/100/$E$12 -> 0 | G21: =+C21-D21 -> 99148.334 | H21: =+N21*(POWER(1+(M21+$F$12)/$E$12/100,O21)*((M21+$F$12)/$E$12/100))/(POWER(1+(M21+$F$12)/$E$12/100,O21)-1) -> 536.82162 | I21: =+A21 -> 39118 | J21: =+J20+D21 -> 851.66644 | K21: =+K20-1 -> 353 | L21: =+IF(MOD((YEAR(A21)-YEAR($D$8))*12+MONTH(A21)-MONTH($D$8),$G$5)=0,CONCATENATE(YEAR(A21),TEXT(MONTH(A21),"00")),0) -> 0 | M21: =+IFERROR(MAX($G$7,VLOOKUP(L21,Euribor!$A:$E,4,)+$G$6),M20) -> 5 | N21: =+IF(L21<>0,C21,N20) -> 100000 | O21: =+IF(MOD((YEAR(A21)-YEAR($D$8))*12+MONTH(A21)-MONTH($D$8),$G$5)=0,DATEDIF(A21,$G$12,"M")+1,O20) -> 360
A22: =EDATE(A21,1) -> 39146 | B22: 8 cuota | C22: =+C21-D21 -> 99148.334 | D22: =+H22-E22-F22 -> 123.70357 | E22: =+C22*$M$15/100/$E$12 -> 413.11806 | F22: =+C22*$F$12/100/$E$12 -> 0 | G22: =+C22-D22 -> 99024.63 | H22: =+N22*(POWER(1+(M22+$F$12)/$E$12/100,O22)*((M22+$F$12)/$E$12/100))/(POWER(1+(M22+$F$12)/$E$12/100,O22)-1) -> 536.82162 | I22: =+A22 -> 39146 | J22: =+J21+D22 -> 975.37001 | K22: =+K21-1 -> 352 | L22: =+IF(MOD((YEAR(A22)-YEAR($D$8))*12+MONTH(A22)-MONTH($D$8),$G$5)=0,CONCATENATE(YEAR(A22),TEXT(MONTH(A22),"00")),0) -> 0 | M22: =+IFERROR(MAX($G$7,VLOOKUP(L22,Euribor!$A:$E,4,)+$G$6),M21) -> 5 | N22: =+IF(L22<>0,C22,N21) -> 100000 | O22: =+IF(MOD((YEAR(A22)-YEAR($D$8))*12+MONTH(A22)-MONTH($D$8),$G$5)=0,DATEDIF(A22,$G$12,"M")+1,O21) -> 360
A23: =EDATE(A22,1) -> 39177 | B23: 9 cuota | C23: =+C22-D22 -> 99024.63 | D23: =+H23-E23-F23 -> 124.219 | E23: =+C23*$M$15/100/$E$12 -> 412.60262 | F23: =+C23*$F$12/100/$E$12 -> 0 | G23: =+C23-D23 -> 98900.411 | H23: =+N23*(POWER(1+(M23+$F$12)/$E$12/100,O23)*((M23+$F$12)/$E$12/100))/(POWER(1+(M23+$F$12)/$E$12/100,O23)-1) -> 536.82162 | I23: =+A23 -> 39177 | J23: =+J22+D23 -> 1099.589 | K23: =+K22-1 -> 351 | L23: =+IF(MOD((YEAR(A23)-YEAR($D$8))*12+MONTH(A23)-MONTH($D$8),$G$5)=0,CONCATENATE(YEAR(A23),TEXT(MONTH(A23),"00")),0) -> 0 | M23: =+IFERROR(MAX($G$7,VLOOKUP(L23,Euribor!$A:$E,4,)+$G$6),M22) -> 5 | N23: =+IF(L23<>0,C23,N22) -> 100000 | O23: =+IF(MOD((YEAR(A23)-YEAR($D$8))*12+MONTH(A23)-MONTH($D$8),$G$5)=0,DATEDIF(A23,$G$12,"M")+1,O22) -> 360
A24: =EDATE(A23,1) -> 39207 | B24: 10 cuotas | C24: =+C23-D23 -> 98900.411 | D24: =+H24-E24-F24 -> 124.73658 | E24: =+C24*$M$15/100/$E$12 -> 412.08505 | F24: =+C24*$F$12/100/$E$12 -> 0 | G24: =+C24-D24 -> 98775.674 | H24: =+N24*(POWER(1+(M24+$F$12)/$E$12/100,O24)*((M24+$F$12)/$E$12/100))/(POWER(1+(M24+$F$12)/$E$12/100,O24)-1) -> 536.82162 | I24: =+A24 -> 39207 | J24: =+J23+D24 -> 1224.3256 | K24: =+K23-1 -> 350 | L24: =+IF(MOD((YEAR(A24)-YEAR($D$8))*12+MONTH(A24)-MONTH($D$8),$G$5)=0,CONCATENATE(YEAR(A24),TEXT(MONTH(A24),"00")),0) -> 0 | M24: =+IFERROR(MAX($G$7,VLOOKUP(L24,Euribor!$A:$E,4,)+$G$6),M23) -> 5 | N24: =+IF(L24<>0,C24,N23) -> 100000 | O24: =+IF(MOD((YEAR(A24)-YEAR($D$8))*12+MONTH(A24)-MONTH($D$8),$G$5)=0,DATEDIF(A24,$G$12,"M")+1,O23) -> 360
A25: =EDATE(A24,1) -> 39238 | B25: 11 cuotas | C25: =+C24-D24 -> 98775.674 | D25: =+H25-E25-F25 -> 125.25631 | E25: =+C25*$M$15/100/$E$12 -> 411.56531 | F25: =+C25*$F$12/100/$E$12 -> 0 | G25: =+C25-D25 -> 98650.418 | H25: =+N25*(POWER(1+(M25+$F$12)/$E$12/100,O25)*((M25+$F$12)/$E$12/100))/(POWER(1+(M25+$F$12)/$E$12/100,O25)-1) -> 536.82162 | I25: =+A25 -> 39238 | J25: =+J24+D25 -> 1349.5819 | K25: =+K24-1 -> 349 | L25: =+IF(MOD((YEAR(A25)-YEAR($D$8))*12+MONTH(A25)-MONTH($D$8),$G$5)=0,CONCATENATE(YEAR(A25),TEXT(MONTH(A25),"00")),0) -> 0 | M25: =+IFERROR(MAX($G$7,VLOOKUP(L25,Euribor!$A:$E,4,)+$G$6),M24) -> 5 | N25: =+IF(L25<>0,C25,N24) -> 100000 | O25: =+IF(MOD((YEAR(A25)-YEAR($D$8))*12+MONTH(A25)-MONTH($D$8),$G$5)=0,DATEDIF(A25,$G$12,"M")+1,O24) -> 360
A26: =EDATE(A25,1) -> 39268 | B26: 12 cuotas | C26: =+C25-D25 -> 98650.418 | D26: =+H26-E26-F26 -> 125.77824 | E26: =+C26*$M$15/100/$E$12 -> 411.04341 | F26: =+C26*$F$12/100/$E$12 -> 0 | G26: =+C26-D26 -> 98524.64 | H26: =+N26*(POWER(1+(M26+$F$12)/$E$12/100,O26)*((M26+$F$12)/$E$12/100))/(POWER(1+(M26+$F$12)/$E$12/100,O26)-1) -> 536.82165 | I26: =+A26 -> 39268 | J26: =+J25+D26 -> 1475.3601 | K26: =+K25-1 -> 348 | L26: =+IF(MOD((YEAR(A26)-YEAR($D$8))*12+MONTH(A26)-MONTH($D$8),$G$5)=0,CONCATENATE(YEAR(A26),TEXT(MONTH(A26),"00")),0) -> 200707 | M26: =+IFERROR(MAX($G$7,VLOOKUP(L26,Euribor!$A:$E,4,)+$G$6),M25) -> 5 | N26: =+IF(L26<>0,C26,N25) -> 98650.418 | O26: =+IF(MOD((YEAR(A26)-YEAR($D$8))*12+MONTH(A26)-MONTH($D$8),$G$5)=0,DATEDIF(A26,$G$12,"M")+1,O25) -> 349
A27: =EDATE(A26,1) -> 39299 | B27: 13 cuotas | C27: =+C26-D26 -> 98524.64 | D27: =+H27-E27-F27 -> 126.30232 | E27: =+C27*$M$15/100/$E$12 -> 410.51933 | F27: =+C27*$F$12/100/$E$12 -> 0 | G27: =+C27-D27 -> 98398.338 | H27: =+N27*(POWER(1+(M27+$F$12)/$E$12/100,O27)*((M27+$F$12)/$E$12/100))/(POWER(1+(M27+$F$12)/$E$12/100,O27)-1) -> 536.82165 | I27: =+A27 -> 39299 | J27: =+J26+D27 -> 1601.6625 | K27: =+K26-1 -> 347 | L27: =+IF(MOD((YEAR(A27)-YEAR($D$8))*12+MONTH(A27)-MONTH($D$8),$G$5)=0,CONCATENATE(YEAR(A27),TEXT(MONTH(A27),"00")),0) -> 0 | M27: =+IFERROR(MAX($G$7,VLOOKUP(L27,Euribor!$A:$E,4,)+$G$6),M26) -> 5 | N27: =+IF(L27<>0,C27,N26) -> 98650.418 | O27: =+IF(MOD((YEAR(A27)-YEAR($D$8))*12+MONTH(A27)-MONTH($D$8),$G$5)=0,DATEDIF(A27,$G$12,"M")+1,O26) -> 349
... A374: =EDATE(A373,1) -> 49861 | B374: 360 cuotas | C374: =+C373-D373 -> 531.34981 | D374: =+H374-E374-F374 -> 531.34981 | E374: =+C374*$M$15/100/$E$12 -> 2.2139575 | F374: =+C374*$F$12/100/$E$12 -> 0 | G374: =+C374-D374 -> -1.8189894e-12 | H374: =+N374*(POWER(1+(M374+$F$12)/$E$12/100,O374)*((M374+$F$12)/$E$12/100))/(POWER(1+(M374+$F$12)/$E$12/100,O374)-1) -> 533.56377 | I374: =+A374 -> 49861 | J374: =+J373+D374 -> 100000 | K374: =+K373-1 -> 0 | L374: =+IF(MOD((YEAR(A374)-YEAR($D$8))*12+MONTH(A374)-MONTH($D$8),$G$5)=0,CONCATENATE(YEAR(A374),TEXT(MONTH(A374),"00")),0) -> 203607 | M374: =+IFERROR(MAX($G$7,VLOOKUP(L374,Euribor!$A:$E,4,)+$G$6),M373) -> 5 | N374: =+IF(L374<>0,C374,N373) -> 531.34981 | O374: =+IF(MOD((YEAR(A374)-YEAR($D$8))*12+MONTH(A374)-MONTH($D$8),$G$5)=0,DATEDIF(A374,$G$12,"M")+1,O373) -> 1
D375: =SUM(D15:D374) -> 100000 | E375: =SUM(E15:E374) -> 92763.285 | G375: =SUM(G15:G374) -> 22163188

Sheet SinMáximo
B1: Nº. DE PRESTAMO: | D1: 963-7777777
B5: FINCA REGISTRAL: | D5: 111111 | E5: periodo de revision | G5: =+ConMáximo!G5 -> 12
B6: PRIMER TITULAR: | D6: XXXXXXXXXXX | E6: Diferencial | G6: =+ConMáximo!G6 -> 0.4
B7: ENTIDAD ACREEDORA: | E7: Minimo | G7: 0
B8: FECHA DE CONCESIÓN: | D8: =+ConMáximo!D8 -> 38903 | E8: Euribor | F8: *** SÓLO MODIFICAR LOS DATOS EN ROJO | G8: =+ConMáximo!G8 -> 3.539
B9: DURACIÓN PTMO. | D9: =+ConMáximo!D9 -> 30 | E9: AÑOS | G9: =+ConMáximo!G9 -> 0
B11: capital | C11: años | D11: interés anual | E11: períodos año | F11: comisión | G11: fecha último vencimiento | H11: cuota fija anual | I11: número de cuotas | M11: =3.615+G6 -> 4.015
B12: =+ConMáximo!B12 -> 100000 | C12: =+ConMáximo!C12 -> 30 | D12: =+ConMáximo!D12 -> 5 | E12: =+ConMáximo!E12 -> 12 | F12: =+ConMáximo!F12 -> 0 | G12: =+ConMáximo!G12 -> 49861.5 | H12: =+ConMáximo!H12 -> 536.82162 | I12: =+ConMáximo!I12 -> 360 | L12: =+IF(MONTH($G$12)>MONTH(A15),YEAR($G$12)-YEAR(A15)+1,YEAR($G$12)-YEAR(A15)) -> 30 | O12: =+(YEAR($G$12)-YEAR(A15))*12+MONTH($G$12)-MONTH(A15)+1 -> 360
J13: después de la liquidación | L13: Fecha revisión tipo interés | M13: Tipo Interés | N13: Capital | O13: Meses restantes (considerando periodo de revisión)
A14: Fecha | B14: nº. Períodos | C14: pendiente, antes de liquidación | D14: Amortización | E14: Interés | F14: Comisión | G14: pendiente, después de liquidación | H14: Cuota a pagar | I14: Fechas vencimiento | J14: Amortización acumulada | K14: cuotas pendientes | M14: =MAX(G7,SUM($G$8,$G$6)) -> 3.939 | N14: =+B12 -> 100000 | O14: =+I12 -> 360
A15: =EDATE(D8,1) -> 38934 | B15: 1 cuota | C15: =+N14 -> 100000 | D15: =+(H15-E15-F15)-0.005 -> 145.65027 | E15: =+C15*$M$15/100/$E$12 -> 328.25 | F15: =+C15*$F$12/100/$E$12 -> 0 | G15: =+C15-D15 -> 99854.35 | H15: =+N15*(POWER(1+(M15+$F$12)/$E$12/100,O15)*((M15+$F$12)/$E$12/100))/(POWER(1+(M15+$F$12)/$E$12/100,O15)-1) -> 473.90527 | I15: =+A15 -> 38934 | J15: =+D15 -> 145.65027 | K15: =+I12-1 -> 359 | L15: =+IF(MOD((YEAR(A15)-YEAR($D$8))*12+MONTH(A15)-MONTH($D$8),$G$5)=0,CONCATENATE(YEAR(A15),TEXT(MONTH(A15),"00")),0) -> 0 | M15: =+IFERROR(MAX($G$7,VLOOKUP(L15,Euribor!$A:$E,4,)+$G$6),M14) -> 3.939 | N15: =+IF(L15<>0,C15,N14) -> 100000 | O15: =+IF(MOD((YEAR(A15)-YEAR($D$8))*12+MONTH(A15)-MONTH($D$8),$G$5)=0,DATEDIF(A15,$G$12,"M")+1,O14) -> 360
A16: =EDATE(A15,1) -> 38965 | B16: 2 cuota | C16: =+C15-D15 -> 99854.35 | D16: =+H16-E16-F16 -> 146.13337 | E16: =+C16*$M$15/100/$E$12 -> 327.7719 | F16: =+C16*$F$12/100/$E$12 -> 0 | G16: =+C16-D16 -> 99708.216 | H16: =+N16*(POWER(1+(M16+$F$12)/$E$12/100,O16)*((M16+$F$12)/$E$12/100))/(POWER(1+(M16+$F$12)/$E$12/100,O16)-1) -> 473.90527 | I16: =+A16 -> 38965 | J16: =+J15+D16 -> 291.78364 | K16: =+K15-1 -> 358 | L16: =+IF(MOD((YEAR(A16)-YEAR($D$8))*12+MONTH(A16)-MONTH($D$8),$G$5)=0,CONCATENATE(YEAR(A16),TEXT(MONTH(A16),"00")),0) -> 0 | M16: =+IFERROR(MAX($G$7,VLOOKUP(L16,Euribor!$A:$E,4,)+$G$6),M15) -> 3.939 | N16: =+IF(L16<>0,C16,N15) -> 100000 | O16: =+IF(MOD((YEAR(A16)-YEAR($D$8))*12+MONTH(A16)-MONTH($D$8),$G$5)=0,DATEDIF(A16,$G$12,"M")+1,O15) -> 360
A17: =EDATE(A16,1) -> 38995 | B17: 3 cuota | C17: =+C16-D16 -> 99708.216 | D17: =+H17-E17-F17 -> 146.61305 | E17: =+C17*$M$15/100/$E$12 -> 327.29222 | F17: =+C17*$F$12/100/$E$12 -> 0 | G17: =+C17-D17 -> 99561.603 | H17: =+N17*(POWER(1+(M17+$F$12)/$E$12/100,O17)*((M17+$F$12)/$E$12/100))/(POWER(1+(M17+$F$12)/$E$12/100,O17)-1) -> 473.90527 | I17: =+A17 -> 38995 | J17: =+J16+D17 -> 438.3967 | K17: =+K16-1 -> 357 | L17: =+IF(MOD((YEAR(A17)-YEAR($D$8))*12+MONTH(A17)-MONTH($D$8),$G$5)=0,CONCATENATE(YEAR(A17),TEXT(MONTH(A17),"00")),0) -> 0 | M17: =+IFERROR(MAX($G$7,VLOOKUP(L17,Euribor!$A:$E,4,)+$G$6),M16) -> 3.939 | N17: =+IF(L17<>0,C17,N16) -> 100000 | O17: =+IF(MOD((YEAR(A17)-YEAR($D$8))*12+MONTH(A17)-MONTH($D$8),$G$5)=0,DATEDIF(A17,$G$12,"M")+1,O16) -> 360
A18: =EDATE(A17,1) -> 39026 | B18: 4 cuota | C18: =+C17-D17 -> 99561.603 | D18: =+H18-E18-F18 -> 147.09431 | E18: =+C18*$M$15/100/$E$12 -> 326.81096 | F18: =+C18*$F$12/100/$E$12 -> 0 | G18: =+C18-D18 -> 99414.509 | H18: =+N18*(POWER(1+(M18+$F$12)/$E$12/100,O18)*((M18+$F$12)/$E$12/100))/(POWER(1+(M18+$F$12)/$E$12/100,O18)-1) -> 473.90527 | I18: =+A18 -> 39026 | J18: =+J17+D18 -> 585.49101 | K18: =+K17-1 -> 356 | L18: =+IF(MOD((YEAR(A18)-YEAR($D$8))*12+MONTH(A18)-MONTH($D$8),$G$5)=0,CONCATENATE(YEAR(A18),TEXT(MONTH(A18),"00")),0) -> 0 | M18: =+IFERROR(MAX($G$7,VLOOKUP(L18,Euribor!$A:$E,4,)+$G$6),M17) -> 3.939 | N18: =+IF(L18<>0,C18,N17) -> 100000 | O18: =+IF(MOD((YEAR(A18)-YEAR($D$8))*12+MONTH(A18)-MONTH($D$8),$G$5)=0,DATEDIF(A18,$G$12,"M")+1,O17) -> 360
A19: =EDATE(A18,1) -> 39056 | B19: 5 cuota | C19: =+C18-D18 -> 99414.509 | D19: =+H19-E19-F19 -> 147.57715 | E19: =+C19*$M$15/100/$E$12 -> 326.32813 | F19: =+C19*$F$12/100/$E$12 -> 0 | G19: =+C19-D19 -> 99266.932 | H19: =+N19*(POWER(1+(M19+$F$12)/$E$12/100,O19)*((M19+$F$12)/$E$12/100))/(POWER(1+(M19+$F$12)/$E$12/100,O19)-1) -> 473.90527 | I19: =+A19 -> 39056 | J19: =+J18+D19 -> 733.06815 | K19: =+K18-1 -> 355 | L19: =+IF(MOD((YEAR(A19)-YEAR($D$8))*12+MONTH(A19)-MONTH($D$8),$G$5)=0,CONCATENATE(YEAR(A19),TEXT(MONTH(A19),"00")),0) -> 0 | M19: =+IFERROR(MAX($G$7,VLOOKUP(L19,Euribor!$A:$E,4,)+$G$6),M18) -> 3.939 | N19: =+IF(L19<>0,C19,N18) -> 100000 | O19: =+IF(MOD((YEAR(A19)-YEAR($D$8))*12+MONTH(A19)-MONTH($D$8),$G$5)=0,DATEDIF(A19,$G$12,"M")+1,O18) -> 360
A20: =EDATE(A19,1) -> 39087 | B20: 6 cuota | C20: =+C19-D19 -> 99266.932 | D20: =+H20-E20-F20 -> 148.06157 | E20: =+C20*$M$15/100/$E$12 -> 325.8437 | F20: =+C20*$F$12/100/$E$12 -> 0 | G20: =+C20-D20 -> 99118.87 | H20: =+N20*(POWER(1+(M20+$F$12)/$E$12/100,O20)*((M20+$F$12)/$E$12/100))/(POWER(1+(M20+$F$12)/$E$12/100,O20)-1) -> 473.90527 | I20: =+A20 -> 39087 | J20: =+J19+D20 -> 881.12972 | K20: =+K19-1 -> 354 | L20: =+IF(MOD((YEAR(A20)-YEAR($D$8))*12+MONTH(A20)-MONTH($D$8),$G$5)=0,CONCATENATE(YEAR(A20),TEXT(MONTH(A20),"00")),0) -> 0 | M20: =+IFERROR(MAX($G$7,VLOOKUP(L20,Euribor!$A:$E,4,)+$G$6),M19) -> 3.939 | N20: =+IF(L20<>0,C20,N19) -> 100000 | O20: =+IF(MOD((YEAR(A20)-YEAR($D$8))*12+MONTH(A20)-MONTH($D$8),$G$5)=0,DATEDIF(A20,$G$12,"M")+1,O19) -> 360
A21: =EDATE(A20,1) -> 39118 | B21: 7 cuota | C21: =+C20-D20 -> 99118.87 | D21: =+H21-E21-F21 -> 148.54758 | E21: =+C21*$M$15/100/$E$12 -> 325.35769 | F21: =+C21*$F$12/100/$E$12 -> 0 | G21: =+C21-D21 -> 98970.323 | H21: =+N21*(POWER(1+(M21+$F$12)/$E$12/100,O21)*((M21+$F$12)/$E$12/100))/(POWER(1+(M21+$F$12)/$E$12/100,O21)-1) -> 473.90527 | I21: =+A21 -> 39118 | J21: =+J20+D21 -> 1029.6773 | K21: =+K20-1 -> 353 | L21: =+IF(MOD((YEAR(A21)-YEAR($D$8))*12+MONTH(A21)-MONTH($D$8),$G$5)=0,CONCATENATE(YEAR(A21),TEXT(MONTH(A21),"00")),0) -> 0 | M21: =+IFERROR(MAX($G$7,VLOOKUP(L21,Euribor!$A:$E,4,)+$G$6),M20) -> 3.939 | N21: =+IF(L21<>0,C21,N20) -> 100000 | O21: =+IF(MOD((YEAR(A21)-YEAR($D$8))*12+MONTH(A21)-MONTH($D$8),$G$5)=0,DATEDIF(A21,$G$12,"M")+1,O20) -> 360
A22: =EDATE(A21,1) -> 39146 | B22: 8 cuota | C22: =+C21-D21 -> 98970.323 | D22: =+H22-E22-F22 -> 149.03519 | E22: =+C22*$M$15/100/$E$12 -> 324.87008 | F22: =+C22*$F$12/100/$E$12 -> 0 | G22: =+C22-D22 -> 98821.288 | H22: =+N22*(POWER(1+(M22+$F$12)/$E$12/100,O22)*((M22+$F$12)/$E$12/100))/(POWER(1+(M22+$F$12)/$E$12/100,O22)-1) -> 473.90527 | I22: =+A22 -> 39146 | J22: =+J21+D22 -> 1178.7125 | K22: =+K21-1 -> 352 | L22: =+IF(MOD((YEAR(A22)-YEAR($D$8))*12+MONTH(A22)-MONTH($D$8),$G$5)=0,CONCATENATE(YEAR(A22),TEXT(MONTH(A22),"00")),0) -> 0 | M22: =+IFERROR(MAX($G$7,VLOOKUP(L22,Euribor!$A:$E,4,)+$G$6),M21) -> 3.939 | N22: =+IF(L22<>0,C22,N21) -> 100000 | O22: =+IF(MOD((YEAR(A22)-YEAR($D$8))*12+MONTH(A22)-MONTH($D$8),$G$5)=0,DATEDIF(A22,$G$12,"M")+1,O21) -> 360
A23: =EDATE(A22,1) -> 39177 | B23: 9 cuota | C23: =+C22-D22 -> 98821.288 | D23: =+H23-E23-F23 -> 149.5244 | E23: =+C23*$M$15/100/$E$12 -> 324.38088 | F23: =+C23*$F$12/100/$E$12 -> 0 | G23: =+C23-D23 -> 98671.763 | H23: =+N23*(POWER(1+(M23+$F$12)/$E$12/100,O23)*((M23+$F$12)/$E$12/100))/(POWER(1+(M23+$F$12)/$E$12/100,O23)-1) -> 473.90527 | I23: =+A23 -> 39177 | J23: =+J22+D23 -> 1328.2369 | K23: =+K22-1 -> 351 | L23: =+IF(MOD((YEAR(A23)-YEAR($D$8))*12+MONTH(A23)-MONTH($D$8),$G$5)=0,CONCATENATE(YEAR(A23),TEXT(MONTH(A23),"00")),0) -> 0 | M23: =+IFERROR(MAX($G$7,VLOOKUP(L23,Euribor!$A:$E,4,)+$G$6),M22) -> 3.939 | N23: =+IF(L23<>0,C23,N22) -> 100000 | O23: =+IF(MOD((YEAR(A23)-YEAR($D$8))*12+MONTH(A23)-MONTH($D$8),$G$5)=0,DATEDIF(A23,$G$12,"M")+1,O22) -> 360
A24: =EDATE(A23,1) -> 39207 | B24: 10 cuotas | C24: =+C23-D23 -> 98671.763 | D24: =+H24-E24-F24 -> 150.01521 | E24: =+C24*$M$15/100/$E$12 -> 323.89006 | F24: =+C24*$F$12/100/$E$12 -> 0 | G24: =+C24-D24 -> 98521.748 | H24: =+N24*(POWER(1+(M24+$F$12)/$E$12/100,O24)*((M24+$F$12)/$E$12/100))/(POWER(1+(M24+$F$12)/$E$12/100,O24)-1) -> 473.90527 | I24: =+A24 -> 39207 | J24: =+J23+D24 -> 1478.2521 | K24: =+K23-1 -> 350 | L24: =+IF(MOD((YEAR(A24)-YEAR($D$8))*12+MONTH(A24)-MONTH($D$8),$G$5)=0,CONCATENATE(YEAR(A24),TEXT(MONTH(A24),"00")),0) -> 0 | M24: =+IFERROR(MAX($G$7,VLOOKUP(L24,Euribor!$A:$E,4,)+$G$6),M23) -> 3.939 | N24: =+IF(L24<>0,C24,N23) -> 100000 | O24: =+IF(MOD((YEAR(A24)-YEAR($D$8))*12+MONTH(A24)-MONTH($D$8),$G$5)=0,DATEDIF(A24,$G$12,"M")+1,O23) -> 360
A25: =EDATE(A24,1) -> 39238 | B25: 11 cuotas | C25: =+C24-D24 -> 98521.748 | D25: =+H25-E25-F25 -> 150.50764 | E25: =+C25*$M$15/100/$E$12 -> 323.39764 | F25: =+C25*$F$12/100/$E$12 -> 0 | G25: =+C25-D25 -> 98371.24 | H25: =+N25*(POWER(1+(M25+$F$12)/$E$12/100,O25)*((M25+$F$12)/$E$12/100))/(POWER(1+(M25+$F$12)/$E$12/100,O25)-1) -> 473.90527 | I25: =+A25 -> 39238 | J25: =+J24+D25 -> 1628.7597 | K25: =+K24-1 -> 349 | L25: =+IF(MOD((YEAR(A25)-YEAR($D$8))*12+MONTH(A25)-MONTH($D$8),$G$5)=0,CONCATENATE(YEAR(A25),TEXT(MONTH(A25),"00")),0) -> 0 | M25: =+IFERROR(MAX($G$7,VLOOKUP(L25,Euribor!$A:$E,4,)+$G$6),M24) -> 3.939 | N25: =+IF(L25<>0,C25,N24) -> 100000 | O25: =+IF(MOD((YEAR(A25)-YEAR($D$8))*12+MONTH(A25)-MONTH($D$8),$G$5)=0,DATEDIF(A25,$G$12,"M")+1,O24) -> 360
A26: =EDATE(A25,1) -> 39268 | B26: 12 cuotas | C26: =+C25-D25 -> 98371.24 | D26: =+H26-E26-F26 -> 210.25465 | E26: =+C26*$M$15/100/$E$12 -> 322.9036 | F26: =+C26*$F$12/100/$E$12 -> 0 | G26: =+C26-D26 -> 98160.986 | H26: =+N26*(POWER(1+(M26+$F$12)/$E$12/100,O26)*((M26+$F$12)/$E$12/100))/(POWER(1+(M26+$F$12)/$E$12/100,O26)-1) -> 533.15825 | I26: =+A26 -> 39268 | J26: =+J25+D26 -> 1839.0144 | K26: =+K25-1 -> 348 | L26: =+IF(MOD((YEAR(A26)-YEAR($D$8))*12+MONTH(A26)-MONTH($D$8),$G$5)=0,CONCATENATE(YEAR(A26),TEXT(MONTH(A26),"00")),0) -> 200707 | M26: =+IFERROR(MAX($G$7,VLOOKUP(L26,Euribor!$A:$E,4,)+$G$6),M25) -> 4.964 | N26: =+IF(L26<>0,C26,N25) -> 98371.24 | O26: =+IF(MOD((YEAR(A26)-YEAR($D$8))*12+MONTH(A26)-MONTH($D$8),$G$5)=0,DATEDIF(A26,$G$12,"M")+1,O25) -> 349
A27: =EDATE(A26,1) -> 39299 | B27: 13 cuotas | C27: =+C26-D26 -> 98160.986 | D27: =+H27-E27-F27 -> 210.94481 | E27: =+C27*$M$15/100/$E$12 -> 322.21344 | F27: =+C27*$F$12/100/$E$12 -> 0 | G27: =+C27-D27 -> 97950.041 | H27: =+N27*(POWER(1+(M27+$F$12)/$E$12/100,O27)*((M27+$F$12)/$E$12/100))/(POWER(1+(M27+$F$12)/$E$12/100,O27)-1) -> 533.15825 | I27: =+A27 -> 39299 | J27: =+J26+D27 -> 2049.9592 | K27: =+K26-1 -> 347 | L27: =+IF(MOD((YEAR(A27)-YEAR($D$8))*12+MONTH(A27)-MONTH($D$8),$G$5)=0,CONCATENATE(YEAR(A27),TEXT(MONTH(A27),"00")),0) -> 0 | M27: =+IFERROR(MAX($G$7,VLOOKUP(L27,Euribor!$A:$E,4,)+$G$6),M26) -> 4.964 | N27: =+IF(L27<>0,C27,N26) -> 98371.24 | O27: =+IF(MOD((YEAR(A27)-YEAR($D$8))*12+MONTH(A27)-MONTH($D$8),$G$5)=0,DATEDIF(A27,$G$12,"M")+1,O26) -> 349
... A374: =EDATE(A373,1) -> 49861 | B374: 360 cuotas | C374: =+C373-D373 -> 996.74533 | D374: =+H374-E374-F374 -> 993.75925 | E374: =+C374*$M$15/100/$E$12 -> 3.2718166 | F374: =+C374*$F$12/100/$E$12 -> 0 | G374: =+C374-D374 -> 2.9860829 | H374: =+N374*(POWER(1+(M374+$F$12)/$E$12/100,O374)*((M374+$F$12)/$E$12/100))/(POWER(1+(M374+$F$12)/$E$12/100,O374)-1) -> 997.03107 | I374: =+A374 -> 49861 | J374: =+J373+D374 -> 99997.014 | K374: =+K373-1 -> 0 | L374: =+IF(MOD((YEAR(A374)-YEAR($D$8))*12+MONTH(A374)-MONTH($D$8),$G$5)=0,CONCATENATE(YEAR(A374),TEXT(MONTH(A374),"00")),0) -> 203607 | M374: =+IFERROR(MAX($G$7,VLOOKUP(L374,Euribor!$A:$E,4,)+$G$6),M373) -> 0.344 | N374: =+IF(L374<>0,C374,N373) -> 996.74533 | O374: =+IF(MOD((YEAR(A374)-YEAR($D$8))*12+MONTH(A374)-MONTH($D$8),$G$5)=0,DATEDIF(A374,$G$12,"M")+1,O373) -> 1
D375: =SUM(D15:D374) -> 99997.014 | E375: =SUM(E15:E374) -> 81018.689 | G375: =SUM(G15:G374) -> 24582010

Sheet Diferencia
A2: Fecha desde: | B2: 41404 | D2: Diferencia intereses entre años | E2: Diferencia intereses entre años con el 3%
A3: Fecha hasta: | B3: =+TODAY() -> 43221 | D3: =+SUMIF(C8:C367,TRUE,B8:B367) -> 3481.3928 | E3: =+SUMIF(C8:C367,TRUE,D8:D367) -> 3756.0558
A4: Interes Legal 2016 | B4: 0.03
A7: Fecha | B7: Diferencia Interés | D7: Con interes de demora al 3%
A8: =+ConMáximo!A15 -> 38934 | B8: =+ConMáximo!E15-SinMáximo!E15 -> 88.416667 | C8: =+AND(A8<=$B$3,A8>=$B$2) -> FALSE | D8: =+IF(C8,B8*(1+$B$4*COUNTIF(C9:$C$368,TRUE)/12),"")
A9: =+ConMáximo!A16 -> 38965 | B9: =+ConMáximo!E16-SinMáximo!E16 -> 88.394139 | C9: =+AND(A9<=$B$3,A9>=$B$2) -> FALSE | D9: =+IF(C9,B9*(1+$B$4*COUNTIF(C10:$C$368,TRUE)/12),"")
A10: =+ConMáximo!A17 -> 38995 | B10: =+ConMáximo!E17-SinMáximo!E17 -> 88.37109 | C10: =+AND(A10<=$B$3,A10>=$B$2) -> FALSE | D10: =+IF(C10,B10*(1+$B$4*COUNTIF(C11:$C$368,TRUE)/12),"")
A11: =+ConMáximo!A18 -> 39026 | B11: =+ConMáximo!E18-SinMáximo!E18 -> 88.347521 | C11: =+AND(A11<=$B$3,A11>=$B$2) -> FALSE | D11: =+IF(C11,B11*(1+$B$4*COUNTIF(C12:$C$368,TRUE)/12),"")
A12: =+ConMáximo!A19 -> 39056 | B12: =+ConMáximo!E19-SinMáximo!E19 -> 88.323428 | C12: =+AND(A12<=$B$3,A12>=$B$2) -> FALSE | D12: =+IF(C12,B12*(1+$B$4*COUNTIF(C13:$C$368,TRUE)/12),"")
A13: =+ConMáximo!A20 -> 39087 | B13: =+ConMáximo!E20-SinMáximo!E20 -> 88.298808 | C13: =+AND(A13<=$B$3,A13>=$B$2) -> FALSE | D13: =+IF(C13,B13*(1+$B$4*COUNTIF(C14:$C$368,TRUE)/12),"")
A14: =+ConMáximo!A21 -> 39118 | B14: =+ConMáximo!E21-SinMáximo!E21 -> 88.273658 | C14: =+AND(A14<=$B$3,A14>=$B$2) -> FALSE | D14: =+IF(C14,B14*(1+$B$4*COUNTIF(C15:$C$368,TRUE)/12),"")
A15: =+ConMáximo!A22 -> 39146 | B15: =+ConMáximo!E22-SinMáximo!E22 -> 88.247972 | C15: =+AND(A15<=$B$3,A15>=$B$2) -> FALSE | D15: =+IF(C15,B15*(1+$B$4*COUNTIF(C16:$C$368,TRUE)/12),"")
A16: =+ConMáximo!A23 -> 39177 | B16: =+ConMáximo!E23-SinMáximo!E23 -> 88.221749 | C16: =+AND(A16<=$B$3,A16>=$B$2) -> FALSE | D16: =+IF(C16,B16*(1+$B$4*COUNTIF(C17:$C$368,TRUE)/12),"")
A17: =+ConMáximo!A24 -> 39207 | B17: =+ConMáximo!E24-SinMáximo!E24 -> 88.194983 | C17: =+AND(A17<=$B$3,A17>=$B$2) -> FALSE | D17: =+IF(C17,B17*(1+$B$4*COUNTIF(C18:$C$368,TRUE)/12),"")
A18: =+ConMáximo!A25 -> 39238 | B18: =+ConMáximo!E25-SinMáximo!E25 -> 88.167673 | C18: =+AND(A18<=$B$3,A18>=$B$2) -> FALSE | D18: =+IF(C18,B18*(1+$B$4*COUNTIF(C19:$C$368,TRUE)/12),"")
A19: =+ConMáximo!A26 -> 39268 | B19: =+ConMáximo!E26-SinMáximo!E26 -> 88.139813 | C19: =+AND(A19<=$B$3,A19>=$B$2) -> FALSE | D19: =+IF(C19,B19*(1+$B$4*COUNTIF(C20:$C$368,TRUE)/12),"")
... A367: =+ConMáximo!A374 -> 49861 | B367: =+ConMáximo!E374-SinMáximo!E374 -> -1.057859 | C367: =+AND(A367<=$B$3,A367>=$B$2) -> FALSE | D367: =+IF(C367,B367*(1+$B$4*COUNTIF(C368:$C$368,TRUE)/12),"")

Sheet Euribor
C1: Tipos oficiales de referencia del mercado hipotecario
D2: Referencia interbancaria A 1 Año (Euríbor)
C3: Meses
C4: 2016
A5: =+CONCATENATE(B5,TEXT(C5,"00")) -> 201601 | B5: 2016 | C5: 1 | D5: 0.042 | E5: =+MAX(D5,0) -> 0.042
A6: =+CONCATENATE(B6,TEXT(C6,"00")) -> 201602 | B6: 2016 | C6: 2 | D6: -0.008 | E6: =+MAX(D6,0) -> 0
A7: =+CONCATENATE(B7,TEXT(C7,"00")) -> 201603 | B7: 2016 | C7: 3 | D7: -0.012 | E7: =+MAX(D7,0) -> 0
A8: =+CONCATENATE(B8,TEXT(C8,"00")) -> 201604 | B8: 2016 | C8: 4 | D8: -0.01 | E8: =+MAX(D8,0) -> 0
A9: =+CONCATENATE(B9,TEXT(C9,"00")) -> 201605 | B9: 2016 | C9: 5 | D9: -0.013 | E9: =+MAX(D9,0) -> 0
A10: =+CONCATENATE(B10,TEXT(C10,"00")) -> 201606 | B10: 2016 | C10: 6 | D10: -0.028 | E10: =+MAX(D10,0) -> 0
A11: =+CONCATENATE(B11,TEXT(C11,"00")) -> 201607 | B11: 2016 | C11: 7 | D11: -0.056 | E11: =+MAX(D11,0) -> 0
A12: =+CONCATENATE(B12,TEXT(C12,"00")) -> 2015 | C12: 2015 | E12: =+MAX(D12,0) -> 0
A13: =+CONCATENATE(B13,TEXT(C13,"00")) -> 201501 | B13: 2015 | C13: 1 | D13: 0.298 | E13: =+MAX(D13,0) -> 0.298
A14: =+CONCATENATE(B14,TEXT(C14,"00")) -> 201502 | B14: 2015 | C14: 2 | D14: 0.255 | E14: =+MAX(D14,0) -> 0.255
A15: =+CONCATENATE(B15,TEXT(C15,"00")) -> 201503 | B15: 2015 | C15: 3 | D15: 0.212 | E15: =+MAX(D15,0) -> 0.212
A16: =+CONCATENATE(B16,TEXT(C16,"00")) -> 201504 | B16: 2015 | C16: 4 | D16: 0.18 | E16: =+MAX(D16,0) -> 0.18
A17: =+CONCATENATE(B17,TEXT(C17,"00")) -> 201505 | B17: 2015 | C17: 5 | D17: 0.165 | E17: =+MAX(D17,0) -> 0.165
A18: =+CONCATENATE(B18,TEXT(C18,"00")) -> 201506 | B18: 2015 | C18: 6 | D18: 0.163 | E18: =+MAX(D18,0) -> 0.163
A19: =+CONCATENATE(B19,TEXT(C19,"00")) -> 201507 | B19: 2015 | C19: 7 | D19: 0.167 | E19: =+MAX(D19,0) -> 0.167
A20: =+CONCATENATE(B20,TEXT(C20,"00")) -> 201508 | B20: 2015 | C20: 8 | D20: 0.161 | E20: =+MAX(D20,0) -> 0.161
A21: =+CONCATENATE(B21,TEXT(C21,"00")) -> 201509 | B21: 2015 | C21: 9 | D21: 0.154 | E21: =+MAX(D21,0) -> 0.154
A22: =+CONCATENATE(B22,TEXT(C22,"00")) -> 201510 | B22: 2015 | C22: 10 | D22: 0.128 | E22: =+MAX(D22,0) -> 0.128
A23: =+CONCATENATE(B23,TEXT(C23,"00")) -> 201511 | B23: 2015 | C23: 11 | D23: 0.079 | E23: =+MAX(D23,0) -> 0.079
A24: =+CONCATENATE(B24,TEXT(C24,"00")) -> 201512 | B24: 2015 | C24: 12 | D24: 0.059 | E24: =+MAX(D24,0) -> 0.059
A25: =+CONCATENATE(B25,TEXT(C25,"00")) -> 2014 | C25: 2014 | E25: =+MAX(D25,0) -> 0
A26: =+CONCATENATE(B26,TEXT(C26,"00")) -> 201401 | B26: 2014 | C26: 1 | D26: 0.562 | E26: =+MAX(D26,0) -> 0.562
A27: =+CONCATENATE(B27,TEXT(C27,"00")) -> 201402 | B27: 2014 | C27: 2 | D27: 0.549 | E27: =+MAX(D27,0) -> 0.549
A28: =+CONCATENATE(B28,TEXT(C28,"00")) -> 201403 | B28: 2014 | C28: 3 | D28: 0.577 | E28: =+MAX(D28,0) -> 0.577
A29: =+CONCATENATE(B29,TEXT(C29,"00")) -> 201404 | B29: 2014 | C29: 4 | D29: 0.604 | E29: =+MAX(D29,0) -> 0.604
A30: =+CONCATENATE(B30,TEXT(C30,"00")) -> 201405 | B30: 2014 | C30: 5 | D30: 0.592 | E30: =+MAX(D30,0) -> 0.592
A31: =+CONCATENATE(B31,TEXT(C31,"00")) -> 201406 | B31: 2014 | C31: 6 | D31: 0.513 | E31: =+MAX(D31,0) -> 0.513
A32: =+CONCATENATE(B32,TEXT(C32,"00")) -> 201407 | B32: 2014 | C32: 7 | D32: 0.488 | E32: =+MAX(D32,0) -> 0.488
A33: =+CONCATENATE(B33,TEXT(C33,"00")) -> 201408 | B33: 2014 | C33: 8 | D33: 0.469 | E33: =+MAX(D33,0) -> 0.469
A34: =+CONCATENATE(B34,TEXT(C34,"00")) -> 201409 | B34: 2014 | C34: 9 | D34: 0.362 | E34: =+MAX(D34,0) -> 0.362
A35: =+CONCATENATE(B35,TEXT(C35,"00")) -> 201410 | B35: 2014 | C35: 10 | D35: 0.338 | E35: =+MAX(D35,0) -> 0.338
A36: =+CONCATENATE(B36,TEXT(C36,"00")) -> 201411 | B36: 2014 | C36: 11 | D36: 0.335 | E36: =+MAX(D36,0) -> 0.335
A37: =+CONCATENATE(B37,TEXT(C37,"00")) -> 201412 | B37: 2014 | C37: 12 | D37: 0.329 | E37: =+MAX(D37,0) -> 0.329
A38: =+CONCATENATE(B38,TEXT(C38,"00")) -> 2013 | C38: 2013 | E38: =+MAX(D38,0) -> 0
A39: =+CONCATENATE(B39,TEXT(C39,"00")) -> 201301 | B39: 2013 | C39: 1 | D39: 0.575 | E39: =+MAX(D39,0) -> 0.575
A40: =+CONCATENATE(B40,TEXT(C40,"00")) -> 201302 | B40: 2013 | C40: 2 | D40: 0.594 | E40: =+MAX(D40,0) -> 0.594
...
