Workbook

Sheet Periodos
A1: Periodo | B1: Semanas lectivas | C1: Días de clase por semana | D1: Días no lectivos | E1: Días lectivos
A2: Trimestre 1 | B2: 12 | C2: 5 | D2: 3 | E2: =B2*C2-D2
A3: Trimestre 2 | B3: 11 | C3: 5 | D3: 4 | E3: =B3*C3-D3
A4: Trimestre 3 | B4: 12 | C4: 5 | D4: 5 | E4: =B4*C4-D4
A5: Total del curso | B5: =SUM(B2:B4) | D5: =SUM(D2:D4) | E5: =SUM(E2:E4)
A7: Umbral mínimo de asistencia (%) | B7: 80

Sheet Asistencia
A1: Alumno | B1: Faltas T1 | C1: Faltas T2 | D1: Faltas T3 | E1: Faltas totales | F1: % asistencia T1 | G1: % asistencia T2 | H1: % asistencia T3 | I1: % asistencia curso | J1: Alerta
A2: Lucía Fernández | B2: 2 | C2: 1 | D2: 3 | E2: =SUM(B2:D2) | F2: =ROUND(MAX(0,100-B2/Periodos!$E$2*100),1) | G2: =ROUND(MAX(0,100-C2/Periodos!$E$3*100),1) | H2: =ROUND(MAX(0,100-D2/Periodos!$E$4*100),1) | I2: =ROUND(MAX(0,100-E2/Periodos!$E$5*100),1) | J2: =IF(I2<Periodos!$B$7,"Revisar","OK")
A3: Marcos Gil | B3: 0 | C3: 2 | D3: 1 | E3: =SUM(B3:D3) | F3: =ROUND(MAX(0,100-B3/Periodos!$E$2*100),1) | G3: =ROUND(MAX(0,100-C3/Periodos!$E$3*100),1) | H3: =ROUND(MAX(0,100-D3/Periodos!$E$4*100),1) | I3: =ROUND(MAX(0,100-E3/Periodos!$E$5*100),1) | J3: =IF(I3<Periodos!$B$7,"Revisar","OK")
A4: Sofía Ramos | B4: 5 | C4: 8 | D4: 12 | E4: =SUM(B4:D4) | F4: =ROUND(MAX(0,100-B4/Periodos!$E$2*100),1) | G4: =ROUND(MAX(0,100-C4/Periodos!$E$3*100),1) | H4: =ROUND(MAX(0,100-D4/Periodos!$E$4*100),1) | I4: =ROUND(MAX(0,100-E4/Periodos!$E$5*100),1) | J4: =IF(I4<Periodos!$B$7,"Revisar","OK")
A5: Daniel Ortega | B5: 1 | C5: 0 | D5: 2 | E5: =SUM(B5:D5) | F5: =ROUND(MAX(0,100-B5/Periodos!$E$2*100),1) | G5: =ROUND(MAX(0,100-C5/Periodos!$E$3*100),1) | H5: =ROUND(MAX(0,100-D5/Periodos!$E$4*100),1) | I5: =ROUND(MAX(0,100-E5/Periodos!$E$5*100),1) | J5: =IF(I5<Periodos!$B$7,"Revisar","OK")
A6: Carmen Soto | B6: 3 | C6: 4 | D6: 2 | E6: =SUM(B6:D6) | F6: =ROUND(MAX(0,100-B6/Periodos!$E$2*100),1) | G6: =ROUND(MAX(0,100-C6/Periodos!$E$3*100),1) | H6: =ROUND(MAX(0,100-D6/Periodos!$E$4*100),1) | I6: =ROUND(MAX(0,100-E6/Periodos!$E$5*100),1) | J6: =IF(I6<Periodos!$B$7,"Revisar","OK")
A7: Pablo Navarro | B7: 0 | C7: 0 | D7: 1 | E7: =SUM(B7:D7) | F7: =ROUND(MAX(0,100-B7/Periodos!$E$2*100),1) | G7: =ROUND(MAX(0,100-C7/Periodos!$E$3*100),1) | H7: =ROUND(MAX(0,100-D7/Periodos!$E$4*100),1) | I7: =ROUND(MAX(0,100-E7/Periodos!$E$5*100),1) | J7: =IF(I7<Periodos!$B$7,"Revisar","OK")
A8: Irene Molina | B8: 4 | C8: 6 | D8: 7 | E8: =SUM(B8:D8) | F8: =ROUND(MAX(0,100-B8/Periodos!$E$2*100),1) | G8: =ROUND(MAX(0,100-C8/Periodos!$E$3*100),1) | H8: =ROUND(MAX(0,100-D8/Periodos!$E$4*100),1) | I8: =ROUND(MAX(0,100-E8/Periodos!$E$5*100),1) | J8: =IF(I8<Periodos!$B$7,"Revisar","OK")
A9: Álvaro Castro | B9: 2 | C9: 3 | D9: 0 | E9: =SUM(B9:D9) | F9: =ROUND(MAX(0,100-B9/Periodos!$E$2*100),1) | G9: =ROUND(MAX(0,100-C9/Periodos!$E$3*100),1) | H9: =ROUND(MAX(0,100-D9/Periodos!$E$4*100),1) | I9: =ROUND(MAX(0,100-E9/Periodos!$E$5*100),1) | J9: =IF(I9<Periodos!$B$7,"Revisar","OK")
A10: Nuria Prieto | B10: 1 | C10: 1 | D10: 1 | E10: =SUM(B10:D10) | F10: =ROUND(MAX(0,100-B10/Periodos!$E$2*100),1) | G10: =ROUND(MAX(0,100-C10/Periodos!$E$3*100),1) | H10: =ROUND(MAX(0,100-D10/Periodos!$E$4*100),1) | I10: =ROUND(MAX(0,100-E10/Periodos!$E$5*100),1) | J10: =IF(I10<Periodos!$B$7,"Revisar","OK")
A11: Hugo Vega | B11: 6 | C11: 5 | D11: 9 | E11: =SUM(B11:D11) | F11: =ROUND(MAX(0,100-B11/Periodos!$E$2*100),1) | G11: =ROUND(MAX(0,100-C11/Periodos!$E$3*100),1) | H11: =ROUND(MAX(0,100-D11/Periodos!$E$4*100),1) | I11: =ROUND(MAX(0,100-E11/Periodos!$E$5*100),1) | J11: =IF(I11<Periodos!$B$7,"Revisar","OK")
A12: Promedio del grupo | B12: =ROUND(AVERAGE(B2:B11),1) | C12: =ROUND(AVERAGE(C2:C11),1) | D12: =ROUND(AVERAGE(D2:D11),1) | E12: =ROUND(AVERAGE(E2:E11),1) | F12: =ROUND(AVERAGE(F2:F11),1) | G12: =ROUND(AVERAGE(G2:G11),1) | H12: =ROUND(AVERAGE(H2:H11),1) | I12: =ROUND(AVERAGE(I2:I11),1)
A13: Alumnos en alerta | J13: =COUNTIF(J2:J11,"Revisar")
