Workbook

Sheet Ajustes
A1: Parámetro | B1: Valor | C1: Nota
A2: Nombre del proyecto | B2: Lanzamiento de tienda online | C2: Texto libre, solo informativo
A3: Mes actual (1-12) | B3: 5 | C3: Cámbialo cada mes: decide qué actividades están en curso, pendientes o retrasadas

Sheet Cronograma
A1: Nº | B1: Actividad | C1: Responsable | D1: Mes inicio (1-12) | E1: Mes fin (1-12) | F1: Duración (meses) | G1: % avance (0-100) | H1: Estado | I1: Ene | J1: Feb | K1: Mar | L1: Abr | M1: May | N1: Jun | O1: Jul | P1: Ago | Q1: Sep | R1: Oct | S1: Nov | T1: Dic
A2: 1 | B2: Definir alcance y presupuesto | C2: Dirección | D2: 1 | E2: 1 | F2: =E2-D2+1 | G2: 100 | H2: =IF(G2>=100,"Completada",IF(AND(G2=0,D2>Ajustes!$B$3),"Pendiente",IF(E2<Ajustes!$B$3,"Retrasada","En curso"))) | I2: =IF(OR(COLUMN()-8<$D2,COLUMN()-8>$E2),"",IF(COLUMN()-8<$D2+ROUND($F2*$G2/100,0),"█","▒")) | J2: =IF(OR(COLUMN()-8<$D2,COLUMN()-8>$E2),"",IF(COLUMN()-8<$D2+ROUND($F2*$G2/100,0),"█","▒")) | K2: =IF(OR(COLUMN()-8<$D2,COLUMN()-8>$E2),"",IF(COLUMN()-8<$D2+ROUND($F2*$G2/100,0),"█","▒")) | L2: =IF(OR(COLUMN()-8<$D2,COLUMN()-8>$E2),"",IF(COLUMN()-8<$D2+ROUND($F2*$G2/100,0),"█","▒")) | M2: =IF(OR(COLUMN()-8<$D2,COLUMN()-8>$E2),"",IF(COLUMN()-8<$D2+ROUND($F2*$G2/100,0),"█","▒")) | N2: =IF(OR(COLUMN()-8<$D2,COLUMN()-8>$E2),"",IF(COLUMN()-8<$D2+ROUND($F2*$G2/100,0),"█","▒")) | O2: =IF(OR(COLUMN()-8<$D2,COLUMN()-8>$E2),"",IF(COLUMN()-8<$D2+ROUND($F2*$G2/100,0),"█","▒")) | P2: =IF(OR(COLUMN()-8<$D2,COLUMN()-8>$E2),"",IF(COLUMN()-8<$D2+ROUND($F2*$G2/100,0),"█","▒")) | ... T2: =IF(OR(COLUMN()-8<$D2,COLUMN()-8>$E2),"",IF(COLUMN()-8<$D2+ROUND($F2*$G2/100,0),"█","▒"))
A3: 2 | B3: Diseño de la web | C3: Diseño | D3: 2 | E3: 3 | F3: =E3-D3+1 | G3: 100 | H3: =IF(G3>=100,"Completada",IF(AND(G3=0,D3>Ajustes!$B$3),"Pendiente",IF(E3<Ajustes!$B$3,"Retrasada","En curso"))) | I3: =IF(OR(COLUMN()-8<$D3,COLUMN()-8>$E3),"",IF(COLUMN()-8<$D3+ROUND($F3*$G3/100,0),"█","▒")) | J3: =IF(OR(COLUMN()-8<$D3,COLUMN()-8>$E3),"",IF(COLUMN()-8<$D3+ROUND($F3*$G3/100,0),"█","▒")) | K3: =IF(OR(COLUMN()-8<$D3,COLUMN()-8>$E3),"",IF(COLUMN()-8<$D3+ROUND($F3*$G3/100,0),"█","▒")) | L3: =IF(OR(COLUMN()-8<$D3,COLUMN()-8>$E3),"",IF(COLUMN()-8<$D3+ROUND($F3*$G3/100,0),"█","▒")) | M3: =IF(OR(COLUMN()-8<$D3,COLUMN()-8>$E3),"",IF(COLUMN()-8<$D3+ROUND($F3*$G3/100,0),"█","▒")) | N3: =IF(OR(COLUMN()-8<$D3,COLUMN()-8>$E3),"",IF(COLUMN()-8<$D3+ROUND($F3*$G3/100,0),"█","▒")) | O3: =IF(OR(COLUMN()-8<$D3,COLUMN()-8>$E3),"",IF(COLUMN()-8<$D3+ROUND($F3*$G3/100,0),"█","▒")) | P3: =IF(OR(COLUMN()-8<$D3,COLUMN()-8>$E3),"",IF(COLUMN()-8<$D3+ROUND($F3*$G3/100,0),"█","▒")) | ... T3: =IF(OR(COLUMN()-8<$D3,COLUMN()-8>$E3),"",IF(COLUMN()-8<$D3+ROUND($F3*$G3/100,0),"█","▒"))
A4: 3 | B4: Desarrollo del catálogo | C4: Desarrollo | D4: 3 | E4: 5 | F4: =E4-D4+1 | G4: 80 | H4: =IF(G4>=100,"Completada",IF(AND(G4=0,D4>Ajustes!$B$3),"Pendiente",IF(E4<Ajustes!$B$3,"Retrasada","En curso"))) | I4: =IF(OR(COLUMN()-8<$D4,COLUMN()-8>$E4),"",IF(COLUMN()-8<$D4+ROUND($F4*$G4/100,0),"█","▒")) | J4: =IF(OR(COLUMN()-8<$D4,COLUMN()-8>$E4),"",IF(COLUMN()-8<$D4+ROUND($F4*$G4/100,0),"█","▒")) | K4: =IF(OR(COLUMN()-8<$D4,COLUMN()-8>$E4),"",IF(COLUMN()-8<$D4+ROUND($F4*$G4/100,0),"█","▒")) | L4: =IF(OR(COLUMN()-8<$D4,COLUMN()-8>$E4),"",IF(COLUMN()-8<$D4+ROUND($F4*$G4/100,0),"█","▒")) | M4: =IF(OR(COLUMN()-8<$D4,COLUMN()-8>$E4),"",IF(COLUMN()-8<$D4+ROUND($F4*$G4/100,0),"█","▒")) | N4: =IF(OR(COLUMN()-8<$D4,COLUMN()-8>$E4),"",IF(COLUMN()-8<$D4+ROUND($F4*$G4/100,0),"█","▒")) | O4: =IF(OR(COLUMN()-8<$D4,COLUMN()-8>$E4),"",IF(COLUMN()-8<$D4+ROUND($F4*$G4/100,0),"█","▒")) | P4: =IF(OR(COLUMN()-8<$D4,COLUMN()-8>$E4),"",IF(COLUMN()-8<$D4+ROUND($F4*$G4/100,0),"█","▒")) | ... T4: =IF(OR(COLUMN()-8<$D4,COLUMN()-8>$E4),"",IF(COLUMN()-8<$D4+ROUND($F4*$G4/100,0),"█","▒"))
A5: 4 | B5: Fotografía de producto | C5: Marketing | D5: 3 | E5: 4 | F5: =E5-D5+1 | G5: 60 | H5: =IF(G5>=100,"Completada",IF(AND(G5=0,D5>Ajustes!$B$3),"Pendiente",IF(E5<Ajustes!$B$3,"Retrasada","En curso"))) | I5: =IF(OR(COLUMN()-8<$D5,COLUMN()-8>$E5),"",IF(COLUMN()-8<$D5+ROUND($F5*$G5/100,0),"█","▒")) | J5: =IF(OR(COLUMN()-8<$D5,COLUMN()-8>$E5),"",IF(COLUMN()-8<$D5+ROUND($F5*$G5/100,0),"█","▒")) | K5: =IF(OR(COLUMN()-8<$D5,COLUMN()-8>$E5),"",IF(COLUMN()-8<$D5+ROUND($F5*$G5/100,0),"█","▒")) | L5: =IF(OR(COLUMN()-8<$D5,COLUMN()-8>$E5),"",IF(COLUMN()-8<$D5+ROUND($F5*$G5/100,0),"█","▒")) | M5: =IF(OR(COLUMN()-8<$D5,COLUMN()-8>$E5),"",IF(COLUMN()-8<$D5+ROUND($F5*$G5/100,0),"█","▒")) | N5: =IF(OR(COLUMN()-8<$D5,COLUMN()-8>$E5),"",IF(COLUMN()-8<$D5+ROUND($F5*$G5/100,0),"█","▒")) | O5: =IF(OR(COLUMN()-8<$D5,COLUMN()-8>$E5),"",IF(COLUMN()-8<$D5+ROUND($F5*$G5/100,0),"█","▒")) | P5: =IF(OR(COLUMN()-8<$D5,COLUMN()-8>$E5),"",IF(COLUMN()-8<$D5+ROUND($F5*$G5/100,0),"█","▒")) | ... T5: =IF(OR(COLUMN()-8<$D5,COLUMN()-8>$E5),"",IF(COLUMN()-8<$D5+ROUND($F5*$G5/100,0),"█","▒"))
A6: 5 | B6: Integración de pagos | C6: Desarrollo | D6: 5 | E6: 6 | F6: =E6-D6+1 | G6: 40 | H6: =IF(G6>=100,"Completada",IF(AND(G6=0,D6>Ajustes!$B$3),"Pendiente",IF(E6<Ajustes!$B$3,"Retrasada","En curso"))) | I6: =IF(OR(COLUMN()-8<$D6,COLUMN()-8>$E6),"",IF(COLUMN()-8<$D6+ROUND($F6*$G6/100,0),"█","▒")) | J6: =IF(OR(COLUMN()-8<$D6,COLUMN()-8>$E6),"",IF(COLUMN()-8<$D6+ROUND($F6*$G6/100,0),"█","▒")) | K6: =IF(OR(COLUMN()-8<$D6,COLUMN()-8>$E6),"",IF(COLUMN()-8<$D6+ROUND($F6*$G6/100,0),"█","▒")) | L6: =IF(OR(COLUMN()-8<$D6,COLUMN()-8>$E6),"",IF(COLUMN()-8<$D6+ROUND($F6*$G6/100,0),"█","▒")) | M6: =IF(OR(COLUMN()-8<$D6,COLUMN()-8>$E6),"",IF(COLUMN()-8<$D6+ROUND($F6*$G6/100,0),"█","▒")) | N6: =IF(OR(COLUMN()-8<$D6,COLUMN()-8>$E6),"",IF(COLUMN()-8<$D6+ROUND($F6*$G6/100,0),"█","▒")) | O6: =IF(OR(COLUMN()-8<$D6,COLUMN()-8>$E6),"",IF(COLUMN()-8<$D6+ROUND($F6*$G6/100,0),"█","▒")) | P6: =IF(OR(COLUMN()-8<$D6,COLUMN()-8>$E6),"",IF(COLUMN()-8<$D6+ROUND($F6*$G6/100,0),"█","▒")) | ... T6: =IF(OR(COLUMN()-8<$D6,COLUMN()-8>$E6),"",IF(COLUMN()-8<$D6+ROUND($F6*$G6/100,0),"█","▒"))
A7: 6 | B7: Pruebas y correcciones | C7: Calidad | D7: 6 | E7: 7 | F7: =E7-D7+1 | G7: 0 | H7: =IF(G7>=100,"Completada",IF(AND(G7=0,D7>Ajustes!$B$3),"Pendiente",IF(E7<Ajustes!$B$3,"Retrasada","En curso"))) | I7: =IF(OR(COLUMN()-8<$D7,COLUMN()-8>$E7),"",IF(COLUMN()-8<$D7+ROUND($F7*$G7/100,0),"█","▒")) | J7: =IF(OR(COLUMN()-8<$D7,COLUMN()-8>$E7),"",IF(COLUMN()-8<$D7+ROUND($F7*$G7/100,0),"█","▒")) | K7: =IF(OR(COLUMN()-8<$D7,COLUMN()-8>$E7),"",IF(COLUMN()-8<$D7+ROUND($F7*$G7/100,0),"█","▒")) | L7: =IF(OR(COLUMN()-8<$D7,COLUMN()-8>$E7),"",IF(COLUMN()-8<$D7+ROUND($F7*$G7/100,0),"█","▒")) | M7: =IF(OR(COLUMN()-8<$D7,COLUMN()-8>$E7),"",IF(COLUMN()-8<$D7+ROUND($F7*$G7/100,0),"█","▒")) | N7: =IF(OR(COLUMN()-8<$D7,COLUMN()-8>$E7),"",IF(COLUMN()-8<$D7+ROUND($F7*$G7/100,0),"█","▒")) | O7: =IF(OR(COLUMN()-8<$D7,COLUMN()-8>$E7),"",IF(COLUMN()-8<$D7+ROUND($F7*$G7/100,0),"█","▒")) | P7: =IF(OR(COLUMN()-8<$D7,COLUMN()-8>$E7),"",IF(COLUMN()-8<$D7+ROUND($F7*$G7/100,0),"█","▒")) | ... T7: =IF(OR(COLUMN()-8<$D7,COLUMN()-8>$E7),"",IF(COLUMN()-8<$D7+ROUND($F7*$G7/100,0),"█","▒"))
A8: 7 | B8: Campaña de lanzamiento | C8: Marketing | D8: 7 | E8: 8 | F8: =E8-D8+1 | G8: 0 | H8: =IF(G8>=100,"Completada",IF(AND(G8=0,D8>Ajustes!$B$3),"Pendiente",IF(E8<Ajustes!$B$3,"Retrasada","En curso"))) | I8: =IF(OR(COLUMN()-8<$D8,COLUMN()-8>$E8),"",IF(COLUMN()-8<$D8+ROUND($F8*$G8/100,0),"█","▒")) | J8: =IF(OR(COLUMN()-8<$D8,COLUMN()-8>$E8),"",IF(COLUMN()-8<$D8+ROUND($F8*$G8/100,0),"█","▒")) | K8: =IF(OR(COLUMN()-8<$D8,COLUMN()-8>$E8),"",IF(COLUMN()-8<$D8+ROUND($F8*$G8/100,0),"█","▒")) | L8: =IF(OR(COLUMN()-8<$D8,COLUMN()-8>$E8),"",IF(COLUMN()-8<$D8+ROUND($F8*$G8/100,0),"█","▒")) | M8: =IF(OR(COLUMN()-8<$D8,COLUMN()-8>$E8),"",IF(COLUMN()-8<$D8+ROUND($F8*$G8/100,0),"█","▒")) | N8: =IF(OR(COLUMN()-8<$D8,COLUMN()-8>$E8),"",IF(COLUMN()-8<$D8+ROUND($F8*$G8/100,0),"█","▒")) | O8: =IF(OR(COLUMN()-8<$D8,COLUMN()-8>$E8),"",IF(COLUMN()-8<$D8+ROUND($F8*$G8/100,0),"█","▒")) | P8: =IF(OR(COLUMN()-8<$D8,COLUMN()-8>$E8),"",IF(COLUMN()-8<$D8+ROUND($F8*$G8/100,0),"█","▒")) | ... T8: =IF(OR(COLUMN()-8<$D8,COLUMN()-8>$E8),"",IF(COLUMN()-8<$D8+ROUND($F8*$G8/100,0),"█","▒"))
A9: 8 | B9: Lanzamiento | C9: Dirección | D9: 9 | E9: 9 | F9: =E9-D9+1 | G9: 0 | H9: =IF(G9>=100,"Completada",IF(AND(G9=0,D9>Ajustes!$B$3),"Pendiente",IF(E9<Ajustes!$B$3,"Retrasada","En curso"))) | I9: =IF(OR(COLUMN()-8<$D9,COLUMN()-8>$E9),"",IF(COLUMN()-8<$D9+ROUND($F9*$G9/100,0),"█","▒")) | J9: =IF(OR(COLUMN()-8<$D9,COLUMN()-8>$E9),"",IF(COLUMN()-8<$D9+ROUND($F9*$G9/100,0),"█","▒")) | K9: =IF(OR(COLUMN()-8<$D9,COLUMN()-8>$E9),"",IF(COLUMN()-8<$D9+ROUND($F9*$G9/100,0),"█","▒")) | L9: =IF(OR(COLUMN()-8<$D9,COLUMN()-8>$E9),"",IF(COLUMN()-8<$D9+ROUND($F9*$G9/100,0),"█","▒")) | M9: =IF(OR(COLUMN()-8<$D9,COLUMN()-8>$E9),"",IF(COLUMN()-8<$D9+ROUND($F9*$G9/100,0),"█","▒")) | N9: =IF(OR(COLUMN()-8<$D9,COLUMN()-8>$E9),"",IF(COLUMN()-8<$D9+ROUND($F9*$G9/100,0),"█","▒")) | O9: =IF(OR(COLUMN()-8<$D9,COLUMN()-8>$E9),"",IF(COLUMN()-8<$D9+ROUND($F9*$G9/100,0),"█","▒")) | P9: =IF(OR(COLUMN()-8<$D9,COLUMN()-8>$E9),"",IF(COLUMN()-8<$D9+ROUND($F9*$G9/100,0),"█","▒")) | ... T9: =IF(OR(COLUMN()-8<$D9,COLUMN()-8>$E9),"",IF(COLUMN()-8<$D9+ROUND($F9*$G9/100,0),"█","▒"))

Sheet Resumen
A1: Indicador | B1: Valor
A2: Actividades totales | B2: =COUNTA(Cronograma!B2:B9)
A3: Completadas | B3: =COUNTIF(Cronograma!H2:H9,"Completada")
A4: En curso | B4: =COUNTIF(Cronograma!H2:H9,"En curso")
A5: Pendientes | B5: =COUNTIF(Cronograma!H2:H9,"Pendiente")
A6: Retrasadas | B6: =COUNTIF(Cronograma!H2:H9,"Retrasada")
A7: Avance global (%) | B7: =IFERROR(ROUND(SUMPRODUCT(Cronograma!F2:F9,Cronograma!G2:G9)/SUM(Cronograma!F2:F9),1),0)
A8: Mes de finalización previsto | B8: =MAX(Cronograma!E2:E9)
A9: Actividades activas en el mes actual | B9: =COUNTIFS(Cronograma!D2:D9,"<="&Ajustes!B3,Cronograma!E2:E9,">="&Ajustes!B3)
A10: Avance Dirección (%) | B10: =IFERROR(ROUND(SUMPRODUCT((Cronograma!C2:C9="Dirección")*1,Cronograma!F2:F9,Cronograma!G2:G9)/SUMIF(Cronograma!C2:C9,"Dirección",Cronograma!F2:F9),1),0)
A11: Avance Desarrollo (%) | B11: =IFERROR(ROUND(SUMPRODUCT((Cronograma!C2:C9="Desarrollo")*1,Cronograma!F2:F9,Cronograma!G2:G9)/SUMIF(Cronograma!C2:C9,"Desarrollo",Cronograma!F2:F9),1),0)
A12: Avance Marketing (%) | B12: =IFERROR(ROUND(SUMPRODUCT((Cronograma!C2:C9="Marketing")*1,Cronograma!F2:F9,Cronograma!G2:G9)/SUMIF(Cronograma!C2:C9,"Marketing",Cronograma!F2:F9),1),0)
