Workbook

Sheet Ajustes
A1: Parámetro | B1: Valor
A2: Año | B2: 2027
A3: Horas por jornada laborable | B3: 8
A4: Días de vacaciones (laborables) | B4: 22

Sheet Festivos
A1: Día | B1: Mes | C1: Festivo | D1: Ámbito | E1: Día de la semana | F1: ¿Cae de lunes a viernes?
A2: 1 | B2: 1 | C2: Año Nuevo | D2: Nacional | E2: =IF(A2="","",CHOOSE(WEEKDAY(DATE(Ajustes!$B$2,B2,A2),2),"lunes","martes","miércoles","jueves","viernes","sábado","domingo")) | F2: =IF(A2="","",IF(WEEKDAY(DATE(Ajustes!$B$2,B2,A2),2)<=5,"Sí","No"))
A3: 6 | B3: 1 | C3: Epifanía del Señor | D3: Nacional | E3: =IF(A3="","",CHOOSE(WEEKDAY(DATE(Ajustes!$B$2,B3,A3),2),"lunes","martes","miércoles","jueves","viernes","sábado","domingo")) | F3: =IF(A3="","",IF(WEEKDAY(DATE(Ajustes!$B$2,B3,A3),2)<=5,"Sí","No"))
A4: 25 | B4: 3 | C4: Jueves Santo | D4: Según comunidad | E4: =IF(A4="","",CHOOSE(WEEKDAY(DATE(Ajustes!$B$2,B4,A4),2),"lunes","martes","miércoles","jueves","viernes","sábado","domingo")) | F4: =IF(A4="","",IF(WEEKDAY(DATE(Ajustes!$B$2,B4,A4),2)<=5,"Sí","No"))
A5: 26 | B5: 3 | C5: Viernes Santo | D5: Nacional | E5: =IF(A5="","",CHOOSE(WEEKDAY(DATE(Ajustes!$B$2,B5,A5),2),"lunes","martes","miércoles","jueves","viernes","sábado","domingo")) | F5: =IF(A5="","",IF(WEEKDAY(DATE(Ajustes!$B$2,B5,A5),2)<=5,"Sí","No"))
A6: 29 | B6: 3 | C6: Lunes de Pascua | D6: Solo algunas comunidades | E6: =IF(A6="","",CHOOSE(WEEKDAY(DATE(Ajustes!$B$2,B6,A6),2),"lunes","martes","miércoles","jueves","viernes","sábado","domingo")) | F6: =IF(A6="","",IF(WEEKDAY(DATE(Ajustes!$B$2,B6,A6),2)<=5,"Sí","No"))
A7: 1 | B7: 5 | C7: Fiesta del Trabajo | D7: Nacional | E7: =IF(A7="","",CHOOSE(WEEKDAY(DATE(Ajustes!$B$2,B7,A7),2),"lunes","martes","miércoles","jueves","viernes","sábado","domingo")) | F7: =IF(A7="","",IF(WEEKDAY(DATE(Ajustes!$B$2,B7,A7),2)<=5,"Sí","No"))
A8: 15 | B8: 8 | C8: Asunción de la Virgen | D8: Nacional | E8: =IF(A8="","",CHOOSE(WEEKDAY(DATE(Ajustes!$B$2,B8,A8),2),"lunes","martes","miércoles","jueves","viernes","sábado","domingo")) | F8: =IF(A8="","",IF(WEEKDAY(DATE(Ajustes!$B$2,B8,A8),2)<=5,"Sí","No"))
A9: 12 | B9: 10 | C9: Fiesta Nacional de España | D9: Nacional | E9: =IF(A9="","",CHOOSE(WEEKDAY(DATE(Ajustes!$B$2,B9,A9),2),"lunes","martes","miércoles","jueves","viernes","sábado","domingo")) | F9: =IF(A9="","",IF(WEEKDAY(DATE(Ajustes!$B$2,B9,A9),2)<=5,"Sí","No"))
A10: 1 | B10: 11 | C10: Todos los Santos | D10: Nacional | E10: =IF(A10="","",CHOOSE(WEEKDAY(DATE(Ajustes!$B$2,B10,A10),2),"lunes","martes","miércoles","jueves","viernes","sábado","domingo")) | F10: =IF(A10="","",IF(WEEKDAY(DATE(Ajustes!$B$2,B10,A10),2)<=5,"Sí","No"))
A11: 6 | B11: 12 | C11: Día de la Constitución | D11: Nacional | E11: =IF(A11="","",CHOOSE(WEEKDAY(DATE(Ajustes!$B$2,B11,A11),2),"lunes","martes","miércoles","jueves","viernes","sábado","domingo")) | F11: =IF(A11="","",IF(WEEKDAY(DATE(Ajustes!$B$2,B11,A11),2)<=5,"Sí","No"))
A12: 8 | B12: 12 | C12: Inmaculada Concepción | D12: Nacional | E12: =IF(A12="","",CHOOSE(WEEKDAY(DATE(Ajustes!$B$2,B12,A12),2),"lunes","martes","miércoles","jueves","viernes","sábado","domingo")) | F12: =IF(A12="","",IF(WEEKDAY(DATE(Ajustes!$B$2,B12,A12),2)<=5,"Sí","No"))
A13: 25 | B13: 12 | C13: Navidad | D13: Nacional | E13: =IF(A13="","",CHOOSE(WEEKDAY(DATE(Ajustes!$B$2,B13,A13),2),"lunes","martes","miércoles","jueves","viernes","sábado","domingo")) | F13: =IF(A13="","",IF(WEEKDAY(DATE(Ajustes!$B$2,B13,A13),2)<=5,"Sí","No"))
E14: =IF(A14="","",CHOOSE(WEEKDAY(DATE(Ajustes!$B$2,B14,A14),2),"lunes","martes","miércoles","jueves","viernes","sábado","domingo")) | F14: =IF(A14="","",IF(WEEKDAY(DATE(Ajustes!$B$2,B14,A14),2)<=5,"Sí","No"))
E15: =IF(A15="","",CHOOSE(WEEKDAY(DATE(Ajustes!$B$2,B15,A15),2),"lunes","martes","miércoles","jueves","viernes","sábado","domingo")) | F15: =IF(A15="","",IF(WEEKDAY(DATE(Ajustes!$B$2,B15,A15),2)<=5,"Sí","No"))
E16: =IF(A16="","",CHOOSE(WEEKDAY(DATE(Ajustes!$B$2,B16,A16),2),"lunes","martes","miércoles","jueves","viernes","sábado","domingo")) | F16: =IF(A16="","",IF(WEEKDAY(DATE(Ajustes!$B$2,B16,A16),2)<=5,"Sí","No"))
E17: =IF(A17="","",CHOOSE(WEEKDAY(DATE(Ajustes!$B$2,B17,A17),2),"lunes","martes","miércoles","jueves","viernes","sábado","domingo")) | F17: =IF(A17="","",IF(WEEKDAY(DATE(Ajustes!$B$2,B17,A17),2)<=5,"Sí","No"))
E18: =IF(A18="","",CHOOSE(WEEKDAY(DATE(Ajustes!$B$2,B18,A18),2),"lunes","martes","miércoles","jueves","viernes","sábado","domingo")) | F18: =IF(A18="","",IF(WEEKDAY(DATE(Ajustes!$B$2,B18,A18),2)<=5,"Sí","No"))
E19: =IF(A19="","",CHOOSE(WEEKDAY(DATE(Ajustes!$B$2,B19,A19),2),"lunes","martes","miércoles","jueves","viernes","sábado","domingo")) | F19: =IF(A19="","",IF(WEEKDAY(DATE(Ajustes!$B$2,B19,A19),2)<=5,"Sí","No"))
E20: =IF(A20="","",CHOOSE(WEEKDAY(DATE(Ajustes!$B$2,B20,A20),2),"lunes","martes","miércoles","jueves","viernes","sábado","domingo")) | F20: =IF(A20="","",IF(WEEKDAY(DATE(Ajustes!$B$2,B20,A20),2)<=5,"Sí","No"))
E21: =IF(A21="","",CHOOSE(WEEKDAY(DATE(Ajustes!$B$2,B21,A21),2),"lunes","martes","miércoles","jueves","viernes","sábado","domingo")) | F21: =IF(A21="","",IF(WEEKDAY(DATE(Ajustes!$B$2,B21,A21),2)<=5,"Sí","No"))

Sheet Calendario
A1: Mes | B1: Nº mes | C1: Días naturales | D1: Días de lunes a viernes | E1: Festivos entre semana | F1: Días laborables | G1: Horas laborables
A2: Enero | B2: 1 | C2: =DAY(DATE(Ajustes!$B$2,B2+1,0)) | D2: =NETWORKDAYS(DATE(Ajustes!$B$2,B2,1),DATE(Ajustes!$B$2,B2,C2)) | E2: =COUNTIFS(Festivos!$B$2:$B$21,B2,Festivos!$F$2:$F$21,"Sí") | F2: =D2-E2 | G2: =F2*Ajustes!$B$3
A3: Febrero | B3: 2 | C3: =DAY(DATE(Ajustes!$B$2,B3+1,0)) | D3: =NETWORKDAYS(DATE(Ajustes!$B$2,B3,1),DATE(Ajustes!$B$2,B3,C3)) | E3: =COUNTIFS(Festivos!$B$2:$B$21,B3,Festivos!$F$2:$F$21,"Sí") | F3: =D3-E3 | G3: =F3*Ajustes!$B$3
A4: Marzo | B4: 3 | C4: =DAY(DATE(Ajustes!$B$2,B4+1,0)) | D4: =NETWORKDAYS(DATE(Ajustes!$B$2,B4,1),DATE(Ajustes!$B$2,B4,C4)) | E4: =COUNTIFS(Festivos!$B$2:$B$21,B4,Festivos!$F$2:$F$21,"Sí") | F4: =D4-E4 | G4: =F4*Ajustes!$B$3
A5: Abril | B5: 4 | C5: =DAY(DATE(Ajustes!$B$2,B5+1,0)) | D5: =NETWORKDAYS(DATE(Ajustes!$B$2,B5,1),DATE(Ajustes!$B$2,B5,C5)) | E5: =COUNTIFS(Festivos!$B$2:$B$21,B5,Festivos!$F$2:$F$21,"Sí") | F5: =D5-E5 | G5: =F5*Ajustes!$B$3
A6: Mayo | B6: 5 | C6: =DAY(DATE(Ajustes!$B$2,B6+1,0)) | D6: =NETWORKDAYS(DATE(Ajustes!$B$2,B6,1),DATE(Ajustes!$B$2,B6,C6)) | E6: =COUNTIFS(Festivos!$B$2:$B$21,B6,Festivos!$F$2:$F$21,"Sí") | F6: =D6-E6 | G6: =F6*Ajustes!$B$3
A7: Junio | B7: 6 | C7: =DAY(DATE(Ajustes!$B$2,B7+1,0)) | D7: =NETWORKDAYS(DATE(Ajustes!$B$2,B7,1),DATE(Ajustes!$B$2,B7,C7)) | E7: =COUNTIFS(Festivos!$B$2:$B$21,B7,Festivos!$F$2:$F$21,"Sí") | F7: =D7-E7 | G7: =F7*Ajustes!$B$3
A8: Julio | B8: 7 | C8: =DAY(DATE(Ajustes!$B$2,B8+1,0)) | D8: =NETWORKDAYS(DATE(Ajustes!$B$2,B8,1),DATE(Ajustes!$B$2,B8,C8)) | E8: =COUNTIFS(Festivos!$B$2:$B$21,B8,Festivos!$F$2:$F$21,"Sí") | F8: =D8-E8 | G8: =F8*Ajustes!$B$3
A9: Agosto | B9: 8 | C9: =DAY(DATE(Ajustes!$B$2,B9+1,0)) | D9: =NETWORKDAYS(DATE(Ajustes!$B$2,B9,1),DATE(Ajustes!$B$2,B9,C9)) | E9: =COUNTIFS(Festivos!$B$2:$B$21,B9,Festivos!$F$2:$F$21,"Sí") | F9: =D9-E9 | G9: =F9*Ajustes!$B$3
A10: Septiembre | B10: 9 | C10: =DAY(DATE(Ajustes!$B$2,B10+1,0)) | D10: =NETWORKDAYS(DATE(Ajustes!$B$2,B10,1),DATE(Ajustes!$B$2,B10,C10)) | E10: =COUNTIFS(Festivos!$B$2:$B$21,B10,Festivos!$F$2:$F$21,"Sí") | F10: =D10-E10 | G10: =F10*Ajustes!$B$3
A11: Octubre | B11: 10 | C11: =DAY(DATE(Ajustes!$B$2,B11+1,0)) | D11: =NETWORKDAYS(DATE(Ajustes!$B$2,B11,1),DATE(Ajustes!$B$2,B11,C11)) | E11: =COUNTIFS(Festivos!$B$2:$B$21,B11,Festivos!$F$2:$F$21,"Sí") | F11: =D11-E11 | G11: =F11*Ajustes!$B$3
A12: Noviembre | B12: 11 | C12: =DAY(DATE(Ajustes!$B$2,B12+1,0)) | D12: =NETWORKDAYS(DATE(Ajustes!$B$2,B12,1),DATE(Ajustes!$B$2,B12,C12)) | E12: =COUNTIFS(Festivos!$B$2:$B$21,B12,Festivos!$F$2:$F$21,"Sí") | F12: =D12-E12 | G12: =F12*Ajustes!$B$3
A13: Diciembre | B13: 12 | C13: =DAY(DATE(Ajustes!$B$2,B13+1,0)) | D13: =NETWORKDAYS(DATE(Ajustes!$B$2,B13,1),DATE(Ajustes!$B$2,B13,C13)) | E13: =COUNTIFS(Festivos!$B$2:$B$21,B13,Festivos!$F$2:$F$21,"Sí") | F13: =D13-E13 | G13: =F13*Ajustes!$B$3
A14: Total año | C14: =SUM(C2:C13) | D14: =SUM(D2:D13) | E14: =SUM(E2:E13) | F14: =SUM(F2:F13) | G14: =SUM(G2:G13)

Sheet Resumen
A1: Concepto | B1: Valor
A2: Año | B2: =Ajustes!B2
A3: Días laborables del año (sin festivos) | B3: =Calendario!F14
A4: Vacaciones (días laborables) | B4: =Ajustes!B4
A5: Días efectivos de trabajo | B5: =B3-B4
A6: Horas por jornada | B6: =Ajustes!B3
A7: Horas anuales de trabajo efectivo | B7: =B5*B6
