Workbook

Sheet Ajustes
A1: Parámetro | B1: Valor
A2: Año | B2: 2027
A3: ¿Año bisiesto? | B3: =IF(OR(AND(MOD(B2,4)=0,MOD(B2,100)<>0),MOD(B2,400)=0),"Sí","No")
A4: Días del año | B4: =DATE(B2,12,31)-DATE(B2,1,1)+1
A5: Día juliano de hoy | B5: =TODAY()-DATE(YEAR(TODAY()),1,1)+1

Sheet Calendario juliano
A1: Día | B1: Enero | C1: Febrero | D1: Marzo | E1: Abril | F1: Mayo | G1: Junio | H1: Julio | I1: Agosto | J1: Septiembre | K1: Octubre | L1: Noviembre | M1: Diciembre
A2: Días del mes | B2: =DAY(DATE(Ajustes!$B$2,COLUMN(),0)) | C2: =DAY(DATE(Ajustes!$B$2,COLUMN(),0)) | D2: =DAY(DATE(Ajustes!$B$2,COLUMN(),0)) | E2: =DAY(DATE(Ajustes!$B$2,COLUMN(),0)) | F2: =DAY(DATE(Ajustes!$B$2,COLUMN(),0)) | G2: =DAY(DATE(Ajustes!$B$2,COLUMN(),0)) | H2: =DAY(DATE(Ajustes!$B$2,COLUMN(),0)) | I2: =DAY(DATE(Ajustes!$B$2,COLUMN(),0)) | ... M2: =DAY(DATE(Ajustes!$B$2,COLUMN(),0))
A3: Acumulado al empezar el mes | B3: =DATE(Ajustes!$B$2,COLUMN()-1,1)-DATE(Ajustes!$B$2,1,1) | C3: =DATE(Ajustes!$B$2,COLUMN()-1,1)-DATE(Ajustes!$B$2,1,1) | D3: =DATE(Ajustes!$B$2,COLUMN()-1,1)-DATE(Ajustes!$B$2,1,1) | E3: =DATE(Ajustes!$B$2,COLUMN()-1,1)-DATE(Ajustes!$B$2,1,1) | F3: =DATE(Ajustes!$B$2,COLUMN()-1,1)-DATE(Ajustes!$B$2,1,1) | G3: =DATE(Ajustes!$B$2,COLUMN()-1,1)-DATE(Ajustes!$B$2,1,1) | H3: =DATE(Ajustes!$B$2,COLUMN()-1,1)-DATE(Ajustes!$B$2,1,1) | I3: =DATE(Ajustes!$B$2,COLUMN()-1,1)-DATE(Ajustes!$B$2,1,1) | ... M3: =DATE(Ajustes!$B$2,COLUMN()-1,1)-DATE(Ajustes!$B$2,1,1)
A4: 1 | B4: =IF($A4<=B$2,B$3+$A4,"") | C4: =IF($A4<=C$2,C$3+$A4,"") | D4: =IF($A4<=D$2,D$3+$A4,"") | E4: =IF($A4<=E$2,E$3+$A4,"") | F4: =IF($A4<=F$2,F$3+$A4,"") | G4: =IF($A4<=G$2,G$3+$A4,"") | H4: =IF($A4<=H$2,H$3+$A4,"") | I4: =IF($A4<=I$2,I$3+$A4,"") | ... M4: =IF($A4<=M$2,M$3+$A4,"")
A5: 2 | B5: =IF($A5<=B$2,B$3+$A5,"") | C5: =IF($A5<=C$2,C$3+$A5,"") | D5: =IF($A5<=D$2,D$3+$A5,"") | E5: =IF($A5<=E$2,E$3+$A5,"") | F5: =IF($A5<=F$2,F$3+$A5,"") | G5: =IF($A5<=G$2,G$3+$A5,"") | H5: =IF($A5<=H$2,H$3+$A5,"") | I5: =IF($A5<=I$2,I$3+$A5,"") | ... M5: =IF($A5<=M$2,M$3+$A5,"")
A6: 3 | B6: =IF($A6<=B$2,B$3+$A6,"") | C6: =IF($A6<=C$2,C$3+$A6,"") | D6: =IF($A6<=D$2,D$3+$A6,"") | E6: =IF($A6<=E$2,E$3+$A6,"") | F6: =IF($A6<=F$2,F$3+$A6,"") | G6: =IF($A6<=G$2,G$3+$A6,"") | H6: =IF($A6<=H$2,H$3+$A6,"") | I6: =IF($A6<=I$2,I$3+$A6,"") | ... M6: =IF($A6<=M$2,M$3+$A6,"")
A7: 4 | B7: =IF($A7<=B$2,B$3+$A7,"") | C7: =IF($A7<=C$2,C$3+$A7,"") | D7: =IF($A7<=D$2,D$3+$A7,"") | E7: =IF($A7<=E$2,E$3+$A7,"") | F7: =IF($A7<=F$2,F$3+$A7,"") | G7: =IF($A7<=G$2,G$3+$A7,"") | H7: =IF($A7<=H$2,H$3+$A7,"") | I7: =IF($A7<=I$2,I$3+$A7,"") | ... M7: =IF($A7<=M$2,M$3+$A7,"")
A8: 5 | B8: =IF($A8<=B$2,B$3+$A8,"") | C8: =IF($A8<=C$2,C$3+$A8,"") | D8: =IF($A8<=D$2,D$3+$A8,"") | E8: =IF($A8<=E$2,E$3+$A8,"") | F8: =IF($A8<=F$2,F$3+$A8,"") | G8: =IF($A8<=G$2,G$3+$A8,"") | H8: =IF($A8<=H$2,H$3+$A8,"") | I8: =IF($A8<=I$2,I$3+$A8,"") | ... M8: =IF($A8<=M$2,M$3+$A8,"")
A9: 6 | B9: =IF($A9<=B$2,B$3+$A9,"") | C9: =IF($A9<=C$2,C$3+$A9,"") | D9: =IF($A9<=D$2,D$3+$A9,"") | E9: =IF($A9<=E$2,E$3+$A9,"") | F9: =IF($A9<=F$2,F$3+$A9,"") | G9: =IF($A9<=G$2,G$3+$A9,"") | H9: =IF($A9<=H$2,H$3+$A9,"") | I9: =IF($A9<=I$2,I$3+$A9,"") | ... M9: =IF($A9<=M$2,M$3+$A9,"")
A10: 7 | B10: =IF($A10<=B$2,B$3+$A10,"") | C10: =IF($A10<=C$2,C$3+$A10,"") | D10: =IF($A10<=D$2,D$3+$A10,"") | E10: =IF($A10<=E$2,E$3+$A10,"") | F10: =IF($A10<=F$2,F$3+$A10,"") | G10: =IF($A10<=G$2,G$3+$A10,"") | H10: =IF($A10<=H$2,H$3+$A10,"") | I10: =IF($A10<=I$2,I$3+$A10,"") | ... M10: =IF($A10<=M$2,M$3+$A10,"")
A11: 8 | B11: =IF($A11<=B$2,B$3+$A11,"") | C11: =IF($A11<=C$2,C$3+$A11,"") | D11: =IF($A11<=D$2,D$3+$A11,"") | E11: =IF($A11<=E$2,E$3+$A11,"") | F11: =IF($A11<=F$2,F$3+$A11,"") | G11: =IF($A11<=G$2,G$3+$A11,"") | H11: =IF($A11<=H$2,H$3+$A11,"") | I11: =IF($A11<=I$2,I$3+$A11,"") | ... M11: =IF($A11<=M$2,M$3+$A11,"")
A12: 9 | B12: =IF($A12<=B$2,B$3+$A12,"") | C12: =IF($A12<=C$2,C$3+$A12,"") | D12: =IF($A12<=D$2,D$3+$A12,"") | E12: =IF($A12<=E$2,E$3+$A12,"") | F12: =IF($A12<=F$2,F$3+$A12,"") | G12: =IF($A12<=G$2,G$3+$A12,"") | H12: =IF($A12<=H$2,H$3+$A12,"") | I12: =IF($A12<=I$2,I$3+$A12,"") | ... M12: =IF($A12<=M$2,M$3+$A12,"")
A13: 10 | B13: =IF($A13<=B$2,B$3+$A13,"") | C13: =IF($A13<=C$2,C$3+$A13,"") | D13: =IF($A13<=D$2,D$3+$A13,"") | E13: =IF($A13<=E$2,E$3+$A13,"") | F13: =IF($A13<=F$2,F$3+$A13,"") | G13: =IF($A13<=G$2,G$3+$A13,"") | H13: =IF($A13<=H$2,H$3+$A13,"") | I13: =IF($A13<=I$2,I$3+$A13,"") | ... M13: =IF($A13<=M$2,M$3+$A13,"")
A14: 11 | B14: =IF($A14<=B$2,B$3+$A14,"") | C14: =IF($A14<=C$2,C$3+$A14,"") | D14: =IF($A14<=D$2,D$3+$A14,"") | E14: =IF($A14<=E$2,E$3+$A14,"") | F14: =IF($A14<=F$2,F$3+$A14,"") | G14: =IF($A14<=G$2,G$3+$A14,"") | H14: =IF($A14<=H$2,H$3+$A14,"") | I14: =IF($A14<=I$2,I$3+$A14,"") | ... M14: =IF($A14<=M$2,M$3+$A14,"")
A15: 12 | B15: =IF($A15<=B$2,B$3+$A15,"") | C15: =IF($A15<=C$2,C$3+$A15,"") | D15: =IF($A15<=D$2,D$3+$A15,"") | E15: =IF($A15<=E$2,E$3+$A15,"") | F15: =IF($A15<=F$2,F$3+$A15,"") | G15: =IF($A15<=G$2,G$3+$A15,"") | H15: =IF($A15<=H$2,H$3+$A15,"") | I15: =IF($A15<=I$2,I$3+$A15,"") | ... M15: =IF($A15<=M$2,M$3+$A15,"")
... A34: 31 | B34: =IF($A34<=B$2,B$3+$A34,"") | C34: =IF($A34<=C$2,C$3+$A34,"") | D34: =IF($A34<=D$2,D$3+$A34,"") | E34: =IF($A34<=E$2,E$3+$A34,"") | F34: =IF($A34<=F$2,F$3+$A34,"") | G34: =IF($A34<=G$2,G$3+$A34,"") | H34: =IF($A34<=H$2,H$3+$A34,"") | I34: =IF($A34<=I$2,I$3+$A34,"") | ... M34: =IF($A34<=M$2,M$3+$A34,"")

Sheet Fecha a juliano
A1: Año | B1: Mes | C1: Día | D1: Día juliano | E1: Código AAAADDD | F1: Día de la semana
A2: 2027 | B2: 1 | C2: 1 | D2: =DATE(A2,B2,C2)-DATE(A2,1,1)+1 | E2: =A2&TEXT(D2,"000") | F2: =CHOOSE(WEEKDAY(DATE(A2,B2,C2),2),"lunes","martes","miércoles","jueves","viernes","sábado","domingo")
A3: 2027 | B3: 3 | C3: 15 | D3: =DATE(A3,B3,C3)-DATE(A3,1,1)+1 | E3: =A3&TEXT(D3,"000") | F3: =CHOOSE(WEEKDAY(DATE(A3,B3,C3),2),"lunes","martes","miércoles","jueves","viernes","sábado","domingo")
A4: 2027 | B4: 7 | C4: 4 | D4: =DATE(A4,B4,C4)-DATE(A4,1,1)+1 | E4: =A4&TEXT(D4,"000") | F4: =CHOOSE(WEEKDAY(DATE(A4,B4,C4),2),"lunes","martes","miércoles","jueves","viernes","sábado","domingo")
A5: 2027 | B5: 10 | C5: 16 | D5: =DATE(A5,B5,C5)-DATE(A5,1,1)+1 | E5: =A5&TEXT(D5,"000") | F5: =CHOOSE(WEEKDAY(DATE(A5,B5,C5),2),"lunes","martes","miércoles","jueves","viernes","sábado","domingo")
A6: 2027 | B6: 12 | C6: 31 | D6: =DATE(A6,B6,C6)-DATE(A6,1,1)+1 | E6: =A6&TEXT(D6,"000") | F6: =CHOOSE(WEEKDAY(DATE(A6,B6,C6),2),"lunes","martes","miércoles","jueves","viernes","sábado","domingo")
A7: 2028 | B7: 2 | C7: 29 | D7: =DATE(A7,B7,C7)-DATE(A7,1,1)+1 | E7: =A7&TEXT(D7,"000") | F7: =CHOOSE(WEEKDAY(DATE(A7,B7,C7),2),"lunes","martes","miércoles","jueves","viernes","sábado","domingo")

Sheet Juliano a fecha
A1: Año | B1: Día juliano | C1: Mes | D1: Día | E1: Fecha
A2: 2027 | B2: 1 | C2: =MONTH(DATE(A2,1,B2)) | D2: =DAY(DATE(A2,1,B2)) | E2: =TEXT(D2,"00")&"/"&TEXT(C2,"00")&"/"&A2
A3: 2027 | B3: 100 | C3: =MONTH(DATE(A3,1,B3)) | D3: =DAY(DATE(A3,1,B3)) | E3: =TEXT(D3,"00")&"/"&TEXT(C3,"00")&"/"&A3
A4: 2027 | B4: 200 | C4: =MONTH(DATE(A4,1,B4)) | D4: =DAY(DATE(A4,1,B4)) | E4: =TEXT(D4,"00")&"/"&TEXT(C4,"00")&"/"&A4
A5: 2027 | B5: 289 | C5: =MONTH(DATE(A5,1,B5)) | D5: =DAY(DATE(A5,1,B5)) | E5: =TEXT(D5,"00")&"/"&TEXT(C5,"00")&"/"&A5
A6: 2027 | B6: 365 | C6: =MONTH(DATE(A6,1,B6)) | D6: =DAY(DATE(A6,1,B6)) | E6: =TEXT(D6,"00")&"/"&TEXT(C6,"00")&"/"&A6
A7: 2028 | B7: 366 | C7: =MONTH(DATE(A7,1,B7)) | D7: =DAY(DATE(A7,1,B7)) | E7: =TEXT(D7,"00")&"/"&TEXT(C7,"00")&"/"&A7
