Workbook

Sheet Curso
A1: Concepto | B1: Día | C1: Mes | D1: Año | E1: Fecha (auxiliar) | F1: Día de la semana
A2: Inicio de curso | B2: 8 | C2: 9 | D2: 2026 | E2: =DATE(D2,C2,B2) | F2: =CHOOSE(WEEKDAY(E2,2),"lunes","martes","miércoles","jueves","viernes","sábado","domingo")
A3: Fin de curso | B3: 22 | C3: 6 | D3: 2027 | E3: =DATE(D3,C3,B3) | F3: =CHOOSE(WEEKDAY(E3,2),"lunes","martes","miércoles","jueves","viernes","sábado","domingo")
A4: Fin del 1.er trimestre | B4: 22 | C4: 12 | D4: 2026 | E4: =DATE(D4,C4,B4) | F4: =CHOOSE(WEEKDAY(E4,2),"lunes","martes","miércoles","jueves","viernes","sábado","domingo")
A5: Fin del 2.º trimestre | B5: 24 | C5: 3 | D5: 2027 | E5: =DATE(D5,C5,B5) | F5: =CHOOSE(WEEKDAY(E5,2),"lunes","martes","miércoles","jueves","viernes","sábado","domingo")

Sheet No lectivos
A1: Motivo (ejemplo) | B1: Día inicio | C1: Mes inicio | D1: Año inicio | E1: Día fin | F1: Mes fin | G1: Año fin | H1: Días L-V perdidos | I1: Inicio (auxiliar) | J1: Fin (auxiliar)
A2: Fiesta nacional | B2: 12 | C2: 10 | D2: 2026 | E2: 12 | F2: 10 | G2: 2026 | H2: =IF(B2="",0,NETWORKDAYS(I2,J2)) | I2: =IF(B2="","",DATE(D2,C2,B2)) | J2: =IF(B2="","",DATE(G2,F2,E2))
A3: Todos los Santos (puente) | B3: 2 | C3: 11 | D3: 2026 | E3: 2 | F3: 11 | G3: 2026 | H3: =IF(B3="",0,NETWORKDAYS(I3,J3)) | I3: =IF(B3="","",DATE(D3,C3,B3)) | J3: =IF(B3="","",DATE(G3,F3,E3))
A4: Puente de diciembre | B4: 7 | C4: 12 | D4: 2026 | E4: 8 | F4: 12 | G4: 2026 | H4: =IF(B4="",0,NETWORKDAYS(I4,J4)) | I4: =IF(B4="","",DATE(D4,C4,B4)) | J4: =IF(B4="","",DATE(G4,F4,E4))
A5: Vacaciones de Navidad | B5: 23 | C5: 12 | D5: 2026 | E5: 6 | F5: 1 | G5: 2027 | H5: =IF(B5="",0,NETWORKDAYS(I5,J5)) | I5: =IF(B5="","",DATE(D5,C5,B5)) | J5: =IF(B5="","",DATE(G5,F5,E5))
A6: Carnaval | B6: 8 | C6: 2 | D6: 2027 | E6: 9 | F6: 2 | G6: 2027 | H6: =IF(B6="",0,NETWORKDAYS(I6,J6)) | I6: =IF(B6="","",DATE(D6,C6,B6)) | J6: =IF(B6="","",DATE(G6,F6,E6))
A7: Semana Santa | B7: 25 | C7: 3 | D7: 2027 | E7: 29 | F7: 3 | G7: 2027 | H7: =IF(B7="",0,NETWORKDAYS(I7,J7)) | I7: =IF(B7="","",DATE(D7,C7,B7)) | J7: =IF(B7="","",DATE(G7,F7,E7))
A8: Día del centro | B8: 23 | C8: 4 | D8: 2027 | E8: 23 | F8: 4 | G8: 2027 | H8: =IF(B8="",0,NETWORKDAYS(I8,J8)) | I8: =IF(B8="","",DATE(D8,C8,B8)) | J8: =IF(B8="","",DATE(G8,F8,E8))
A9: Fiesta local | B9: 14 | C9: 5 | D9: 2027 | E9: 14 | F9: 5 | G9: 2027 | H9: =IF(B9="",0,NETWORKDAYS(I9,J9)) | I9: =IF(B9="","",DATE(D9,C9,B9)) | J9: =IF(B9="","",DATE(G9,F9,E9))

Sheet Por mes
A1: Mes | B1: Año | C1: Nº de mes | D1: Desde (auxiliar) | E1: Hasta (auxiliar) | F1: Días L-V del curso | G1: Días sin clase | H1: Días lectivos
A2: Septiembre | B2: 2026 | C2: 9 | D2: =MAX(DATE(B2,C2,1),Curso!$E$2) | E2: =MIN(EOMONTH(DATE(B2,C2,1),0),Curso!$E$3) | F2: =SUMPRODUCT(((D2+ROW($1:$31)-1)<=E2)*(WEEKDAY(D2+ROW($1:$31)-1,2)<6)) | G2: =F2-H2 | H2: =SUMPRODUCT(((D2+ROW($1:$31)-1)<=E2)*(WEEKDAY(D2+ROW($1:$31)-1,2)<6)*(COUNTIFS('No lectivos'!$I$2:$I$9,"<="&(D2+ROW($1:$31)-1),'No lectivos'!$J$2:$J$9,">="&(D2+ROW($1:$31)-1))=0))
A3: Octubre | B3: 2026 | C3: 10 | D3: =MAX(DATE(B3,C3,1),Curso!$E$2) | E3: =MIN(EOMONTH(DATE(B3,C3,1),0),Curso!$E$3) | F3: =SUMPRODUCT(((D3+ROW($1:$31)-1)<=E3)*(WEEKDAY(D3+ROW($1:$31)-1,2)<6)) | G3: =F3-H3 | H3: =SUMPRODUCT(((D3+ROW($1:$31)-1)<=E3)*(WEEKDAY(D3+ROW($1:$31)-1,2)<6)*(COUNTIFS('No lectivos'!$I$2:$I$9,"<="&(D3+ROW($1:$31)-1),'No lectivos'!$J$2:$J$9,">="&(D3+ROW($1:$31)-1))=0))
A4: Noviembre | B4: 2026 | C4: 11 | D4: =MAX(DATE(B4,C4,1),Curso!$E$2) | E4: =MIN(EOMONTH(DATE(B4,C4,1),0),Curso!$E$3) | F4: =SUMPRODUCT(((D4+ROW($1:$31)-1)<=E4)*(WEEKDAY(D4+ROW($1:$31)-1,2)<6)) | G4: =F4-H4 | H4: =SUMPRODUCT(((D4+ROW($1:$31)-1)<=E4)*(WEEKDAY(D4+ROW($1:$31)-1,2)<6)*(COUNTIFS('No lectivos'!$I$2:$I$9,"<="&(D4+ROW($1:$31)-1),'No lectivos'!$J$2:$J$9,">="&(D4+ROW($1:$31)-1))=0))
A5: Diciembre | B5: 2026 | C5: 12 | D5: =MAX(DATE(B5,C5,1),Curso!$E$2) | E5: =MIN(EOMONTH(DATE(B5,C5,1),0),Curso!$E$3) | F5: =SUMPRODUCT(((D5+ROW($1:$31)-1)<=E5)*(WEEKDAY(D5+ROW($1:$31)-1,2)<6)) | G5: =F5-H5 | H5: =SUMPRODUCT(((D5+ROW($1:$31)-1)<=E5)*(WEEKDAY(D5+ROW($1:$31)-1,2)<6)*(COUNTIFS('No lectivos'!$I$2:$I$9,"<="&(D5+ROW($1:$31)-1),'No lectivos'!$J$2:$J$9,">="&(D5+ROW($1:$31)-1))=0))
A6: Enero | B6: 2027 | C6: 1 | D6: =MAX(DATE(B6,C6,1),Curso!$E$2) | E6: =MIN(EOMONTH(DATE(B6,C6,1),0),Curso!$E$3) | F6: =SUMPRODUCT(((D6+ROW($1:$31)-1)<=E6)*(WEEKDAY(D6+ROW($1:$31)-1,2)<6)) | G6: =F6-H6 | H6: =SUMPRODUCT(((D6+ROW($1:$31)-1)<=E6)*(WEEKDAY(D6+ROW($1:$31)-1,2)<6)*(COUNTIFS('No lectivos'!$I$2:$I$9,"<="&(D6+ROW($1:$31)-1),'No lectivos'!$J$2:$J$9,">="&(D6+ROW($1:$31)-1))=0))
A7: Febrero | B7: 2027 | C7: 2 | D7: =MAX(DATE(B7,C7,1),Curso!$E$2) | E7: =MIN(EOMONTH(DATE(B7,C7,1),0),Curso!$E$3) | F7: =SUMPRODUCT(((D7+ROW($1:$31)-1)<=E7)*(WEEKDAY(D7+ROW($1:$31)-1,2)<6)) | G7: =F7-H7 | H7: =SUMPRODUCT(((D7+ROW($1:$31)-1)<=E7)*(WEEKDAY(D7+ROW($1:$31)-1,2)<6)*(COUNTIFS('No lectivos'!$I$2:$I$9,"<="&(D7+ROW($1:$31)-1),'No lectivos'!$J$2:$J$9,">="&(D7+ROW($1:$31)-1))=0))
A8: Marzo | B8: 2027 | C8: 3 | D8: =MAX(DATE(B8,C8,1),Curso!$E$2) | E8: =MIN(EOMONTH(DATE(B8,C8,1),0),Curso!$E$3) | F8: =SUMPRODUCT(((D8+ROW($1:$31)-1)<=E8)*(WEEKDAY(D8+ROW($1:$31)-1,2)<6)) | G8: =F8-H8 | H8: =SUMPRODUCT(((D8+ROW($1:$31)-1)<=E8)*(WEEKDAY(D8+ROW($1:$31)-1,2)<6)*(COUNTIFS('No lectivos'!$I$2:$I$9,"<="&(D8+ROW($1:$31)-1),'No lectivos'!$J$2:$J$9,">="&(D8+ROW($1:$31)-1))=0))
A9: Abril | B9: 2027 | C9: 4 | D9: =MAX(DATE(B9,C9,1),Curso!$E$2) | E9: =MIN(EOMONTH(DATE(B9,C9,1),0),Curso!$E$3) | F9: =SUMPRODUCT(((D9+ROW($1:$31)-1)<=E9)*(WEEKDAY(D9+ROW($1:$31)-1,2)<6)) | G9: =F9-H9 | H9: =SUMPRODUCT(((D9+ROW($1:$31)-1)<=E9)*(WEEKDAY(D9+ROW($1:$31)-1,2)<6)*(COUNTIFS('No lectivos'!$I$2:$I$9,"<="&(D9+ROW($1:$31)-1),'No lectivos'!$J$2:$J$9,">="&(D9+ROW($1:$31)-1))=0))
A10: Mayo | B10: 2027 | C10: 5 | D10: =MAX(DATE(B10,C10,1),Curso!$E$2) | E10: =MIN(EOMONTH(DATE(B10,C10,1),0),Curso!$E$3) | F10: =SUMPRODUCT(((D10+ROW($1:$31)-1)<=E10)*(WEEKDAY(D10+ROW($1:$31)-1,2)<6)) | G10: =F10-H10 | H10: =SUMPRODUCT(((D10+ROW($1:$31)-1)<=E10)*(WEEKDAY(D10+ROW($1:$31)-1,2)<6)*(COUNTIFS('No lectivos'!$I$2:$I$9,"<="&(D10+ROW($1:$31)-1),'No lectivos'!$J$2:$J$9,">="&(D10+ROW($1:$31)-1))=0))
A11: Junio | B11: 2027 | C11: 6 | D11: =MAX(DATE(B11,C11,1),Curso!$E$2) | E11: =MIN(EOMONTH(DATE(B11,C11,1),0),Curso!$E$3) | F11: =SUMPRODUCT(((D11+ROW($1:$31)-1)<=E11)*(WEEKDAY(D11+ROW($1:$31)-1,2)<6)) | G11: =F11-H11 | H11: =SUMPRODUCT(((D11+ROW($1:$31)-1)<=E11)*(WEEKDAY(D11+ROW($1:$31)-1,2)<6)*(COUNTIFS('No lectivos'!$I$2:$I$9,"<="&(D11+ROW($1:$31)-1),'No lectivos'!$J$2:$J$9,">="&(D11+ROW($1:$31)-1))=0))
A12: Total curso | F12: =SUM(F2:F11) | G12: =SUM(G2:G11) | H12: =SUM(H2:H11)

Sheet Resumen
A1: Concepto | B1: Días | C1: Semanas lectivas
A2: Días lectivos del 1.er trimestre | B2: =SUMPRODUCT(((Curso!$E$2+ROW($1:$400)-1)<=Curso!$E$4)*(WEEKDAY(Curso!$E$2+ROW($1:$400)-1,2)<6)*(COUNTIFS('No lectivos'!$I$2:$I$9,"<="&(Curso!$E$2+ROW($1:$400)-1),'No lectivos'!$J$2:$J$9,">="&(Curso!$E$2+ROW($1:$400)-1))=0)) | C2: =ROUND(B2/5,1)
A3: Días lectivos del 2.º trimestre | B3: =SUMPRODUCT(((Curso!$E$4+ROW($1:$400))<=Curso!$E$5)*(WEEKDAY(Curso!$E$4+ROW($1:$400),2)<6)*(COUNTIFS('No lectivos'!$I$2:$I$9,"<="&(Curso!$E$4+ROW($1:$400)),'No lectivos'!$J$2:$J$9,">="&(Curso!$E$4+ROW($1:$400)))=0)) | C3: =ROUND(B3/5,1)
A4: Días lectivos del 3.er trimestre | B4: =SUMPRODUCT(((Curso!$E$5+ROW($1:$400))<=Curso!$E$3)*(WEEKDAY(Curso!$E$5+ROW($1:$400),2)<6)*(COUNTIFS('No lectivos'!$I$2:$I$9,"<="&(Curso!$E$5+ROW($1:$400)),'No lectivos'!$J$2:$J$9,">="&(Curso!$E$5+ROW($1:$400)))=0)) | C4: =ROUND(B4/5,1)
A5: Total de días lectivos del curso | B5: =SUM(B2:B4) | C5: =ROUND(B5/5,1)
A6: Días de lunes a viernes del curso | B6: =NETWORKDAYS(Curso!E2,Curso!E3)
A7: Días entre semana sin clase | B7: =B6-B5
A8: Duración del curso en días naturales | B8: =Curso!E3-Curso!E2+1
A9: Comprobación: total de la hoja Por mes | B9: ='Por mes'!H12 | C9: =IF(B8=B5,"Coincide","Revisa fechas")
