Workbook

Sheet Calculadora
A1: Concepto | B1: Valor | C1: Nota
A2: Capital inicial | B2: 5000 | C2: Dinero con el que empiezas
A3: Aportación mensual | B3: 150 | C3: Se ingresa al final de cada mes; pon 0 si no aportas
A4: Tasa de interés anual (%) | B4: 4 | C4: Ejemplo ilustrativo, no es un tipo vigente
A5: Años | B5: 10 | C5: Entre 1 y 30
A6: Capital final | B6: =ROUND(FV(B4/100/12,B5*12,-B3,-B2),2) | C6: Capital inicial más aportaciones más intereses
A7: Total aportado | B7: =B2+B3*B5*12 | C7: Capital inicial más todas las aportaciones
A8: Intereses generados | B8: =ROUND(B6-B7,2) | C8: Capital final menos total aportado
A9: Rentabilidad sobre lo aportado (%) | B9: =IF(B7=0,0,ROUND(B8/B7*100,2)) | C9: Intereses entre total aportado

Sheet Evolución anual
A1: Año | B1: Saldo inicial | C1: Aportaciones del año | D1: Intereses del año | E1: Saldo final
A2: 1 | B2: =IF(A2>Calculadora!$B$5,"",Calculadora!$B$2) | C2: =IF(A2>Calculadora!$B$5,"",Calculadora!$B$3*12) | D2: =IF(A2>Calculadora!$B$5,"",ROUND(E2-B2-C2,2)) | E2: =IF(A2>Calculadora!$B$5,"",ROUND(FV(Calculadora!$B$4/100/12,12*A2,-Calculadora!$B$3,-Calculadora!$B$2),2))
A3: 2 | B3: =IF(A3>Calculadora!$B$5,"",E2) | C3: =IF(A3>Calculadora!$B$5,"",Calculadora!$B$3*12) | D3: =IF(A3>Calculadora!$B$5,"",ROUND(E3-B3-C3,2)) | E3: =IF(A3>Calculadora!$B$5,"",ROUND(FV(Calculadora!$B$4/100/12,12*A3,-Calculadora!$B$3,-Calculadora!$B$2),2))
A4: 3 | B4: =IF(A4>Calculadora!$B$5,"",E3) | C4: =IF(A4>Calculadora!$B$5,"",Calculadora!$B$3*12) | D4: =IF(A4>Calculadora!$B$5,"",ROUND(E4-B4-C4,2)) | E4: =IF(A4>Calculadora!$B$5,"",ROUND(FV(Calculadora!$B$4/100/12,12*A4,-Calculadora!$B$3,-Calculadora!$B$2),2))
A5: 4 | B5: =IF(A5>Calculadora!$B$5,"",E4) | C5: =IF(A5>Calculadora!$B$5,"",Calculadora!$B$3*12) | D5: =IF(A5>Calculadora!$B$5,"",ROUND(E5-B5-C5,2)) | E5: =IF(A5>Calculadora!$B$5,"",ROUND(FV(Calculadora!$B$4/100/12,12*A5,-Calculadora!$B$3,-Calculadora!$B$2),2))
A6: 5 | B6: =IF(A6>Calculadora!$B$5,"",E5) | C6: =IF(A6>Calculadora!$B$5,"",Calculadora!$B$3*12) | D6: =IF(A6>Calculadora!$B$5,"",ROUND(E6-B6-C6,2)) | E6: =IF(A6>Calculadora!$B$5,"",ROUND(FV(Calculadora!$B$4/100/12,12*A6,-Calculadora!$B$3,-Calculadora!$B$2),2))
A7: 6 | B7: =IF(A7>Calculadora!$B$5,"",E6) | C7: =IF(A7>Calculadora!$B$5,"",Calculadora!$B$3*12) | D7: =IF(A7>Calculadora!$B$5,"",ROUND(E7-B7-C7,2)) | E7: =IF(A7>Calculadora!$B$5,"",ROUND(FV(Calculadora!$B$4/100/12,12*A7,-Calculadora!$B$3,-Calculadora!$B$2),2))
A8: 7 | B8: =IF(A8>Calculadora!$B$5,"",E7) | C8: =IF(A8>Calculadora!$B$5,"",Calculadora!$B$3*12) | D8: =IF(A8>Calculadora!$B$5,"",ROUND(E8-B8-C8,2)) | E8: =IF(A8>Calculadora!$B$5,"",ROUND(FV(Calculadora!$B$4/100/12,12*A8,-Calculadora!$B$3,-Calculadora!$B$2),2))
A9: 8 | B9: =IF(A9>Calculadora!$B$5,"",E8) | C9: =IF(A9>Calculadora!$B$5,"",Calculadora!$B$3*12) | D9: =IF(A9>Calculadora!$B$5,"",ROUND(E9-B9-C9,2)) | E9: =IF(A9>Calculadora!$B$5,"",ROUND(FV(Calculadora!$B$4/100/12,12*A9,-Calculadora!$B$3,-Calculadora!$B$2),2))
A10: 9 | B10: =IF(A10>Calculadora!$B$5,"",E9) | C10: =IF(A10>Calculadora!$B$5,"",Calculadora!$B$3*12) | D10: =IF(A10>Calculadora!$B$5,"",ROUND(E10-B10-C10,2)) | E10: =IF(A10>Calculadora!$B$5,"",ROUND(FV(Calculadora!$B$4/100/12,12*A10,-Calculadora!$B$3,-Calculadora!$B$2),2))
A11: 10 | B11: =IF(A11>Calculadora!$B$5,"",E10) | C11: =IF(A11>Calculadora!$B$5,"",Calculadora!$B$3*12) | D11: =IF(A11>Calculadora!$B$5,"",ROUND(E11-B11-C11,2)) | E11: =IF(A11>Calculadora!$B$5,"",ROUND(FV(Calculadora!$B$4/100/12,12*A11,-Calculadora!$B$3,-Calculadora!$B$2),2))
A12: 11 | B12: =IF(A12>Calculadora!$B$5,"",E11) | C12: =IF(A12>Calculadora!$B$5,"",Calculadora!$B$3*12) | D12: =IF(A12>Calculadora!$B$5,"",ROUND(E12-B12-C12,2)) | E12: =IF(A12>Calculadora!$B$5,"",ROUND(FV(Calculadora!$B$4/100/12,12*A12,-Calculadora!$B$3,-Calculadora!$B$2),2))
A13: 12 | B13: =IF(A13>Calculadora!$B$5,"",E12) | C13: =IF(A13>Calculadora!$B$5,"",Calculadora!$B$3*12) | D13: =IF(A13>Calculadora!$B$5,"",ROUND(E13-B13-C13,2)) | E13: =IF(A13>Calculadora!$B$5,"",ROUND(FV(Calculadora!$B$4/100/12,12*A13,-Calculadora!$B$3,-Calculadora!$B$2),2))
A14: 13 | B14: =IF(A14>Calculadora!$B$5,"",E13) | C14: =IF(A14>Calculadora!$B$5,"",Calculadora!$B$3*12) | D14: =IF(A14>Calculadora!$B$5,"",ROUND(E14-B14-C14,2)) | E14: =IF(A14>Calculadora!$B$5,"",ROUND(FV(Calculadora!$B$4/100/12,12*A14,-Calculadora!$B$3,-Calculadora!$B$2),2))
... A31: 30 | B31: =IF(A31>Calculadora!$B$5,"",E30) | C31: =IF(A31>Calculadora!$B$5,"",Calculadora!$B$3*12) | D31: =IF(A31>Calculadora!$B$5,"",ROUND(E31-B31-C31,2)) | E31: =IF(A31>Calculadora!$B$5,"",ROUND(FV(Calculadora!$B$4/100/12,12*A31,-Calculadora!$B$3,-Calculadora!$B$2),2))

Sheet Comparar tasas
A1: Tasa anual (%) | B1: Capital final | C1: Intereses generados
A2: 2 | B2: =ROUND(FV(A2/100/12,Calculadora!$B$5*12,-Calculadora!$B$3,-Calculadora!$B$2),2) | C2: =ROUND(B2-Calculadora!$B$7,2)
A3: 3 | B3: =ROUND(FV(A3/100/12,Calculadora!$B$5*12,-Calculadora!$B$3,-Calculadora!$B$2),2) | C3: =ROUND(B3-Calculadora!$B$7,2)
A4: 4 | B4: =ROUND(FV(A4/100/12,Calculadora!$B$5*12,-Calculadora!$B$3,-Calculadora!$B$2),2) | C4: =ROUND(B4-Calculadora!$B$7,2)
A5: 5 | B5: =ROUND(FV(A5/100/12,Calculadora!$B$5*12,-Calculadora!$B$3,-Calculadora!$B$2),2) | C5: =ROUND(B5-Calculadora!$B$7,2)
A6: 6 | B6: =ROUND(FV(A6/100/12,Calculadora!$B$5*12,-Calculadora!$B$3,-Calculadora!$B$2),2) | C6: =ROUND(B6-Calculadora!$B$7,2)
A7: 7 | B7: =ROUND(FV(A7/100/12,Calculadora!$B$5*12,-Calculadora!$B$3,-Calculadora!$B$2),2) | C7: =ROUND(B7-Calculadora!$B$7,2)
