Workbook

Sheet Ajustes
A1: Parámetro | B1: Valor | C1: Nota
A2: Jornada diaria (horas) | B2: 8 | C2: Las horas por encima de este valor cuentan como extra
A3: Tarifa por hora | B3: 12 | C3: Importe por hora normal, en tu moneda
A4: Recargo hora extra (%) | B4: 25 | C4: Ejemplo editable; depende de tu contrato y país

Sheet Semana
A1: Día | B1: Fecha | C1: Entrada | D1: Salida | E1: Descanso (min) | F1: Horas trabajadas | G1: Horas normales | H1: Horas extra | I1: Importe
A2: Lunes | B2: 02/11/2026 | C2: 09:00 | D2: 18:00 | E2: 60 | F2: =IF(OR(C2="",D2=""),0,ROUND(MOD(TIMEVALUE(D2)-TIMEVALUE(C2),1)*24-E2/60,2)) | G2: =MIN(F2,Ajustes!$B$2) | H2: =MAX(0,F2-Ajustes!$B$2) | I2: =ROUND(G2*Ajustes!$B$3+H2*Ajustes!$B$3*(1+Ajustes!$B$4/100),2)
A3: Martes | B3: 03/11/2026 | C3: 08:30 | D3: 18:30 | E3: 60 | F3: =IF(OR(C3="",D3=""),0,ROUND(MOD(TIMEVALUE(D3)-TIMEVALUE(C3),1)*24-E3/60,2)) | G3: =MIN(F3,Ajustes!$B$2) | H3: =MAX(0,F3-Ajustes!$B$2) | I3: =ROUND(G3*Ajustes!$B$3+H3*Ajustes!$B$3*(1+Ajustes!$B$4/100),2)
A4: Miércoles | B4: 04/11/2026 | C4: 09:00 | D4: 17:30 | E4: 30 | F4: =IF(OR(C4="",D4=""),0,ROUND(MOD(TIMEVALUE(D4)-TIMEVALUE(C4),1)*24-E4/60,2)) | G4: =MIN(F4,Ajustes!$B$2) | H4: =MAX(0,F4-Ajustes!$B$2) | I4: =ROUND(G4*Ajustes!$B$3+H4*Ajustes!$B$3*(1+Ajustes!$B$4/100),2)
A5: Jueves | B5: 05/11/2026 | C5: 09:00 | D5: 19:00 | E5: 60 | F5: =IF(OR(C5="",D5=""),0,ROUND(MOD(TIMEVALUE(D5)-TIMEVALUE(C5),1)*24-E5/60,2)) | G5: =MIN(F5,Ajustes!$B$2) | H5: =MAX(0,F5-Ajustes!$B$2) | I5: =ROUND(G5*Ajustes!$B$3+H5*Ajustes!$B$3*(1+Ajustes!$B$4/100),2)
A6: Viernes | B6: 06/11/2026 | C6: 09:00 | D6: 15:00 | E6: 0 | F6: =IF(OR(C6="",D6=""),0,ROUND(MOD(TIMEVALUE(D6)-TIMEVALUE(C6),1)*24-E6/60,2)) | G6: =MIN(F6,Ajustes!$B$2) | H6: =MAX(0,F6-Ajustes!$B$2) | I6: =ROUND(G6*Ajustes!$B$3+H6*Ajustes!$B$3*(1+Ajustes!$B$4/100),2)
A7: Sábado | B7: 07/11/2026 | E7: 0 | F7: =IF(OR(C7="",D7=""),0,ROUND(MOD(TIMEVALUE(D7)-TIMEVALUE(C7),1)*24-E7/60,2)) | G7: =MIN(F7,Ajustes!$B$2) | H7: =MAX(0,F7-Ajustes!$B$2) | I7: =ROUND(G7*Ajustes!$B$3+H7*Ajustes!$B$3*(1+Ajustes!$B$4/100),2)
A8: Domingo | B8: 08/11/2026 | E8: 0 | F8: =IF(OR(C8="",D8=""),0,ROUND(MOD(TIMEVALUE(D8)-TIMEVALUE(C8),1)*24-E8/60,2)) | G8: =MIN(F8,Ajustes!$B$2) | H8: =MAX(0,F8-Ajustes!$B$2) | I8: =ROUND(G8*Ajustes!$B$3+H8*Ajustes!$B$3*(1+Ajustes!$B$4/100),2)
A9: TOTAL SEMANA | E9: =SUM(E2:E8) | F9: =SUM(F2:F8) | G9: =SUM(G2:G8) | H9: =SUM(H2:H8) | I9: =SUM(I2:I8)

Sheet Resumen mensual
A1: Semana | B1: Horas normales | C1: Horas extra | D1: Importe
A2: Semana 1 | B2: =Semana!G9 | C2: =Semana!H9 | D2: =Semana!I9
A3: Semana 2 | B3: 40 | C3: 1.5 | D3: 502.5
A4: Semana 3 | B4: 38 | C4: 0 | D4: 456
A5: Semana 4 | B5: 40 | C5: 3 | D5: 525
A6: TOTAL MES | B6: =SUM(B2:B5) | C6: =SUM(C2:C5) | D6: =SUM(D2:D5)
A7: Horas totales del mes | B7: =B6+C6
