Workbook

Sheet Calculadora
A1: Concepto | B1: Valor | C1: Tipo
A2: Precio del vehículo | B2: 24000 | C2: Dato a introducir
A3: Entrada | B3: 4800 | C3: Dato a introducir
A4: Valor de retoma del coche actual | B4: 2000 | C4: Dato a introducir
A5: Comisión de apertura (%) | B5: 1.5 | C5: Dato a introducir
A6: Interés anual nominal (%) | B6: 7.5 | C6: Dato a introducir
A7: Plazo (meses) | B7: 60 | C7: Dato a introducir
A8: Importe a financiar | B8: =B2-B3-B4 | C8: Resultado
A9: Comisión de apertura (importe) | B9: =B8*B5/100 | C9: Resultado
A10: Cuota mensual | B10: =IF(B6=0,B8/B7,-PMT(B6/100/12,B7,B8)) | C10: Resultado
A11: Total pagado en cuotas | B11: =B10*B7 | C11: Resultado
A12: Intereses totales | B12: =B11-B8 | C12: Resultado
A13: Coste financiero (intereses + comisión) | B13: =B12+B9 | C13: Resultado
A14: Coste total del vehículo | B14: =B3+B4+B11+B9 | C14: Resultado

Sheet Comparar plazos
A1: Plazo (meses) | B1: Cuota mensual | C1: Intereses totales | D1: Total pagado en cuotas
A2: 36 | B2: =IF(Calculadora!$B$6=0,Calculadora!$B$8/A2,-PMT(Calculadora!$B$6/100/12,A2,Calculadora!$B$8)) | C2: =D2-Calculadora!$B$8 | D2: =B2*A2
A3: 48 | B3: =IF(Calculadora!$B$6=0,Calculadora!$B$8/A3,-PMT(Calculadora!$B$6/100/12,A3,Calculadora!$B$8)) | C3: =D3-Calculadora!$B$8 | D3: =B3*A3
A4: 60 | B4: =IF(Calculadora!$B$6=0,Calculadora!$B$8/A4,-PMT(Calculadora!$B$6/100/12,A4,Calculadora!$B$8)) | C4: =D4-Calculadora!$B$8 | D4: =B4*A4
A5: 72 | B5: =IF(Calculadora!$B$6=0,Calculadora!$B$8/A5,-PMT(Calculadora!$B$6/100/12,A5,Calculadora!$B$8)) | C5: =D5-Calculadora!$B$8 | D5: =B5*A5
A6: 84 | B6: =IF(Calculadora!$B$6=0,Calculadora!$B$8/A6,-PMT(Calculadora!$B$6/100/12,A6,Calculadora!$B$8)) | C6: =D6-Calculadora!$B$8 | D6: =B6*A6
